Workbook
Name 【記載例】シフト記号: 'シフト記号表（勤務時間帯）'!$C$6:$C$47
Name 【記載例】シフト記号: '【記載例】シフト記号表（勤務時間帯）'!$C$6:$C$47
Name シフト記号表: 'シフト記号表（勤務時間帯）'!$C$6:$C$47
Name 介護支援専門員: プルダウン・リスト!$E$15:$E$23
Name 介護従業者: プルダウン・リスト!$D$15:$D$23
Name 管理者: プルダウン・リスト!$C$15:$C$23
Name 計画作成担当者: プルダウン・リスト!$F$15:$F$23
Name 職種: プルダウン・リスト!$C$14:$L$14

Sheet 【記載例】小多機
C1: （標準様式1） | K1: 従業者の勤務の体制及び勤務形態一覧表 | AQ1: サービス種別（ | AR1: 小規模多機能型居宅介護 | BH1: ）
Z2: 令和 | AA2: 8 | AC2: ( | AD2: =IF(AA2=0,"",YEAR(DATE(2018+AA2,1,1))) -> 2026 | AF2: ) | AG2: 年 | AH2: 4 | AJ2: 月 | AQ2: 事業所名（ | AR2: ○○サービス | BH2: ）
BB3: (1) | BC3: ４週
BB4: (2) | BC4: 予定
AM6: (3) 事業所における常勤の従業者が勤務すべき時間数 | AY6: 40 | BA6: 時間/週 | BC6: 160 | BE6: 時間/月
AZ8: 当月の日数 | BC8: =DAY(EOMONTH(DATE(AD2,AH2,1),0)) -> 30 | BE8: 日
AN10: (4) 利用者数（通いサービス） | BA10: （前年度の平均値または推定数） | BC10: 9 | BE10: 人
AS12: (5) 日中／夜間及び深夜の時間帯の区分
AS13: 利用者の生活時間帯（日中） | BB13: 0.29166667 | BE13: ～ | BF13: 0.83333333
AS14: 夜間及び深夜の時間帯 | BB14: 0.83333333 | BE14: ～ | BF14: 0.29166667
B16: No | C16: (6) 職種 | H16: (7) 勤務 形態 | I16: (8) 資格 | M16: (9) 氏 名 | P16: 日中／夜間及び深夜 の区分 | AI16: (10) | AN16: （宿直 ･･･ | AR16: ） | AZ16: =IF(BC3="計画","(11)1～4週目の勤務時間数合計","(11)1か月の勤務時間数 合計") -> (11)1か月の勤務時間数 合計 | BB16: (12) 週平均 勤務時間数 | BD16: (13) 兼務状況 （兼務先/兼務する職務の内容）等
U17: 1週目 | AB17: 2週目 | AI17: 3週目 | AP17: 4週目 | AW17: 5週目
U18: 1 | V18: 2 | W18: 3 | X18: 4 | Y18: 5 | Z18: 6 | AA18: 7 | AB18: 8 | AC18: 9 | AD18: 10 | AE18: 11 | AF18: 12 | AG18: 13 | AH18: 14 | AI18: 15 | AJ18: 16 | AK18: 17 | AL18: 18 | AM18: 19 | AN18: 20 | AO18: 21 | AP18: 22 | AQ18: 23 | AR18: 24 | AS18: 25 | AT18: 26 | AU18: 27 | AV18: 28 | AW18: =IF($BC$3="暦月",IF(DAY(DATE($AD$2,$AH$2,29))=29,29,""),"") | AX18: =IF($BC$3="暦月",IF(DAY(DATE($AD$2,$AH$2,30))=30,30,""),"") | AY18: =IF($BC$3="暦月",IF(DAY(DATE($AD$2,$AH$2,31))=31,31,""),"")
U19: =WEEKDAY(DATE($AD$2,$AH$2,1)) -> 4 | V19: =WEEKDAY(DATE($AD$2,$AH$2,2)) -> 5 | W19: =WEEKDAY(DATE($AD$2,$AH$2,3)) -> 6 | X19: =WEEKDAY(DATE($AD$2,$AH$2,4)) -> 7 | Y19: =WEEKDAY(DATE($AD$2,$AH$2,5)) -> 1 | Z19: =WEEKDAY(DATE($AD$2,$AH$2,6)) -> 2 | AA19: =WEEKDAY(DATE($AD$2,$AH$2,7)) -> 3 | AB19: =WEEKDAY(DATE($AD$2,$AH$2,8)) -> 4 | AC19: =WEEKDAY(DATE($AD$2,$AH$2,9)) -> 5 | AD19: =WEEKDAY(DATE($AD$2,$AH$2,10)) -> 6 | AE19: =WEEKDAY(DATE($AD$2,$AH$2,11)) -> 7 | AF19: =WEEKDAY(DATE($AD$2,$AH$2,12)) -> 1 | AG19: =WEEKDAY(DATE($AD$2,$AH$2,13)) -> 2 | AH19: =WEEKDAY(DATE($AD$2,$AH$2,14)) -> 3 | AI19: =WEEKDAY(DATE($AD$2,$AH$2,15)) -> 4 | AJ19: =WEEKDAY(DATE($AD$2,$AH$2,16)) -> 5 | AK19: =WEEKDAY(DATE($AD$2,$AH$2,17)) -> 6 | AL19: =WEEKDAY(DATE($AD$2,$AH$2,18)) -> 7 | AM19: =WEEKDAY(DATE($AD$2,$AH$2,19)) -> 1 | AN19: =WEEKDAY(DATE($AD$2,$AH$2,20)) -> 2 | AO19: =WEEKDAY(DATE($AD$2,$AH$2,21)) -> 3 | AP19: =WEEKDAY(DATE($AD$2,$AH$2,22)) -> 4 | AQ19: =WEEKDAY(DATE($AD$2,$AH$2,23)) -> 5 | AR19: =WEEKDAY(DATE($AD$2,$AH$2,24)) -> 6 | AS19: =WEEKDAY(DATE($AD$2,$AH$2,25)) -> 7 | AT19: =WEEKDAY(DATE($AD$2,$AH$2,26)) -> 1 | AU19: =WEEKDAY(DATE($AD$2,$AH$2,27)) -> 2 | AV19: =WEEKDAY(DATE($AD$2,$AH$2,28)) -> 3 | AW19: =IF(AW18=29,WEEKDAY(DATE($AD$2,$AH$2,29)),0) -> 0 | AX19: =IF(AX18=30,WEEKDAY(DATE($AD$2,$AH$2,30)),0) -> 0 | AY19: =IF(AY18=31,WEEKDAY(DATE($AD$2,$AH$2,31)),0) -> 0
U20: =IF(U19=1,"日",IF(U19=2,"月",IF(U19=3,"火",IF(U19=4,"水",IF(U19=5,"木",IF(U19=6,"金","土")))))) -> 水 | V20: =IF(V19=1,"日",IF(V19=2,"月",IF(V19=3,"火",IF(V19=4,"水",IF(V19=5,"木",IF(V19=6,"金","土")))))) -> 木 | W20: =IF(W19=1,"日",IF(W19=2,"月",IF(W19=3,"火",IF(W19=4,"水",IF(W19=5,"木",IF(W19=6,"金","土")))))) -> 金 | X20: =IF(X19=1,"日",IF(X19=2,"月",IF(X19=3,"火",IF(X19=4,"水",IF(X19=5,"木",IF(X19=6,"金","土")))))) -> 土 | Y20: =IF(Y19=1,"日",IF(Y19=2,"月",IF(Y19=3,"火",IF(Y19=4,"水",IF(Y19=5,"木",IF(Y19=6,"金","土")))))) -> 日 | Z20: =IF(Z19=1,"日",IF(Z19=2,"月",IF(Z19=3,"火",IF(Z19=4,"水",IF(Z19=5,"木",IF(Z19=6,"金","土")))))) -> 月 | AA20: =IF(AA19=1,"日",IF(AA19=2,"月",IF(AA19=3,"火",IF(AA19=4,"水",IF(AA19=5,"木",IF(AA19=6,"金","土")))))) -> 火 | AB20: =IF(AB19=1,"日",IF(AB19=2,"月",IF(AB19=3,"火",IF(AB19=4,"水",IF(AB19=5,"木",IF(AB19=6,"金","土")))))) -> 水 | ... AV20: =IF(AV19=1,"日",IF(AV19=2,"月",IF(AV19=3,"火",IF(AV19=4,"水",IF(AV19=5,"木",IF(AV19=6,"金","土")))))) -> 火 | AW20: =IF(AW19=1,"日",IF(AW19=2,"月",IF(AW19=3,"火",IF(AW19=4,"水",IF(AW19=5,"木",IF(AW19=6,"金",IF(AW19=0,"","土"))))))) | AX20: =IF(AX19=1,"日",IF(AX19=2,"月",IF(AX19=3,"火",IF(AX19=4,"水",IF(AX19=5,"木",IF(AX19=6,"金",IF(AX19=0,"","土"))))))) | AY20: =IF(AY19=1,"日",IF(AY19=2,"月",IF(AY19=3,"火",IF(AY19=4,"水",IF(AY19=5,"木",IF(AY19=6,"金",IF(AY19=0,"","土")))))))
C21: 管理者 | H21: A | I21: 認知症対応型サービス事業管理者研修修了 | M21: 厚労 太郎 | P21: シフト記号 | U21: c | V21: c | W21: c | Y21: c | Z21: c | AB21: c | AD21: c | AE21: c | AF21: c | AH21: c | AJ21: c | AK21: c | AL21: c | AM21: c | AN21: c | AQ21: c | AR21: c | AS21: c | AT21: c | AU21: c
B22: 1 | F22: =C21 -> 管理者 | P22: 日中の勤務時間数 | U22: =IF(U21="","",VLOOKUP(U21,'【記載例】シフト記号表（勤務時間帯）'!$D$6:$X$47,21,FALSE)) -> 8 | V22: =IF(V21="","",VLOOKUP(V21,'【記載例】シフト記号表（勤務時間帯）'!$D$6:$X$47,21,FALSE)) -> 8 | W22: =IF(W21="","",VLOOKUP(W21,'【記載例】シフト記号表（勤務時間帯）'!$D$6:$X$47,21,FALSE)) -> 8 | X22: =IF(X21="","",VLOOKUP(X21,'【記載例】シフト記号表（勤務時間帯）'!$D$6:$X$47,21,FALSE)) | Y22: =IF(Y21="","",VLOOKUP(Y21,'【記載例】シフト記号表（勤務時間帯）'!$D$6:$X$47,21,FALSE)) -> 8 | Z22: =IF(Z21="","",VLOOKUP(Z21,'【記載例】シフト記号表（勤務時間帯）'!$D$6:$X$47,21,FALSE)) -> 8 | AA22: =IF(AA21="","",VLOOKUP(AA21,'【記載例】シフト記号表（勤務時間帯）'!$D$6:$X$47,21,FALSE)) | AB22: =IF(AB21="","",VLOOKUP(AB21,'【記載例】シフト記号表（勤務時間帯）'!$D$6:$X$47,21,FALSE)) -> 8 | ... AY22: =IF(AY21="","",VLOOKUP(AY21,'【記載例】シフト記号表（勤務時間帯）'!$D$6:$X$47,21,FALSE)) | AZ22: =IF($BC$3="４週",SUM(U22:AV22),IF($BC$3="暦月",SUM(U22:AY22),"")) -> 160 | BB22: =IF($BC$3="４週",AZ22/4,IF($BC$3="暦月",(AZ22/($BC$8/7)),"")) -> 40
G23: =C21 -> 管理者 | P23: 夜間・深夜の勤務時間数 | U23: =IF(U21="","",VLOOKUP(U21,'【記載例】シフト記号表（勤務時間帯）'!$D$6:$Z$47,23,FALSE)) -> - | V23: =IF(V21="","",VLOOKUP(V21,'【記載例】シフト記号表（勤務時間帯）'!$D$6:$Z$47,23,FALSE)) -> - | W23: =IF(W21="","",VLOOKUP(W21,'【記載例】シフト記号表（勤務時間帯）'!$D$6:$Z$47,23,FALSE)) -> - | X23: =IF(X21="","",VLOOKUP(X21,'【記載例】シフト記号表（勤務時間帯）'!$D$6:$Z$47,23,FALSE)) | Y23: =IF(Y21="","",VLOOKUP(Y21,'【記載例】シフト記号表（勤務時間帯）'!$D$6:$Z$47,23,FALSE)) -> - | Z23: =IF(Z21="","",VLOOKUP(Z21,'【記載例】シフト記号表（勤務時間帯）'!$D$6:$Z$47,23,FALSE)) -> - | AA23: =IF(AA21="","",VLOOKUP(AA21,'【記載例】シフト記号表（勤務時間帯）'!$D$6:$Z$47,23,FALSE)) | AB23: =IF(AB21="","",VLOOKUP(AB21,'【記載例】シフト記号表（勤務時間帯）'!$D$6:$Z$47,23,FALSE)) -> - | ... AY23: =IF(AY21="","",VLOOKUP(AY21,'【記載例】シフト記号表（勤務時間帯）'!$D$6:$Z$47,23,FALSE)) | AZ23: =IF($BC$3="４週",SUM(U23:AV23),IF($BC$3="暦月",SUM(U23:AY23),"")) -> 0 | BB23: =IF($BC$3="４週",AZ23/4,IF($BC$3="暦月",(AZ23/($BC$8/7)),"")) -> 0
C24: 介護支援専門員 | H24: A | I24: 介護支援専門員 | M24: ○○ A男 | P24: シフト記号 | U24: d | V24: d | W24: d | X24: d | Z24: d | AA24: d | AC24: d | AD24: d | AE24: d | AH24: d | AI24: d | AJ24: d | AL24: d | AM24: d | AN24: d | AO24: d | AP24: d | AR24: d | AT24: d | AV24: d
B25: =B22+1 -> 2 | F25: =C24 -> 介護支援専門員 | P25: 日中の勤務時間数 | U25: =IF(U24="","",VLOOKUP(U24,'【記載例】シフト記号表（勤務時間帯）'!$D$6:$X$47,21,FALSE)) -> 8 | V25: =IF(V24="","",VLOOKUP(V24,'【記載例】シフト記号表（勤務時間帯）'!$D$6:$X$47,21,FALSE)) -> 8 | W25: =IF(W24="","",VLOOKUP(W24,'【記載例】シフト記号表（勤務時間帯）'!$D$6:$X$47,21,FALSE)) -> 8 | X25: =IF(X24="","",VLOOKUP(X24,'【記載例】シフト記号表（勤務時間帯）'!$D$6:$X$47,21,FALSE)) -> 8 | Y25: =IF(Y24="","",VLOOKUP(Y24,'【記載例】シフト記号表（勤務時間帯）'!$D$6:$X$47,21,FALSE)) | Z25: =IF(Z24="","",VLOOKUP(Z24,'【記載例】シフト記号表（勤務時間帯）'!$D$6:$X$47,21,FALSE)) -> 8 | AA25: =IF(AA24="","",VLOOKUP(AA24,'【記載例】シフト記号表（勤務時間帯）'!$D$6:$X$47,21,FALSE)) -> 8 | AB25: =IF(AB24="","",VLOOKUP(AB24,'【記載例】シフト記号表（勤務時間帯）'!$D$6:$X$47,21,FALSE)) | ... AY25: =IF(AY24="","",VLOOKUP(AY24,'【記載例】シフト記号表（勤務時間帯）'!$D$6:$X$47,21,FALSE)) | AZ25: =IF($BC$3="４週",SUM(U25:AV25),IF($BC$3="暦月",SUM(U25:AY25),"")) -> 160 | BB25: =IF($BC$3="４週",AZ25/4,IF($BC$3="暦月",(AZ25/($BC$8/7)),"")) -> 40
G26: =C24 -> 介護支援専門員 | P26: 夜間・深夜の勤務時間数 | U26: =IF(U24="","",VLOOKUP(U24,'【記載例】シフト記号表（勤務時間帯）'!$D$6:$Z$47,23,FALSE)) -> - | V26: =IF(V24="","",VLOOKUP(V24,'【記載例】シフト記号表（勤務時間帯）'!$D$6:$Z$47,23,FALSE)) -> - | W26: =IF(W24="","",VLOOKUP(W24,'【記載例】シフト記号表（勤務時間帯）'!$D$6:$Z$47,23,FALSE)) -> - | X26: =IF(X24="","",VLOOKUP(X24,'【記載例】シフト記号表（勤務時間帯）'!$D$6:$Z$47,23,FALSE)) -> - | Y26: =IF(Y24="","",VLOOKUP(Y24,'【記載例】シフト記号表（勤務時間帯）'!$D$6:$Z$47,23,FALSE)) | Z26: =IF(Z24="","",VLOOKUP(Z24,'【記載例】シフト記号表（勤務時間帯）'!$D$6:$Z$47,23,FALSE)) -> - | AA26: =IF(AA24="","",VLOOKUP(AA24,'【記載例】シフト記号表（勤務時間帯）'!$D$6:$Z$47,23,FALSE)) -> - | AB26: =IF(AB24="","",VLOOKUP(AB24,'【記載例】シフト記号表（勤務時間帯）'!$D$6:$Z$47,23,FALSE)) | ... AY26: =IF(AY24="","",VLOOKUP(AY24,'【記載例】シフト記号表（勤務時間帯）'!$D$6:$Z$47,23,FALSE)) | AZ26: =IF($BC$3="４週",SUM(U26:AV26),IF($BC$3="暦月",SUM(U26:AY26),"")) -> 0 | BB26: =IF($BC$3="４週",AZ26/4,IF($BC$3="暦月",(AZ26/($BC$8/7)),"")) -> 0
C27: 介護従業者 | H27: A | I27: 介護福祉士 | M27: ○○ B子 | P27: シフト記号 | U27: i | V27: j | X27: a | Y27: c | AA27: a | AB27: i | AC27: j | AD27: c | AF27: a | AG27: c | AI27: c | AJ27: i | AK27: j | AN27: i | AO27: j | AQ27: a | AR27: c | AS27: i | AT27: j | AV27: a
B28: =B25+1 -> 3 | F28: =C27 -> 介護従業者 | P28: 日中の勤務時間数 | U28: =IF(U27="","",VLOOKUP(U27,'【記載例】シフト記号表（勤務時間帯）'!$D$6:$X$47,21,FALSE)) -> 3 | V28: =IF(V27="","",VLOOKUP(V27,'【記載例】シフト記号表（勤務時間帯）'!$D$6:$X$47,21,FALSE)) -> 3 | W28: =IF(W27="","",VLOOKUP(W27,'【記載例】シフト記号表（勤務時間帯）'!$D$6:$X$47,21,FALSE)) | X28: =IF(X27="","",VLOOKUP(X27,'【記載例】シフト記号表（勤務時間帯）'!$D$6:$X$47,21,FALSE)) -> 8 | Y28: =IF(Y27="","",VLOOKUP(Y27,'【記載例】シフト記号表（勤務時間帯）'!$D$6:$X$47,21,FALSE)) -> 8 | Z28: =IF(Z27="","",VLOOKUP(Z27,'【記載例】シフト記号表（勤務時間帯）'!$D$6:$X$47,21,FALSE)) | AA28: =IF(AA27="","",VLOOKUP(AA27,'【記載例】シフト記号表（勤務時間帯）'!$D$6:$X$47,21,FALSE)) -> 8 | AB28: =IF(AB27="","",VLOOKUP(AB27,'【記載例】シフト記号表（勤務時間帯）'!$D$6:$X$47,21,FALSE)) -> 3 | ... AY28: =IF(AY27="","",VLOOKUP(AY27,'【記載例】シフト記号表（勤務時間帯）'!$D$6:$X$47,21,FALSE)) | AZ28: =IF($BC$3="４週",SUM(U28:AV28),IF($BC$3="暦月",SUM(U28:AY28),"")) -> 110 | BB28: =IF($BC$3="４週",AZ28/4,IF($BC$3="暦月",(AZ28/($BC$8/7)),"")) -> 27.5
G29: =C27 -> 介護従業者 | P29: 夜間・深夜の勤務時間数 | U29: =IF(U27="","",VLOOKUP(U27,'【記載例】シフト記号表（勤務時間帯）'!$D$6:$Z$47,23,FALSE)) -> 4 | V29: =IF(V27="","",VLOOKUP(V27,'【記載例】シフト記号表（勤務時間帯）'!$D$6:$Z$47,23,FALSE)) -> 6 | W29: =IF(W27="","",VLOOKUP(W27,'【記載例】シフト記号表（勤務時間帯）'!$D$6:$Z$47,23,FALSE)) | X29: =IF(X27="","",VLOOKUP(X27,'【記載例】シフト記号表（勤務時間帯）'!$D$6:$Z$47,23,FALSE)) -> - | Y29: =IF(Y27="","",VLOOKUP(Y27,'【記載例】シフト記号表（勤務時間帯）'!$D$6:$Z$47,23,FALSE)) -> - | Z29: =IF(Z27="","",VLOOKUP(Z27,'【記載例】シフト記号表（勤務時間帯）'!$D$6:$Z$47,23,FALSE)) | AA29: =IF(AA27="","",VLOOKUP(AA27,'【記載例】シフト記号表（勤務時間帯）'!$D$6:$Z$47,23,FALSE)) -> - | AB29: =IF(AB27="","",VLOOKUP(AB27,'【記載例】シフト記号表（勤務時間帯）'!$D$6:$Z$47,23,FALSE)) -> 4 | ... AY29: =IF(AY27="","",VLOOKUP(AY27,'【記載例】シフト記号表（勤務時間帯）'!$D$6:$Z$47,23,FALSE)) | AZ29: =IF($BC$3="４週",SUM(U29:AV29),IF($BC$3="暦月",SUM(U29:AY29),"")) -> 50 | BB29: =IF($BC$3="４週",AZ29/4,IF($BC$3="暦月",(AZ29/($BC$8/7)),"")) -> 12.5
C30: 介護従業者 | H30: A | I30: 介護福祉士 | M30: ○○ C太 | P30: シフト記号 | V30: i | W30: j | X30: a | Z30: i | AA30: j | AC30: a | AD30: i | AE30: j | AG30: b | AH30: a | AJ30: a | AK30: c | AL30: i | AM30: j | AO30: a | AP30: b | AQ30: c | AR30: i | AS30: j | AV30: a
B31: =B28+1 -> 4 | F31: =C30 -> 介護従業者 | P31: 日中の勤務時間数 | U31: =IF(U30="","",VLOOKUP(U30,'【記載例】シフト記号表（勤務時間帯）'!$D$6:$X$47,21,FALSE)) | V31: =IF(V30="","",VLOOKUP(V30,'【記載例】シフト記号表（勤務時間帯）'!$D$6:$X$47,21,FALSE)) -> 3 | W31: =IF(W30="","",VLOOKUP(W30,'【記載例】シフト記号表（勤務時間帯）'!$D$6:$X$47,21,FALSE)) -> 3 | X31: =IF(X30="","",VLOOKUP(X30,'【記載例】シフト記号表（勤務時間帯）'!$D$6:$X$47,21,FALSE)) -> 8 | Y31: =IF(Y30="","",VLOOKUP(Y30,'【記載例】シフト記号表（勤務時間帯）'!$D$6:$X$47,21,FALSE)) | Z31: =IF(Z30="","",VLOOKUP(Z30,'【記載例】シフト記号表（勤務時間帯）'!$D$6:$X$47,21,FALSE)) -> 3 | AA31: =IF(AA30="","",VLOOKUP(AA30,'【記載例】シフト記号表（勤務時間帯）'!$D$6:$X$47,21,FALSE)) -> 3 | AB31: =IF(AB30="","",VLOOKUP(AB30,'【記載例】シフト記号表（勤務時間帯）'!$D$6:$X$47,21,FALSE)) | ... AY31: =IF(AY30="","",VLOOKUP(AY30,'【記載例】シフト記号表（勤務時間帯）'!$D$6:$X$47,21,FALSE)) | AZ31: =IF($BC$3="４週",SUM(U31:AV31),IF($BC$3="暦月",SUM(U31:AY31),"")) -> 110 | BB31: =IF($BC$3="４週",AZ31/4,IF($BC$3="暦月",(AZ31/($BC$8/7)),"")) -> 27.5
G32: =C30 -> 介護従業者 | P32: 夜間・深夜の勤務時間数 | U32: =IF(U30="","",VLOOKUP(U30,'【記載例】シフト記号表（勤務時間帯）'!$D$6:$Z$47,23,FALSE)) | V32: =IF(V30="","",VLOOKUP(V30,'【記載例】シフト記号表（勤務時間帯）'!$D$6:$Z$47,23,FALSE)) -> 4 | W32: =IF(W30="","",VLOOKUP(W30,'【記載例】シフト記号表（勤務時間帯）'!$D$6:$Z$47,23,FALSE)) -> 6 | X32: =IF(X30="","",VLOOKUP(X30,'【記載例】シフト記号表（勤務時間帯）'!$D$6:$Z$47,23,FALSE)) -> - | Y32: =IF(Y30="","",VLOOKUP(Y30,'【記載例】シフト記号表（勤務時間帯）'!$D$6:$Z$47,23,FALSE)) | Z32: =IF(Z30="","",VLOOKUP(Z30,'【記載例】シフト記号表（勤務時間帯）'!$D$6:$Z$47,23,FALSE)) -> 4 | AA32: =IF(AA30="","",VLOOKUP(AA30,'【記載例】シフト記号表（勤務時間帯）'!$D$6:$Z$47,23,FALSE)) -> 6 | AB32: =IF(AB30="","",VLOOKUP(AB30,'【記載例】シフト記号表（勤務時間帯）'!$D$6:$Z$47,23,FALSE)) | ... AY32: =IF(AY30="","",VLOOKUP(AY30,'【記載例】シフト記号表（勤務時間帯）'!$D$6:$Z$47,23,FALSE)) | AZ32: =IF($BC$3="４週",SUM(U32:AV32),IF($BC$3="暦月",SUM(U32:AY32),"")) -> 50 | BB32: =IF($BC$3="４週",AZ32/4,IF($BC$3="暦月",(AZ32/($BC$8/7)),"")) -> 12.5
C33: 介護従業者 | H33: A | I33: 介護福祉士 | M33: ○○ D美 | P33: シフト記号 | U33: b | V33: a | X33: a | Y33: b | Z33: b | AB33: b | AC33: b | AD33: b | AE33: b | AF33: b | AI33: b | AK33: a | AM33: b | AN33: b | AO33: b | AP33: b | AS33: b | AT33: b | AU33: b | AV33: b
B34: =B31+1 -> 5 | F34: =C33 -> 介護従業者 | P34: 日中の勤務時間数 | U34: =IF(U33="","",VLOOKUP(U33,'【記載例】シフト記号表（勤務時間帯）'!$D$6:$X$47,21,FALSE)) -> 8 | V34: =IF(V33="","",VLOOKUP(V33,'【記載例】シフト記号表（勤務時間帯）'!$D$6:$X$47,21,FALSE)) -> 8 | W34: =IF(W33="","",VLOOKUP(W33,'【記載例】シフト記号表（勤務時間帯）'!$D$6:$X$47,21,FALSE)) | X34: =IF(X33="","",VLOOKUP(X33,'【記載例】シフト記号表（勤務時間帯）'!$D$6:$X$47,21,FALSE)) -> 8 | Y34: =IF(Y33="","",VLOOKUP(Y33,'【記載例】シフト記号表（勤務時間帯）'!$D$6:$X$47,21,FALSE)) -> 8 | Z34: =IF(Z33="","",VLOOKUP(Z33,'【記載例】シフト記号表（勤務時間帯）'!$D$6:$X$47,21,FALSE)) -> 8 | AA34: =IF(AA33="","",VLOOKUP(AA33,'【記載例】シフト記号表（勤務時間帯）'!$D$6:$X$47,21,FALSE)) | AB34: =IF(AB33="","",VLOOKUP(AB33,'【記載例】シフト記号表（勤務時間帯）'!$D$6:$X$47,21,FALSE)) -> 8 | ... AY34: =IF(AY33="","",VLOOKUP(AY33,'【記載例】シフト記号表（勤務時間帯）'!$D$6:$X$47,21,FALSE)) | AZ34: =IF($BC$3="４週",SUM(U34:AV34),IF($BC$3="暦月",SUM(U34:AY34),"")) -> 160 | BB34: =IF($BC$3="４週",AZ34/4,IF($BC$3="暦月",(AZ34/($BC$8/7)),"")) -> 40
G35: =C33 -> 介護従業者 | P35: 夜間・深夜の勤務時間数 | U35: =IF(U33="","",VLOOKUP(U33,'【記載例】シフト記号表（勤務時間帯）'!$D$6:$Z$47,23,FALSE)) -> - | V35: =IF(V33="","",VLOOKUP(V33,'【記載例】シフト記号表（勤務時間帯）'!$D$6:$Z$47,23,FALSE)) -> - | W35: =IF(W33="","",VLOOKUP(W33,'【記載例】シフト記号表（勤務時間帯）'!$D$6:$Z$47,23,FALSE)) | X35: =IF(X33="","",VLOOKUP(X33,'【記載例】シフト記号表（勤務時間帯）'!$D$6:$Z$47,23,FALSE)) -> - | Y35: =IF(Y33="","",VLOOKUP(Y33,'【記載例】シフト記号表（勤務時間帯）'!$D$6:$Z$47,23,FALSE)) -> - | Z35: =IF(Z33="","",VLOOKUP(Z33,'【記載例】シフト記号表（勤務時間帯）'!$D$6:$Z$47,23,FALSE)) -> - | AA35: =IF(AA33="","",VLOOKUP(AA33,'【記載例】シフト記号表（勤務時間帯）'!$D$6:$Z$47,23,FALSE)) | AB35: =IF(AB33="","",VLOOKUP(AB33,'【記載例】シフト記号表（勤務時間帯）'!$D$6:$Z$47,23,FALSE)) -> - | ... AY35: =IF(AY33="","",VLOOKUP(AY33,'【記載例】シフト記号表（勤務時間帯）'!$D$6:$Z$47,23,FALSE)) | AZ35: =IF($BC$3="４週",SUM(U35:AV35),IF($BC$3="暦月",SUM(U35:AY35),"")) -> 0 | BB35: =IF($BC$3="４週",AZ35/4,IF($BC$3="暦月",(AZ35/($BC$8/7)),"")) -> 0
C36: 介護従業者 | H36: A | I36: ー | M36: ○○ E夫 | P36: シフト記号 | U36: a | W36: a | Y36: i | Z36: j | AA36: b | AC36: i | AD36: j | AE36: b | AG36: i | AH36: j | AJ36: c | AK36: c | AL36: b | AM36: c | AO36: i | AP36: j | AQ36: b | AR36: c | AT36: c | AU36: b
B37: =B34+1 -> 6 | F37: =C36 -> 介護従業者 | P37: 日中の勤務時間数 | U37: =IF(U36="","",VLOOKUP(U36,'【記載例】シフト記号表（勤務時間帯）'!$D$6:$X$47,21,FALSE)) -> 8 | V37: =IF(V36="","",VLOOKUP(V36,'【記載例】シフト記号表（勤務時間帯）'!$D$6:$X$47,21,FALSE)) | W37: =IF(W36="","",VLOOKUP(W36,'【記載例】シフト記号表（勤務時間帯）'!$D$6:$X$47,21,FALSE)) -> 8 | X37: =IF(X36="","",VLOOKUP(X36,'【記載例】シフト記号表（勤務時間帯）'!$D$6:$X$47,21,FALSE)) | Y37: =IF(Y36="","",VLOOKUP(Y36,'【記載例】シフト記号表（勤務時間帯）'!$D$6:$X$47,21,FALSE)) -> 3 | Z37: =IF(Z36="","",VLOOKUP(Z36,'【記載例】シフト記号表（勤務時間帯）'!$D$6:$X$47,21,FALSE)) -> 3 | AA37: =IF(AA36="","",VLOOKUP(AA36,'【記載例】シフト記号表（勤務時間帯）'!$D$6:$X$47,21,FALSE)) -> 8 | AB37: =IF(AB36="","",VLOOKUP(AB36,'【記載例】シフト記号表（勤務時間帯）'!$D$6:$X$47,21,FALSE)) | ... AY37: =IF(AY36="","",VLOOKUP(AY36,'【記載例】シフト記号表（勤務時間帯）'!$D$6:$X$47,21,FALSE)) | AZ37: =IF($BC$3="４週",SUM(U37:AV37),IF($BC$3="暦月",SUM(U37:AY37),"")) -> 120 | BB37: =IF($BC$3="４週",AZ37/4,IF($BC$3="暦月",(AZ37/($BC$8/7)),"")) -> 30
G38: =C36 -> 介護従業者 | P38: 夜間・深夜の勤務時間数 | U38: =IF(U36="","",VLOOKUP(U36,'【記載例】シフト記号表（勤務時間帯）'!$D$6:$Z$47,23,FALSE)) -> - | V38: =IF(V36="","",VLOOKUP(V36,'【記載例】シフト記号表（勤務時間帯）'!$D$6:$Z$47,23,FALSE)) | W38: =IF(W36="","",VLOOKUP(W36,'【記載例】シフト記号表（勤務時間帯）'!$D$6:$Z$47,23,FALSE)) -> - | X38: =IF(X36="","",VLOOKUP(X36,'【記載例】シフト記号表（勤務時間帯）'!$D$6:$Z$47,23,FALSE)) | Y38: =IF(Y36="","",VLOOKUP(Y36,'【記載例】シフト記号表（勤務時間帯）'!$D$6:$Z$47,23,FALSE)) -> 4 | Z38: =IF(Z36="","",VLOOKUP(Z36,'【記載例】シフト記号表（勤務時間帯）'!$D$6:$Z$47,23,FALSE)) -> 6 | AA38: =IF(AA36="","",VLOOKUP(AA36,'【記載例】シフト記号表（勤務時間帯）'!$D$6:$Z$47,23,FALSE)) -> - | AB38: =IF(AB36="","",VLOOKUP(AB36,'【記載例】シフト記号表（勤務時間帯）'!$D$6:$Z$47,23,FALSE)) | ... AY38: =IF(AY36="","",VLOOKUP(AY36,'【記載例】シフト記号表（勤務時間帯）'!$D$6:$Z$47,23,FALSE)) | AZ38: =IF($BC$3="４週",SUM(U38:AV38),IF($BC$3="暦月",SUM(U38:AY38),"")) -> 40 | BB38: =IF($BC$3="４週",AZ38/4,IF($BC$3="暦月",(AZ38/($BC$8/7)),"")) -> 10
C39: 介護従業者 | H39: A | I39: 介護福祉士 | M39: ○○ F子 | P39: シフト記号 | V39: a | W39: i | X39: j | Y39: a | AA39: a | AB39: b | AC39: b | AF39: i | AG39: j | AH39: b | AI39: a | AK39: i | AL39: j | AN39: a | AO39: a | AP39: c | AR39: a | AS39: b | AT39: i | AU39: j
B40: =B37+1 -> 7 | F40: =C39 -> 介護従業者 | P40: 日中の勤務時間数 | U40: =IF(U39="","",VLOOKUP(U39,'【記載例】シフト記号表（勤務時間帯）'!$D$6:$X$47,21,FALSE)) | V40: =IF(V39="","",VLOOKUP(V39,'【記載例】シフト記号表（勤務時間帯）'!$D$6:$X$47,21,FALSE)) -> 8 | W40: =IF(W39="","",VLOOKUP(W39,'【記載例】シフト記号表（勤務時間帯）'!$D$6:$X$47,21,FALSE)) -> 3 | X40: =IF(X39="","",VLOOKUP(X39,'【記載例】シフト記号表（勤務時間帯）'!$D$6:$X$47,21,FALSE)) -> 3 | Y40: =IF(Y39="","",VLOOKUP(Y39,'【記載例】シフト記号表（勤務時間帯）'!$D$6:$X$47,21,FALSE)) -> 8 | Z40: =IF(Z39="","",VLOOKUP(Z39,'【記載例】シフト記号表（勤務時間帯）'!$D$6:$X$47,21,FALSE)) | AA40: =IF(AA39="","",VLOOKUP(AA39,'【記載例】シフト記号表（勤務時間帯）'!$D$6:$X$47,21,FALSE)) -> 8 | AB40: =IF(AB39="","",VLOOKUP(AB39,'【記載例】シフト記号表（勤務時間帯）'!$D$6:$X$47,21,FALSE)) -> 8 | ... AY40: =IF(AY39="","",VLOOKUP(AY39,'【記載例】シフト記号表（勤務時間帯）'!$D$6:$X$47,21,FALSE)) | AZ40: =IF($BC$3="４週",SUM(U40:AV40),IF($BC$3="暦月",SUM(U40:AY40),"")) -> 120 | BB40: =IF($BC$3="４週",AZ40/4,IF($BC$3="暦月",(AZ40/($BC$8/7)),"")) -> 30
G41: =C39 -> 介護従業者 | P41: 夜間・深夜の勤務時間数 | U41: =IF(U39="","",VLOOKUP(U39,'【記載例】シフト記号表（勤務時間帯）'!$D$6:$Z$47,23,FALSE)) | V41: =IF(V39="","",VLOOKUP(V39,'【記載例】シフト記号表（勤務時間帯）'!$D$6:$Z$47,23,FALSE)) -> - | W41: =IF(W39="","",VLOOKUP(W39,'【記載例】シフト記号表（勤務時間帯）'!$D$6:$Z$47,23,FALSE)) -> 4 | X41: =IF(X39="","",VLOOKUP(X39,'【記載例】シフト記号表（勤務時間帯）'!$D$6:$Z$47,23,FALSE)) -> 6 | Y41: =IF(Y39="","",VLOOKUP(Y39,'【記載例】シフト記号表（勤務時間帯）'!$D$6:$Z$47,23,FALSE)) -> - | Z41: =IF(Z39="","",VLOOKUP(Z39,'【記載例】シフト記号表（勤務時間帯）'!$D$6:$Z$47,23,FALSE)) | AA41: =IF(AA39="","",VLOOKUP(AA39,'【記載例】シフト記号表（勤務時間帯）'!$D$6:$Z$47,23,FALSE)) -> - | AB41: =IF(AB39="","",VLOOKUP(AB39,'【記載例】シフト記号表（勤務時間帯）'!$D$6:$Z$47,23,FALSE)) -> - | ... AY41: =IF(AY39="","",VLOOKUP(AY39,'【記載例】シフト記号表（勤務時間帯）'!$D$6:$Z$47,23,FALSE)) | AZ41: =IF($BC$3="４週",SUM(U41:AV41),IF($BC$3="暦月",SUM(U41:AY41),"")) -> 40 | BB41: =IF($BC$3="４週",AZ41/4,IF($BC$3="暦月",(AZ41/($BC$8/7)),"")) -> 10
C42: 介護従業者 | H42: A | I42: 介護福祉士 | M42: ○○ G太 | P42: シフト記号 | U42: a | W42: b | X42: i | Y42: j | Z42: a | AB42: a | AD42: c | AE42: i | AF42: j | AH42: a | AI42: i | AJ42: j | AL42: a | AM42: a | AN42: b | AP42: i | AQ42: j | AS42: a | AU42: i | AV42: j
B43: =B40+1 -> 8 | F43: =C42 -> 介護従業者 | P43: 日中の勤務時間数 | U43: =IF(U42="","",VLOOKUP(U42,'【記載例】シフト記号表（勤務時間帯）'!$D$6:$X$47,21,FALSE)) -> 8 | V43: =IF(V42="","",VLOOKUP(V42,'【記載例】シフト記号表（勤務時間帯）'!$D$6:$X$47,21,FALSE)) | W43: =IF(W42="","",VLOOKUP(W42,'【記載例】シフト記号表（勤務時間帯）'!$D$6:$X$47,21,FALSE)) -> 8 | X43: =IF(X42="","",VLOOKUP(X42,'【記載例】シフト記号表（勤務時間帯）'!$D$6:$X$47,21,FALSE)) -> 3 | Y43: =IF(Y42="","",VLOOKUP(Y42,'【記載例】シフト記号表（勤務時間帯）'!$D$6:$X$47,21,FALSE)) -> 3 | Z43: =IF(Z42="","",VLOOKUP(Z42,'【記載例】シフト記号表（勤務時間帯）'!$D$6:$X$47,21,FALSE)) -> 8 | AA43: =IF(AA42="","",VLOOKUP(AA42,'【記載例】シフト記号表（勤務時間帯）'!$D$6:$X$47,21,FALSE)) | AB43: =IF(AB42="","",VLOOKUP(AB42,'【記載例】シフト記号表（勤務時間帯）'!$D$6:$X$47,21,FALSE)) -> 8 | ... AY43: =IF(AY42="","",VLOOKUP(AY42,'【記載例】シフト記号表（勤務時間帯）'!$D$6:$X$47,21,FALSE)) | AZ43: =IF($BC$3="４週",SUM(U43:AV43),IF($BC$3="暦月",SUM(U43:AY43),"")) -> 110 | BB43: =IF($BC$3="４週",AZ43/4,IF($BC$3="暦月",(AZ43/($BC$8/7)),"")) -> 27.5
G44: =C42 -> 介護従業者 | P44: 夜間・深夜の勤務時間数 | U44: =IF(U42="","",VLOOKUP(U42,'【記載例】シフト記号表（勤務時間帯）'!$D$6:$Z$47,23,FALSE)) -> - | V44: =IF(V42="","",VLOOKUP(V42,'【記載例】シフト記号表（勤務時間帯）'!$D$6:$Z$47,23,FALSE)) | W44: =IF(W42="","",VLOOKUP(W42,'【記載例】シフト記号表（勤務時間帯）'!$D$6:$Z$47,23,FALSE)) -> - | X44: =IF(X42="","",VLOOKUP(X42,'【記載例】シフト記号表（勤務時間帯）'!$D$6:$Z$47,23,FALSE)) -> 4 | Y44: =IF(Y42="","",VLOOKUP(Y42,'【記載例】シフト記号表（勤務時間帯）'!$D$6:$Z$47,23,FALSE)) -> 6 | Z44: =IF(Z42="","",VLOOKUP(Z42,'【記載例】シフト記号表（勤務時間帯）'!$D$6:$Z$47,23,FALSE)) -> - | AA44: =IF(AA42="","",VLOOKUP(AA42,'【記載例】シフト記号表（勤務時間帯）'!$D$6:$Z$47,23,FALSE)) | AB44: =IF(AB42="","",VLOOKUP(AB42,'【記載例】シフト記号表（勤務時間帯）'!$D$6:$Z$47,23,FALSE)) -> - | ... AY44: =IF(AY42="","",VLOOKUP(AY42,'【記載例】シフト記号表（勤務時間帯）'!$D$6:$Z$47,23,FALSE)) | AZ44: =IF($BC$3="４週",SUM(U44:AV44),IF($BC$3="暦月",SUM(U44:AY44),"")) -> 50 | BB44: =IF($BC$3="４週",AZ44/4,IF($BC$3="暦月",(AZ44/($BC$8/7)),"")) -> 12.5
C45: 介護従業者 | H45: A | I45: 看護師 | M45: ○○ H美 | P45: シフト記号 | U45: j | V45: c | W45: c | Z45: b | AA45: i | AB45: j | AE45: a | AF45: c | AG45: c | AH45: i | AI45: j | AJ45: c | AL45: b | AM45: i | AN45: j | AQ45: i | AR45: j | AT45: a | AU45: b | AV45: i
B46: =B43+1 -> 9 | F46: =C45 -> 介護従業者 | P46: 日中の勤務時間数 | U46: =IF(U45="","",VLOOKUP(U45,'【記載例】シフト記号表（勤務時間帯）'!$D$6:$X$47,21,FALSE)) -> 3 | V46: =IF(V45="","",VLOOKUP(V45,'【記載例】シフト記号表（勤務時間帯）'!$D$6:$X$47,21,FALSE)) -> 8 | W46: =IF(W45="","",VLOOKUP(W45,'【記載例】シフト記号表（勤務時間帯）'!$D$6:$X$47,21,FALSE)) -> 8 | X46: =IF(X45="","",VLOOKUP(X45,'【記載例】シフト記号表（勤務時間帯）'!$D$6:$X$47,21,FALSE)) | Y46: =IF(Y45="","",VLOOKUP(Y45,'【記載例】シフト記号表（勤務時間帯）'!$D$6:$X$47,21,FALSE)) | Z46: =IF(Z45="","",VLOOKUP(Z45,'【記載例】シフト記号表（勤務時間帯）'!$D$6:$X$47,21,FALSE)) -> 8 | AA46: =IF(AA45="","",VLOOKUP(AA45,'【記載例】シフト記号表（勤務時間帯）'!$D$6:$X$47,21,FALSE)) -> 3 | AB46: =IF(AB45="","",VLOOKUP(AB45,'【記載例】シフト記号表（勤務時間帯）'!$D$6:$X$47,21,FALSE)) -> 3 | ... AY46: =IF(AY45="","",VLOOKUP(AY45,'【記載例】シフト記号表（勤務時間帯）'!$D$6:$X$47,21,FALSE)) | AZ46: =IF($BC$3="４週",SUM(U46:AV46),IF($BC$3="暦月",SUM(U46:AY46),"")) -> 110 | BB46: =IF($BC$3="４週",AZ46/4,IF($BC$3="暦月",(AZ46/($BC$8/7)),"")) -> 27.5
G47: =C45 -> 介護従業者 | P47: 夜間・深夜の勤務時間数 | U47: =IF(U45="","",VLOOKUP(U45,'【記載例】シフト記号表（勤務時間帯）'!$D$6:$Z$47,23,FALSE)) -> 6 | V47: =IF(V45="","",VLOOKUP(V45,'【記載例】シフト記号表（勤務時間帯）'!$D$6:$Z$47,23,FALSE)) -> - | W47: =IF(W45="","",VLOOKUP(W45,'【記載例】シフト記号表（勤務時間帯）'!$D$6:$Z$47,23,FALSE)) -> - | X47: =IF(X45="","",VLOOKUP(X45,'【記載例】シフト記号表（勤務時間帯）'!$D$6:$Z$47,23,FALSE)) | Y47: =IF(Y45="","",VLOOKUP(Y45,'【記載例】シフト記号表（勤務時間帯）'!$D$6:$Z$47,23,FALSE)) | Z47: =IF(Z45="","",VLOOKUP(Z45,'【記載例】シフト記号表（勤務時間帯）'!$D$6:$Z$47,23,FALSE)) -> - | AA47: =IF(AA45="","",VLOOKUP(AA45,'【記載例】シフト記号表（勤務時間帯）'!$D$6:$Z$47,23,FALSE)) -> 4 | AB47: =IF(AB45="","",VLOOKUP(AB45,'【記載例】シフト記号表（勤務時間帯）'!$D$6:$Z$47,23,FALSE)) -> 6 | ... AY47: =IF(AY45="","",VLOOKUP(AY45,'【記載例】シフト記号表（勤務時間帯）'!$D$6:$Z$47,23,FALSE)) | AZ47: =IF($BC$3="４週",SUM(U47:AV47),IF($BC$3="暦月",SUM(U47:AY47),"")) -> 50 | BB47: =IF($BC$3="４週",AZ47/4,IF($BC$3="暦月",(AZ47/($BC$8/7)),"")) -> 12.5
C48: 介護従業者 | H48: C | I48: 介護福祉士 | M48: ○○ J太郎 | P48: シフト記号 | X48: a | Y48: a | AE48: a | AF48: a | AL48: a | AM48: a | AS48: a | AT48: a
B49: =B46+1 -> 10 | F49: =C48 -> 介護従業者 | P49: 日中の勤務時間数 | U49: =IF(U48="","",VLOOKUP(U48,'【記載例】シフト記号表（勤務時間帯）'!$D$6:$X$47,21,FALSE)) | V49: =IF(V48="","",VLOOKUP(V48,'【記載例】シフト記号表（勤務時間帯）'!$D$6:$X$47,21,FALSE)) | W49: =IF(W48="","",VLOOKUP(W48,'【記載例】シフト記号表（勤務時間帯）'!$D$6:$X$47,21,FALSE)) | X49: =IF(X48="","",VLOOKUP(X48,'【記載例】シフト記号表（勤務時間帯）'!$D$6:$X$47,21,FALSE)) -> 8 | Y49: =IF(Y48="","",VLOOKUP(Y48,'【記載例】シフト記号表（勤務時間帯）'!$D$6:$X$47,21,FALSE)) -> 8 | Z49: =IF(Z48="","",VLOOKUP(Z48,'【記載例】シフト記号表（勤務時間帯）'!$D$6:$X$47,21,FALSE)) | AA49: =IF(AA48="","",VLOOKUP(AA48,'【記載例】シフト記号表（勤務時間帯）'!$D$6:$X$47,21,FALSE)) | AB49: =IF(AB48="","",VLOOKUP(AB48,'【記載例】シフト記号表（勤務時間帯）'!$D$6:$X$47,21,FALSE)) | ... AY49: =IF(AY48="","",VLOOKUP(AY48,'【記載例】シフト記号表（勤務時間帯）'!$D$6:$X$47,21,FALSE)) | AZ49: =IF($BC$3="４週",SUM(U49:AV49),IF($BC$3="暦月",SUM(U49:AY49),"")) -> 64 | BB49: =IF($BC$3="４週",AZ49/4,IF($BC$3="暦月",(AZ49/($BC$8/7)),"")) -> 16
G50: =C48 -> 介護従業者 | P50: 夜間・深夜の勤務時間数 | U50: =IF(U48="","",VLOOKUP(U48,'【記載例】シフト記号表（勤務時間帯）'!$D$6:$Z$47,23,FALSE)) | V50: =IF(V48="","",VLOOKUP(V48,'【記載例】シフト記号表（勤務時間帯）'!$D$6:$Z$47,23,FALSE)) | W50: =IF(W48="","",VLOOKUP(W48,'【記載例】シフト記号表（勤務時間帯）'!$D$6:$Z$47,23,FALSE)) | X50: =IF(X48="","",VLOOKUP(X48,'【記載例】シフト記号表（勤務時間帯）'!$D$6:$Z$47,23,FALSE)) -> - | Y50: =IF(Y48="","",VLOOKUP(Y48,'【記載例】シフト記号表（勤務時間帯）'!$D$6:$Z$47,23,FALSE)) -> - | Z50: =IF(Z48="","",VLOOKUP(Z48,'【記載例】シフト記号表（勤務時間帯）'!$D$6:$Z$47,23,FALSE)) | AA50: =IF(AA48="","",VLOOKUP(AA48,'【記載例】シフト記号表（勤務時間帯）'!$D$6:$Z$47,23,FALSE)) | AB50: =IF(AB48="","",VLOOKUP(AB48,'【記載例】シフト記号表（勤務時間帯）'!$D$6:$Z$47,23,FALSE)) | ... AY50: =IF(AY48="","",VLOOKUP(AY48,'【記載例】シフト記号表（勤務時間帯）'!$D$6:$Z$47,23,FALSE)) | AZ50: =IF($BC$3="４週",SUM(U50:AV50),IF($BC$3="暦月",SUM(U50:AY50),"")) -> 0 | BB50: =IF($BC$3="４週",AZ50/4,IF($BC$3="暦月",(AZ50/($BC$8/7)),"")) -> 0
C51: 介護従業者 | H51: C | I51: 介護福祉士 | M51: ○○ K子 | P51: シフト記号 | X51: f | Z51: f | AA51: f | AE51: f | AG51: f | AH51: f | AL51: f | AN51: f | AO51: f | AS51: f | AU51: f | AV51: f
B52: =B49+1 -> 11 | F52: =C51 -> 介護従業者 | P52: 日中の勤務時間数 | U52: =IF(U51="","",VLOOKUP(U51,'【記載例】シフト記号表（勤務時間帯）'!$D$6:$X$47,21,FALSE)) | V52: =IF(V51="","",VLOOKUP(V51,'【記載例】シフト記号表（勤務時間帯）'!$D$6:$X$47,21,FALSE)) | W52: =IF(W51="","",VLOOKUP(W51,'【記載例】シフト記号表（勤務時間帯）'!$D$6:$X$47,21,FALSE)) | X52: =IF(X51="","",VLOOKUP(X51,'【記載例】シフト記号表（勤務時間帯）'!$D$6:$X$47,21,FALSE)) -> 6 | Y52: =IF(Y51="","",VLOOKUP(Y51,'【記載例】シフト記号表（勤務時間帯）'!$D$6:$X$47,21,FALSE)) | Z52: =IF(Z51="","",VLOOKUP(Z51,'【記載例】シフト記号表（勤務時間帯）'!$D$6:$X$47,21,FALSE)) -> 6 | AA52: =IF(AA51="","",VLOOKUP(AA51,'【記載例】シフト記号表（勤務時間帯）'!$D$6:$X$47,21,FALSE)) -> 6 | AB52: =IF(AB51="","",VLOOKUP(AB51,'【記載例】シフト記号表（勤務時間帯）'!$D$6:$X$47,21,FALSE)) | ... AY52: =IF(AY51="","",VLOOKUP(AY51,'【記載例】シフト記号表（勤務時間帯）'!$D$6:$X$47,21,FALSE)) | AZ52: =IF($BC$3="４週",SUM(U52:AV52),IF($BC$3="暦月",SUM(U52:AY52),"")) -> 72 | BB52: =IF($BC$3="４週",AZ52/4,IF($BC$3="暦月",(AZ52/($BC$8/7)),"")) -> 18
G53: =C51 -> 介護従業者 | P53: 夜間・深夜の勤務時間数 | U53: =IF(U51="","",VLOOKUP(U51,'【記載例】シフト記号表（勤務時間帯）'!$D$6:$Z$47,23,FALSE)) | V53: =IF(V51="","",VLOOKUP(V51,'【記載例】シフト記号表（勤務時間帯）'!$D$6:$Z$47,23,FALSE)) | W53: =IF(W51="","",VLOOKUP(W51,'【記載例】シフト記号表（勤務時間帯）'!$D$6:$Z$47,23,FALSE)) | X53: =IF(X51="","",VLOOKUP(X51,'【記載例】シフト記号表（勤務時間帯）'!$D$6:$Z$47,23,FALSE)) -> - | Y53: =IF(Y51="","",VLOOKUP(Y51,'【記載例】シフト記号表（勤務時間帯）'!$D$6:$Z$47,23,FALSE)) | Z53: =IF(Z51="","",VLOOKUP(Z51,'【記載例】シフト記号表（勤務時間帯）'!$D$6:$Z$47,23,FALSE)) -> - | AA53: =IF(AA51="","",VLOOKUP(AA51,'【記載例】シフト記号表（勤務時間帯）'!$D$6:$Z$47,23,FALSE)) -> - | AB53: =IF(AB51="","",VLOOKUP(AB51,'【記載例】シフト記号表（勤務時間帯）'!$D$6:$Z$47,23,FALSE)) | ... AY53: =IF(AY51="","",VLOOKUP(AY51,'【記載例】シフト記号表（勤務時間帯）'!$D$6:$Z$47,23,FALSE)) | AZ53: =IF($BC$3="４週",SUM(U53:AV53),IF($BC$3="暦月",SUM(U53:AY53),"")) -> 0 | BB53: =IF($BC$3="４週",AZ53/4,IF($BC$3="暦月",(AZ53/($BC$8/7)),"")) -> 0
C54: 介護従業者 | H54: C | I54: ー | M54: ○○ L太 | P54: シフト記号 | V54: a | Y54: a | AC54: a | AF54: a | AJ54: a | AM54: a | AQ54: a | AT54: a
B55: =B52+1 -> 12 | F55: =C54 -> 介護従業者 | P55: 日中の勤務時間数 | U55: =IF(U54="","",VLOOKUP(U54,'【記載例】シフト記号表（勤務時間帯）'!$D$6:$X$47,21,FALSE)) | V55: =IF(V54="","",VLOOKUP(V54,'【記載例】シフト記号表（勤務時間帯）'!$D$6:$X$47,21,FALSE)) -> 8 | W55: =IF(W54="","",VLOOKUP(W54,'【記載例】シフト記号表（勤務時間帯）'!$D$6:$X$47,21,FALSE)) | X55: =IF(X54="","",VLOOKUP(X54,'【記載例】シフト記号表（勤務時間帯）'!$D$6:$X$47,21,FALSE)) | Y55: =IF(Y54="","",VLOOKUP(Y54,'【記載例】シフト記号表（勤務時間帯）'!$D$6:$X$47,21,FALSE)) -> 8 | Z55: =IF(Z54="","",VLOOKUP(Z54,'【記載例】シフト記号表（勤務時間帯）'!$D$6:$X$47,21,FALSE)) | AA55: =IF(AA54="","",VLOOKUP(AA54,'【記載例】シフト記号表（勤務時間帯）'!$D$6:$X$47,21,FALSE)) | AB55: =IF(AB54="","",VLOOKUP(AB54,'【記載例】シフト記号表（勤務時間帯）'!$D$6:$X$47,21,FALSE)) | ... AY55: =IF(AY54="","",VLOOKUP(AY54,'【記載例】シフト記号表（勤務時間帯）'!$D$6:$X$47,21,FALSE)) | AZ55: =IF($BC$3="４週",SUM(U55:AV55),IF($BC$3="暦月",SUM(U55:AY55),"")) -> 64 | BB55: =IF($BC$3="４週",AZ55/4,IF($BC$3="暦月",(AZ55/($BC$8/7)),"")) -> 16
G56: =C54 -> 介護従業者 | P56: 夜間・深夜の勤務時間数 | U56: =IF(U54="","",VLOOKUP(U54,'【記載例】シフト記号表（勤務時間帯）'!$D$6:$Z$47,23,FALSE)) | V56: =IF(V54="","",VLOOKUP(V54,'【記載例】シフト記号表（勤務時間帯）'!$D$6:$Z$47,23,FALSE)) -> - | W56: =IF(W54="","",VLOOKUP(W54,'【記載例】シフト記号表（勤務時間帯）'!$D$6:$Z$47,23,FALSE)) | X56: =IF(X54="","",VLOOKUP(X54,'【記載例】シフト記号表（勤務時間帯）'!$D$6:$Z$47,23,FALSE)) | Y56: =IF(Y54="","",VLOOKUP(Y54,'【記載例】シフト記号表（勤務時間帯）'!$D$6:$Z$47,23,FALSE)) -> - | Z56: =IF(Z54="","",VLOOKUP(Z54,'【記載例】シフト記号表（勤務時間帯）'!$D$6:$Z$47,23,FALSE)) | AA56: =IF(AA54="","",VLOOKUP(AA54,'【記載例】シフト記号表（勤務時間帯）'!$D$6:$Z$47,23,FALSE)) | AB56: =IF(AB54="","",VLOOKUP(AB54,'【記載例】シフト記号表（勤務時間帯）'!$D$6:$Z$47,23,FALSE)) | ... AY56: =IF(AY54="","",VLOOKUP(AY54,'【記載例】シフト記号表（勤務時間帯）'!$D$6:$Z$47,23,FALSE)) | AZ56: =IF($BC$3="４週",SUM(U56:AV56),IF($BC$3="暦月",SUM(U56:AY56),"")) -> 0 | BB56: =IF($BC$3="４週",AZ56/4,IF($BC$3="暦月",(AZ56/($BC$8/7)),"")) -> 0
C57: 介護従業者 | H57: C | I57: ー | M57: ○○ M子 | P57: シフト記号 | U57: e | W57: e | Z57: e | AA57: e | AB57: e | AD57: e | AG57: e | AH57: e | AI57: e | AK57: e | AN57: e | AO57: e | AP57: e | AR57: e | AU57: e | AV57: e
B58: =B55+1 -> 13 | F58: =C57 -> 介護従業者 | P58: 日中の勤務時間数 | U58: =IF(U57="","",VLOOKUP(U57,'【記載例】シフト記号表（勤務時間帯）'!$D$6:$X$47,21,FALSE)) -> 6 | V58: =IF(V57="","",VLOOKUP(V57,'【記載例】シフト記号表（勤務時間帯）'!$D$6:$X$47,21,FALSE)) | W58: =IF(W57="","",VLOOKUP(W57,'【記載例】シフト記号表（勤務時間帯）'!$D$6:$X$47,21,FALSE)) -> 6 | X58: =IF(X57="","",VLOOKUP(X57,'【記載例】シフト記号表（勤務時間帯）'!$D$6:$X$47,21,FALSE)) | Y58: =IF(Y57="","",VLOOKUP(Y57,'【記載例】シフト記号表（勤務時間帯）'!$D$6:$X$47,21,FALSE)) | Z58: =IF(Z57="","",VLOOKUP(Z57,'【記載例】シフト記号表（勤務時間帯）'!$D$6:$X$47,21,FALSE)) -> 6 | AA58: =IF(AA57="","",VLOOKUP(AA57,'【記載例】シフト記号表（勤務時間帯）'!$D$6:$X$47,21,FALSE)) -> 6 | AB58: =IF(AB57="","",VLOOKUP(AB57,'【記載例】シフト記号表（勤務時間帯）'!$D$6:$X$47,21,FALSE)) -> 6 | ... AY58: =IF(AY57="","",VLOOKUP(AY57,'【記載例】シフト記号表（勤務時間帯）'!$D$6:$X$47,21,FALSE)) | AZ58: =IF($BC$3="４週",SUM(U58:AV58),IF($BC$3="暦月",SUM(U58:AY58),"")) -> 96 | BB58: =IF($BC$3="４週",AZ58/4,IF($BC$3="暦月",(AZ58/($BC$8/7)),"")) -> 24
G59: =C57 -> 介護従業者 | P59: 夜間・深夜の勤務時間数 | U59: =IF(U57="","",VLOOKUP(U57,'【記載例】シフト記号表（勤務時間帯）'!$D$6:$Z$47,23,FALSE)) -> - | V59: =IF(V57="","",VLOOKUP(V57,'【記載例】シフト記号表（勤務時間帯）'!$D$6:$Z$47,23,FALSE)) | W59: =IF(W57="","",VLOOKUP(W57,'【記載例】シフト記号表（勤務時間帯）'!$D$6:$Z$47,23,FALSE)) -> - | X59: =IF(X57="","",VLOOKUP(X57,'【記載例】シフト記号表（勤務時間帯）'!$D$6:$Z$47,23,FALSE)) | Y59: =IF(Y57="","",VLOOKUP(Y57,'【記載例】シフト記号表（勤務時間帯）'!$D$6:$Z$47,23,FALSE)) | Z59: =IF(Z57="","",VLOOKUP(Z57,'【記載例】シフト記号表（勤務時間帯）'!$D$6:$Z$47,23,FALSE)) -> - | AA59: =IF(AA57="","",VLOOKUP(AA57,'【記載例】シフト記号表（勤務時間帯）'!$D$6:$Z$47,23,FALSE)) -> - | AB59: =IF(AB57="","",VLOOKUP(AB57,'【記載例】シフト記号表（勤務時間帯）'!$D$6:$Z$47,23,FALSE)) -> - | ... AY59: =IF(AY57="","",VLOOKUP(AY57,'【記載例】シフト記号表（勤務時間帯）'!$D$6:$Z$47,23,FALSE)) | AZ59: =IF($BC$3="４週",SUM(U59:AV59),IF($BC$3="暦月",SUM(U59:AY59),"")) -> 0 | BB59: =IF($BC$3="４週",AZ59/4,IF($BC$3="暦月",(AZ59/($BC$8/7)),"")) -> 0
C60: 介護従業者 | H60: C | I60: ー | M60: ○○ N男 | P60: シフト記号 | U60: h | V60: h | W60: h | AA60: h | AB60: h | AC60: h | AD60: h | AH60: h | AI60: h | AJ60: h | AK60: h | AO60: h | AP60: h | AQ60: h | AR60: h | AV60: h
B61: =B58+1 -> 14 | F61: =C60 -> 介護従業者 | P61: 日中の勤務時間数 | U61: =IF(U60="","",VLOOKUP(U60,'【記載例】シフト記号表（勤務時間帯）'!$D$6:$X$47,21,FALSE)) -> 4 | V61: =IF(V60="","",VLOOKUP(V60,'【記載例】シフト記号表（勤務時間帯）'!$D$6:$X$47,21,FALSE)) -> 4 | W61: =IF(W60="","",VLOOKUP(W60,'【記載例】シフト記号表（勤務時間帯）'!$D$6:$X$47,21,FALSE)) -> 4 | X61: =IF(X60="","",VLOOKUP(X60,'【記載例】シフト記号表（勤務時間帯）'!$D$6:$X$47,21,FALSE)) | Y61: =IF(Y60="","",VLOOKUP(Y60,'【記載例】シフト記号表（勤務時間帯）'!$D$6:$X$47,21,FALSE)) | Z61: =IF(Z60="","",VLOOKUP(Z60,'【記載例】シフト記号表（勤務時間帯）'!$D$6:$X$47,21,FALSE)) | AA61: =IF(AA60="","",VLOOKUP(AA60,'【記載例】シフト記号表（勤務時間帯）'!$D$6:$X$47,21,FALSE)) -> 4 | AB61: =IF(AB60="","",VLOOKUP(AB60,'【記載例】シフト記号表（勤務時間帯）'!$D$6:$X$47,21,FALSE)) -> 4 | ... AY61: =IF(AY60="","",VLOOKUP(AY60,'【記載例】シフト記号表（勤務時間帯）'!$D$6:$X$47,21,FALSE)) | AZ61: =IF($BC$3="４週",SUM(U61:AV61),IF($BC$3="暦月",SUM(U61:AY61),"")) -> 64 | BB61: =IF($BC$3="４週",AZ61/4,IF($BC$3="暦月",(AZ61/($BC$8/7)),"")) -> 16
G62: =C60 -> 介護従業者 | P62: 夜間・深夜の勤務時間数 | U62: =IF(U60="","",VLOOKUP(U60,'【記載例】シフト記号表（勤務時間帯）'!$D$6:$Z$47,23,FALSE)) -> - | V62: =IF(V60="","",VLOOKUP(V60,'【記載例】シフト記号表（勤務時間帯）'!$D$6:$Z$47,23,FALSE)) -> - | W62: =IF(W60="","",VLOOKUP(W60,'【記載例】シフト記号表（勤務時間帯）'!$D$6:$Z$47,23,FALSE)) -> - | X62: =IF(X60="","",VLOOKUP(X60,'【記載例】シフト記号表（勤務時間帯）'!$D$6:$Z$47,23,FALSE)) | Y62: =IF(Y60="","",VLOOKUP(Y60,'【記載例】シフト記号表（勤務時間帯）'!$D$6:$Z$47,23,FALSE)) | Z62: =IF(Z60="","",VLOOKUP(Z60,'【記載例】シフト記号表（勤務時間帯）'!$D$6:$Z$47,23,FALSE)) | AA62: =IF(AA60="","",VLOOKUP(AA60,'【記載例】シフト記号表（勤務時間帯）'!$D$6:$Z$47,23,FALSE)) -> - | AB62: =IF(AB60="","",VLOOKUP(AB60,'【記載例】シフト記号表（勤務時間帯）'!$D$6:$Z$47,23,FALSE)) -> - | ... AY62: =IF(AY60="","",VLOOKUP(AY60,'【記載例】シフト記号表（勤務時間帯）'!$D$6:$Z$47,23,FALSE)) | AZ62: =IF($BC$3="４週",SUM(U62:AV62),IF($BC$3="暦月",SUM(U62:AY62),"")) -> 0 | BB62: =IF($BC$3="４週",AZ62/4,IF($BC$3="暦月",(AZ62/($BC$8/7)),"")) -> 0
C63: 介護従業者 | H63: C | I63: ー | M63: ○○ P子 | P63: シフト記号 | U63: g | V63: g | W63: g | X63: g | AB63: g | AC63: g | AD63: g | AE63: g | AI63: g | AJ63: g | AK63: g | AL63: g | AP63: g | AQ63: g | AR63: g | AS63: g
B64: =B61+1 -> 15 | F64: =C63 -> 介護従業者 | P64: 日中の勤務時間数 | U64: =IF(U63="","",VLOOKUP(U63,'【記載例】シフト記号表（勤務時間帯）'!$D$6:$X$47,21,FALSE)) -> 2.5 | V64: =IF(V63="","",VLOOKUP(V63,'【記載例】シフト記号表（勤務時間帯）'!$D$6:$X$47,21,FALSE)) -> 2.5 | W64: =IF(W63="","",VLOOKUP(W63,'【記載例】シフト記号表（勤務時間帯）'!$D$6:$X$47,21,FALSE)) -> 2.5 | X64: =IF(X63="","",VLOOKUP(X63,'【記載例】シフト記号表（勤務時間帯）'!$D$6:$X$47,21,FALSE)) -> 2.5 | Y64: =IF(Y63="","",VLOOKUP(Y63,'【記載例】シフト記号表（勤務時間帯）'!$D$6:$X$47,21,FALSE)) | Z64: =IF(Z63="","",VLOOKUP(Z63,'【記載例】シフト記号表（勤務時間帯）'!$D$6:$X$47,21,FALSE)) | AA64: =IF(AA63="","",VLOOKUP(AA63,'【記載例】シフト記号表（勤務時間帯）'!$D$6:$X$47,21,FALSE)) | AB64: =IF(AB63="","",VLOOKUP(AB63,'【記載例】シフト記号表（勤務時間帯）'!$D$6:$X$47,21,FALSE)) -> 2.5 | ... AY64: =IF(AY63="","",VLOOKUP(AY63,'【記載例】シフト記号表（勤務時間帯）'!$D$6:$X$47,21,FALSE)) | AZ64: =IF($BC$3="４週",SUM(U64:AV64),IF($BC$3="暦月",SUM(U64:AY64),"")) -> 40 | BB64: =IF($BC$3="４週",AZ64/4,IF($BC$3="暦月",(AZ64/($BC$8/7)),"")) -> 10
G65: =C63 -> 介護従業者 | P65: 夜間・深夜の勤務時間数 | U65: =IF(U63="","",VLOOKUP(U63,'【記載例】シフト記号表（勤務時間帯）'!$D$6:$Z$47,23,FALSE)) -> - | V65: =IF(V63="","",VLOOKUP(V63,'【記載例】シフト記号表（勤務時間帯）'!$D$6:$Z$47,23,FALSE)) -> - | W65: =IF(W63="","",VLOOKUP(W63,'【記載例】シフト記号表（勤務時間帯）'!$D$6:$Z$47,23,FALSE)) -> - | X65: =IF(X63="","",VLOOKUP(X63,'【記載例】シフト記号表（勤務時間帯）'!$D$6:$Z$47,23,FALSE)) -> - | Y65: =IF(Y63="","",VLOOKUP(Y63,'【記載例】シフト記号表（勤務時間帯）'!$D$6:$Z$47,23,FALSE)) | Z65: =IF(Z63="","",VLOOKUP(Z63,'【記載例】シフト記号表（勤務時間帯）'!$D$6:$Z$47,23,FALSE)) | AA65: =IF(AA63="","",VLOOKUP(AA63,'【記載例】シフト記号表（勤務時間帯）'!$D$6:$Z$47,23,FALSE)) | AB65: =IF(AB63="","",VLOOKUP(AB63,'【記載例】シフト記号表（勤務時間帯）'!$D$6:$Z$47,23,FALSE)) -> - | ... AY65: =IF(AY63="","",VLOOKUP(AY63,'【記載例】シフト記号表（勤務時間帯）'!$D$6:$Z$47,23,FALSE)) | AZ65: =IF($BC$3="４週",SUM(U65:AV65),IF($BC$3="暦月",SUM(U65:AY65),"")) -> 0 | BB65: =IF($BC$3="４週",AZ65/4,IF($BC$3="暦月",(AZ65/($BC$8/7)),"")) -> 0
C66: 介護従業者 | H66: C | I66: ー | M66: ○○ R次郎 | P66: シフト記号 | U66: ag | W66: ag | Z66: ag | AB66: ag | AD66: ag | AG66: ag | AI66: ag | AK66: ag | AN66: ag | AP66: ag | AR66: ag | AU66: ag
B67: =B64+1 -> 16 | F67: =C66 -> 介護従業者 | P67: 日中の勤務時間数 | U67: =IF(U66="","",VLOOKUP(U66,'【記載例】シフト記号表（勤務時間帯）'!$D$6:$X$47,21,FALSE)) -> 6 | V67: =IF(V66="","",VLOOKUP(V66,'【記載例】シフト記号表（勤務時間帯）'!$D$6:$X$47,21,FALSE)) | W67: =IF(W66="","",VLOOKUP(W66,'【記載例】シフト記号表（勤務時間帯）'!$D$6:$X$47,21,FALSE)) -> 6 | X67: =IF(X66="","",VLOOKUP(X66,'【記載例】シフト記号表（勤務時間帯）'!$D$6:$X$47,21,FALSE)) | Y67: =IF(Y66="","",VLOOKUP(Y66,'【記載例】シフト記号表（勤務時間帯）'!$D$6:$X$47,21,FALSE)) | Z67: =IF(Z66="","",VLOOKUP(Z66,'【記載例】シフト記号表（勤務時間帯）'!$D$6:$X$47,21,FALSE)) -> 6 | AA67: =IF(AA66="","",VLOOKUP(AA66,'【記載例】シフト記号表（勤務時間帯）'!$D$6:$X$47,21,FALSE)) | AB67: =IF(AB66="","",VLOOKUP(AB66,'【記載例】シフト記号表（勤務時間帯）'!$D$6:$X$47,21,FALSE)) -> 6 | ... AY67: =IF(AY66="","",VLOOKUP(AY66,'【記載例】シフト記号表（勤務時間帯）'!$D$6:$X$47,21,FALSE)) | AZ67: =IF($BC$3="４週",SUM(U67:AV67),IF($BC$3="暦月",SUM(U67:AY67),"")) -> 72 | BB67: =IF($BC$3="４週",AZ67/4,IF($BC$3="暦月",(AZ67/($BC$8/7)),"")) -> 18
G68: =C66 -> 介護従業者 | P68: 夜間・深夜の勤務時間数 | U68: =IF(U66="","",VLOOKUP(U66,'【記載例】シフト記号表（勤務時間帯）'!$D$6:$Z$47,23,FALSE)) -> - | V68: =IF(V66="","",VLOOKUP(V66,'【記載例】シフト記号表（勤務時間帯）'!$D$6:$Z$47,23,FALSE)) | W68: =IF(W66="","",VLOOKUP(W66,'【記載例】シフト記号表（勤務時間帯）'!$D$6:$Z$47,23,FALSE)) -> - | X68: =IF(X66="","",VLOOKUP(X66,'【記載例】シフト記号表（勤務時間帯）'!$D$6:$Z$47,23,FALSE)) | Y68: =IF(Y66="","",VLOOKUP(Y66,'【記載例】シフト記号表（勤務時間帯）'!$D$6:$Z$47,23,FALSE)) | Z68: =IF(Z66="","",VLOOKUP(Z66,'【記載例】シフト記号表（勤務時間帯）'!$D$6:$Z$47,23,FALSE)) -> - | AA68: =IF(AA66="","",VLOOKUP(AA66,'【記載例】シフト記号表（勤務時間帯）'!$D$6:$Z$47,23,FALSE)) | AB68: =IF(AB66="","",VLOOKUP(AB66,'【記載例】シフト記号表（勤務時間帯）'!$D$6:$Z$47,23,FALSE)) -> - | ... AY68: =IF(AY66="","",VLOOKUP(AY66,'【記載例】シフト記号表（勤務時間帯）'!$D$6:$Z$47,23,FALSE)) | AZ68: =IF($BC$3="４週",SUM(U68:AV68),IF($BC$3="暦月",SUM(U68:AY68),"")) -> 0 | BB68: =IF($BC$3="４週",AZ68/4,IF($BC$3="暦月",(AZ68/($BC$8/7)),"")) -> 0
B69: (14) 宿直① （上記における該当者のNoを記載） | U69: 10 | V69: 11 | W69: 12 | X69: 13 | Y69: 14 | Z69: 15 | AA69: 16 | AB69: 10 | AC69: 11 | AD69: 12 | AE69: 13 | AF69: 14 | AG69: 15 | AH69: 16 | AI69: 10 | AJ69: 11 | AK69: 12 | AL69: 13 | AM69: 14 | AN69: 15 | AO69: 16 | AP69: 10 | AQ69: 11 | AR69: 12 | AS69: 13 | AT69: 14 | AU69: 15 | AV69: 16
B70: (14) 宿直② （上記における該当者のNoを記載）
B71: (15) 日ごとの通いサービスの実利用者数 | U71: 9 | V71: 9 | W71: 9 | X71: 9 | Y71: 9 | Z71: 9 | AA71: 9 | AB71: 9 | AC71: 9 | AD71: 9 | AE71: 9 | AF71: 9 | AG71: 9 | AH71: 9 | AI71: 9 | AJ71: 9 | AK71: 9 | AL71: 9 | AM71: 9 | AN71: 9 | AO71: 9 | AP71: 9 | AQ71: 9 | AR71: 9 | AS71: 9 | AT71: 9 | AU71: 9 | AV71: 9
B72: (16) 日ごとの宿泊サービスの実利用者数 | U72: 4 | V72: 4 | W72: 4 | X72: 4 | Y72: 4 | Z72: 4 | AA72: 4 | AB72: 4 | AC72: 4 | AD72: 4 | AE72: 4 | AF72: 4 | AG72: 4 | AH72: 4 | AI72: 4 | AJ72: 4 | AK72: 4 | AL72: 4 | AM72: 4 | AN72: 4 | AO72: 4 | AP72: 4 | AQ72: 4 | AR72: 4 | AS72: 4 | AT72: 4 | AU72: 4 | AV72: 4
B73: (17) 介護従業者の日中の勤務時間の合計 | U73: =IF(SUMIF($F$21:$F$68,"介護従業者",U21:U68)=0,"",SUMIF($F$21:$F$68,"介護従業者",U21:U68)) -> 48.5 | V73: =IF(SUMIF($F$21:$F$68,"介護従業者",V21:V68)=0,"",SUMIF($F$21:$F$68,"介護従業者",V21:V68)) -> 44.5 | W73: =IF(SUMIF($F$21:$F$68,"介護従業者",W21:W68)=0,"",SUMIF($F$21:$F$68,"介護従業者",W21:W68)) -> 48.5 | X73: =IF(SUMIF($F$21:$F$68,"介護従業者",X21:X68)=0,"",SUMIF($F$21:$F$68,"介護従業者",X21:X68)) -> 46.5 | Y73: =IF(SUMIF($F$21:$F$68,"介護従業者",Y21:Y68)=0,"",SUMIF($F$21:$F$68,"介護従業者",Y21:Y68)) -> 46 | Z73: =IF(SUMIF($F$21:$F$68,"介護従業者",Z21:Z68)=0,"",SUMIF($F$21:$F$68,"介護従業者",Z21:Z68)) -> 48 | AA73: =IF(SUMIF($F$21:$F$68,"介護従業者",AA21:AA68)=0,"",SUMIF($F$21:$F$68,"介護従業者",AA21:AA68)) -> 46 | AB73: =IF(SUMIF($F$21:$F$68,"介護従業者",AB21:AB68)=0,"",SUMIF($F$21:$F$68,"介護従業者",AB21:AB68)) -> 48.5 | ... AY73: =IF(SUMIF($F$21:$F$68,"介護従業者",AY21:AY68)=0,"",SUMIF($F$21:$F$68,"介護従業者",AY21:AY68)) | AZ73: =IF($BC$3="４週",SUM(U73:AV73),IF($BC$3="暦月",SUM(U73:AY73),"")) -> 1312
B74: (18) 介護従業者の夜間・深夜の勤務時間の合計 | U74: =IF(SUMIF($G$21:$G$68,"介護従業者",U21:U68)=0,"",SUMIF($G$21:$G$68,"介護従業者",U21:U68)) -> 10 | V74: =IF(SUMIF($G$21:$G$68,"介護従業者",V21:V68)=0,"",SUMIF($G$21:$G$68,"介護従業者",V21:V68)) -> 10 | W74: =IF(SUMIF($G$21:$G$68,"介護従業者",W21:W68)=0,"",SUMIF($G$21:$G$68,"介護従業者",W21:W68)) -> 10 | X74: =IF(SUMIF($G$21:$G$68,"介護従業者",X21:X68)=0,"",SUMIF($G$21:$G$68,"介護従業者",X21:X68)) -> 10 | Y74: =IF(SUMIF($G$21:$G$68,"介護従業者",Y21:Y68)=0,"",SUMIF($G$21:$G$68,"介護従業者",Y21:Y68)) -> 10 | Z74: =IF(SUMIF($G$21:$G$68,"介護従業者",Z21:Z68)=0,"",SUMIF($G$21:$G$68,"介護従業者",Z21:Z68)) -> 10 | AA74: =IF(SUMIF($G$21:$G$68,"介護従業者",AA21:AA68)=0,"",SUMIF($G$21:$G$68,"介護従業者",AA21:AA68)) -> 10 | AB74: =IF(SUMIF($G$21:$G$68,"介護従業者",AB21:AB68)=0,"",SUMIF($G$21:$G$68,"介護従業者",AB21:AB68)) -> 10 | ... AY74: =IF(SUMIF($G$21:$G$68,"介護従業者",AY21:AY68)=0,"",SUMIF($G$21:$G$68,"介護従業者",AY21:AY68)) | AZ74: =IF($BC$3="４週",SUM(U74:AV74),IF($BC$3="暦月",SUM(U74:AY74),"")) -> 280

Sheet 【記載例】シフト記号表（勤務時間帯）
B1: ≪要 提出≫
B2: ■シフト記号表（勤務時間帯）
B3: ※24時間表記 | F3: 休憩時間1時間は「1:00」、休憩時間45分は「00:45」と入力してください。
F4: 勤務時間 | N4: 日中の時間帯 | R4: 日中の勤務時間 | Z4: 夜間及び深夜 | AB4: 自由記載欄
B5: No | C5: 記号 | F5: 始業時刻 | H5: 終業時刻 | J5: うち、休憩時間 | L5: 勤務時間 | N5: 開始時刻 | P5: 終了時刻 | R5: 開始時刻 | T5: 終了時刻 | V5: うち、休憩時間 | X5: 勤務時間 | Z5: の勤務時間
B6: 1 | C6: a | D6: =C6 -> a | E6: ： | F6: 0.29166667 | G6: ～ | H6: 0.66666667 | I6: （ | J6: 0.041666667 | K6: ） | L6: =IF(OR(F6="",H6=""),"",(H6+IF(F6>H6,1,0)-F6-J6)*24) -> 8 | N6: =【記載例】小多機!$BB$13 -> 0.29166667 | O6: ～ | P6: =【記載例】小多機!$BF$13 -> 0.83333333 | R6: =IF(F6="","",IF(F6<N6,N6,IF(F6>=P6,"",F6))) -> 0.29166667 | S6: ～ | T6: =IF(H6="","",IF(H6>F6,IF(H6<P6,H6,P6),P6)) -> 0.66666667 | U6: （ | V6: 0.041666667 | W6: ） | X6: =IF(R6="","",IF((T6+IF(R6>T6,1,0)-R6-V6)*24=0,"",(T6+IF(R6>T6,1,0)-R6-V6)*24)) -> 8 | Z6: =IF(X6="",L6,IF(OR(L6-X6=0,L6-X6<0),"-",L6-X6)) -> -
B7: 2 | C7: b | D7: =C7 -> b | E7: ： | F7: 0.45833333 | G7: ～ | H7: 0.83333333 | I7: （ | J7: 0.041666667 | K7: ） | L7: =IF(OR(F7="",H7=""),"",(H7+IF(F7>H7,1,0)-F7-J7)*24) -> 8 | N7: =【記載例】小多機!$BB$13 -> 0.29166667 | O7: ～ | P7: =【記載例】小多機!$BF$13 -> 0.83333333 | R7: =IF(F7="","",IF(F7<N7,N7,IF(F7>=P7,"",F7))) -> 0.45833333 | S7: ～ | T7: =IF(H7="","",IF(H7>F7,IF(H7<P7,H7,P7),P7)) -> 0.83333333 | U7: （ | V7: 0.041666667 | W7: ） | X7: =IF(R7="","",IF((T7+IF(R7>T7,1,0)-R7-V7)*24=0,"",(T7+IF(R7>T7,1,0)-R7-V7)*24)) -> 8 | Z7: =IF(X7="",L7,IF(OR(L7-X7=0,L7-X7<0),"-",L7-X7)) -> -
B8: 3 | C8: c | D8: =C8 -> c | E8: ： | F8: 0.375 | G8: ～ | H8: 0.75 | I8: （ | J8: 0.041666667 | K8: ） | L8: =IF(OR(F8="",H8=""),"",(H8+IF(F8>H8,1,0)-F8-J8)*24) -> 8 | N8: =【記載例】小多機!$BB$13 -> 0.29166667 | O8: ～ | P8: =【記載例】小多機!$BF$13 -> 0.83333333 | R8: =IF(F8="","",IF(F8<N8,N8,IF(F8>=P8,"",F8))) -> 0.375 | S8: ～ | T8: =IF(H8="","",IF(H8>F8,IF(H8<P8,H8,P8),P8)) -> 0.75 | U8: （ | V8: 0.041666667 | W8: ） | X8: =IF(R8="","",IF((T8+IF(R8>T8,1,0)-R8-V8)*24=0,"",(T8+IF(R8>T8,1,0)-R8-V8)*24)) -> 8 | Z8: =IF(X8="",L8,IF(OR(L8-X8=0,L8-X8<0),"-",L8-X8)) -> -
B9: 4 | C9: d | D9: =C9 -> d | E9: ： | F9: 0.35416667 | G9: ～ | H9: 0.72916667 | I9: （ | J9: 0.041666667 | K9: ） | L9: =IF(OR(F9="",H9=""),"",(H9+IF(F9>H9,1,0)-F9-J9)*24) -> 8 | N9: =【記載例】小多機!$BB$13 -> 0.29166667 | O9: ～ | P9: =【記載例】小多機!$BF$13 -> 0.83333333 | R9: =IF(F9="","",IF(F9<N9,N9,IF(F9>=P9,"",F9))) -> 0.35416667 | S9: ～ | T9: =IF(H9="","",IF(H9>F9,IF(H9<P9,H9,P9),P9)) -> 0.72916667 | U9: （ | V9: 0.041666667 | W9: ） | X9: =IF(R9="","",IF((T9+IF(R9>T9,1,0)-R9-V9)*24=0,"",(T9+IF(R9>T9,1,0)-R9-V9)*24)) -> 8 | Z9: =IF(X9="",L9,IF(OR(L9-X9=0,L9-X9<0),"-",L9-X9)) -> -
B10: 5 | C10: e | D10: =C10 -> e | E10: ： | F10: 0.375 | G10: ～ | H10: 0.625 | I10: （ | J10: 0 | K10: ） | L10: =IF(OR(F10="",H10=""),"",(H10+IF(F10>H10,1,0)-F10-J10)*24) -> 6 | N10: =【記載例】小多機!$BB$13 -> 0.29166667 | O10: ～ | P10: =【記載例】小多機!$BF$13 -> 0.83333333 | R10: =IF(F10="","",IF(F10<N10,N10,IF(F10>=P10,"",F10))) -> 0.375 | S10: ～ | T10: =IF(H10="","",IF(H10>F10,IF(H10<P10,H10,P10),P10)) -> 0.625 | U10: （ | V10: 0 | W10: ） | X10: =IF(R10="","",IF((T10+IF(R10>T10,1,0)-R10-V10)*24=0,"",(T10+IF(R10>T10,1,0)-R10-V10)*24)) -> 6 | Z10: =IF(X10="",L10,IF(OR(L10-X10=0,L10-X10<0),"-",L10-X10)) -> -
B11: 6 | C11: f | D11: =C11 -> f | E11: ： | F11: 0.41666667 | G11: ～ | H11: 0.66666667 | I11: （ | J11: 0 | K11: ） | L11: =IF(OR(F11="",H11=""),"",(H11+IF(F11>H11,1,0)-F11-J11)*24) -> 6 | N11: =【記載例】小多機!$BB$13 -> 0.29166667 | O11: ～ | P11: =【記載例】小多機!$BF$13 -> 0.83333333 | R11: =IF(F11="","",IF(F11<N11,N11,IF(F11>=P11,"",F11))) -> 0.41666667 | S11: ～ | T11: =IF(H11="","",IF(H11>F11,IF(H11<P11,H11,P11),P11)) -> 0.66666667 | U11: （ | V11: 0 | W11: ） | X11: =IF(R11="","",IF((T11+IF(R11>T11,1,0)-R11-V11)*24=0,"",(T11+IF(R11>T11,1,0)-R11-V11)*24)) -> 6 | Z11: =IF(X11="",L11,IF(OR(L11-X11=0,L11-X11<0),"-",L11-X11)) -> -
B12: 7 | C12: g | D12: =C12 -> g | E12: ： | F12: 0.29166667 | G12: ～ | H12: 0.39583333 | I12: （ | J12: 0 | K12: ） | L12: =IF(OR(F12="",H12=""),"",(H12+IF(F12>H12,1,0)-F12-J12)*24) -> 2.5 | N12: =【記載例】小多機!$BB$13 -> 0.29166667 | O12: ～ | P12: =【記載例】小多機!$BF$13 -> 0.83333333 | R12: =IF(F12="","",IF(F12<N12,N12,IF(F12>=P12,"",F12))) -> 0.29166667 | S12: ～ | T12: =IF(H12="","",IF(H12>F12,IF(H12<P12,H12,P12),P12)) -> 0.39583333 | U12: （ | V12: 0 | W12: ） | X12: =IF(R12="","",IF((T12+IF(R12>T12,1,0)-R12-V12)*24=0,"",(T12+IF(R12>T12,1,0)-R12-V12)*24)) -> 2.5 | Z12: =IF(X12="",L12,IF(OR(L12-X12=0,L12-X12<0),"-",L12-X12)) -> -
B13: 8 | C13: h | D13: =C13 -> h | E13: ： | F13: 0.66666667 | G13: ～ | H13: 0.83333333 | I13: （ | J13: 0 | K13: ） | L13: =IF(OR(F13="",H13=""),"",(H13+IF(F13>H13,1,0)-F13-J13)*24) -> 4 | N13: =【記載例】小多機!$BB$13 -> 0.29166667 | O13: ～ | P13: =【記載例】小多機!$BF$13 -> 0.83333333 | R13: =IF(F13="","",IF(F13<N13,N13,IF(F13>=P13,"",F13))) -> 0.66666667 | S13: ～ | T13: =IF(H13="","",IF(H13>F13,IF(H13<P13,H13,P13),P13)) -> 0.83333333 | U13: （ | V13: 0 | W13: ） | X13: =IF(R13="","",IF((T13+IF(R13>T13,1,0)-R13-V13)*24=0,"",(T13+IF(R13>T13,1,0)-R13-V13)*24)) -> 4 | Z13: =IF(X13="",L13,IF(OR(L13-X13=0,L13-X13<0),"-",L13-X13)) -> -
B14: 9 | C14: i | D14: =C14 -> i | E14: ： | F14: 0.70833333 | G14: ～ | H14: 1 | I14: （ | J14: 0 | K14: ） | L14: =IF(OR(F14="",H14=""),"",(H14+IF(F14>H14,1,0)-F14-J14)*24) -> 7 | N14: =【記載例】小多機!$BB$13 -> 0.29166667 | O14: ～ | P14: =【記載例】小多機!$BF$13 -> 0.83333333 | R14: =IF(F14="","",IF(F14<N14,N14,IF(F14>=P14,"",F14))) -> 0.70833333 | S14: ～ | T14: =IF(H14="","",IF(H14>F14,IF(H14<P14,H14,P14),P14)) -> 0.83333333 | U14: （ | V14: 0 | W14: ） | X14: =IF(R14="","",IF((T14+IF(R14>T14,1,0)-R14-V14)*24=0,"",(T14+IF(R14>T14,1,0)-R14-V14)*24)) -> 3 | Z14: =IF(X14="",L14,IF(OR(L14-X14=0,L14-X14<0),"-",L14-X14)) -> 4 | AB14: （夜勤）17:00～翌10:00勤務
B15: 10 | C15: j | D15: =C15 -> j | E15: ： | F15: 0 | G15: ～ | H15: 0.41666667 | I15: （ | J15: 0.041666667 | K15: ） | L15: =IF(OR(F15="",H15=""),"",(H15+IF(F15>H15,1,0)-F15-J15)*24) -> 9 | N15: =【記載例】小多機!$BB$13 -> 0.29166667 | O15: ～ | P15: =【記載例】小多機!$BF$13 -> 0.83333333 | R15: =IF(F15="","",IF(F15<N15,N15,IF(F15>=P15,"",F15))) -> 0.29166667 | S15: ～ | T15: =IF(H15="","",IF(H15>F15,IF(H15<P15,H15,P15),P15)) -> 0.41666667 | U15: （ | V15: 0 | W15: ） | X15: =IF(R15="","",IF((T15+IF(R15>T15,1,0)-R15-V15)*24=0,"",(T15+IF(R15>T15,1,0)-R15-V15)*24)) -> 3 | Z15: =IF(X15="",L15,IF(OR(L15-X15=0,L15-X15<0),"-",L15-X15)) -> 6 | AB15: （夜勤）17:00～翌10:00勤務
B16: 11 | C16: k | D16: =C16 -> k | E16: ： | G16: ～ | I16: （ | J16: 0 | K16: ） | L16: =IF(OR(F16="",H16=""),"",(H16+IF(F16>H16,1,0)-F16-J16)*24) | N16: =【記載例】小多機!$BB$13 -> 0.29166667 | O16: ～ | P16: =【記載例】小多機!$BF$13 -> 0.83333333 | R16: =IF(F16="","",IF(F16<N16,N16,IF(F16>=P16,"",F16))) | S16: ～ | T16: =IF(H16="","",IF(H16>F16,IF(H16<P16,H16,P16),P16)) | U16: （ | V16: 0 | W16: ） | X16: =IF(R16="","",IF((T16+IF(R16>T16,1,0)-R16-V16)*24=0,"",(T16+IF(R16>T16,1,0)-R16-V16)*24)) | Z16: =IF(X16="",L16,IF(OR(L16-X16=0,L16-X16<0),"-",L16-X16))
B17: 12 | C17: l | D17: =C17 -> l | E17: ： | G17: ～ | I17: （ | J17: 0 | K17: ） | L17: =IF(OR(F17="",H17=""),"",(H17+IF(F17>H17,1,0)-F17-J17)*24) | N17: =【記載例】小多機!$BB$13 -> 0.29166667 | O17: ～ | P17: =【記載例】小多機!$BF$13 -> 0.83333333 | R17: =IF(F17="","",IF(F17<N17,N17,IF(F17>=P17,"",F17))) | S17: ～ | T17: =IF(H17="","",IF(H17>F17,IF(H17<P17,H17,P17),P17)) | U17: （ | V17: 0 | W17: ） | X17: =IF(R17="","",IF((T17+IF(R17>T17,1,0)-R17-V17)*24=0,"",(T17+IF(R17>T17,1,0)-R17-V17)*24)) | Z17: =IF(X17="",L17,IF(OR(L17-X17=0,L17-X17<0),"-",L17-X17))
B18: 13 | C18: m | D18: =C18 -> m | E18: ： | G18: ～ | I18: （ | J18: 0 | K18: ） | L18: =IF(OR(F18="",H18=""),"",(H18+IF(F18>H18,1,0)-F18-J18)*24) | N18: =【記載例】小多機!$BB$13 -> 0.29166667 | O18: ～ | P18: =【記載例】小多機!$BF$13 -> 0.83333333 | R18: =IF(F18="","",IF(F18<N18,N18,IF(F18>=P18,"",F18))) | S18: ～ | T18: =IF(H18="","",IF(H18>F18,IF(H18<P18,H18,P18),P18)) | U18: （ | V18: 0 | W18: ） | X18: =IF(R18="","",IF((T18+IF(R18>T18,1,0)-R18-V18)*24=0,"",(T18+IF(R18>T18,1,0)-R18-V18)*24)) | Z18: =IF(X18="",L18,IF(OR(L18-X18=0,L18-X18<0),"-",L18-X18))
B19: 14 | C19: n | D19: =C19 -> n | E19: ： | G19: ～ | I19: （ | J19: 0 | K19: ） | L19: =IF(OR(F19="",H19=""),"",(H19+IF(F19>H19,1,0)-F19-J19)*24) | N19: =【記載例】小多機!$BB$13 -> 0.29166667 | O19: ～ | P19: =【記載例】小多機!$BF$13 -> 0.83333333 | R19: =IF(F19="","",IF(F19<N19,N19,IF(F19>=P19,"",F19))) | S19: ～ | T19: =IF(H19="","",IF(H19>F19,IF(H19<P19,H19,P19),P19)) | U19: （ | V19: 0 | W19: ） | X19: =IF(R19="","",IF((T19+IF(R19>T19,1,0)-R19-V19)*24=0,"",(T19+IF(R19>T19,1,0)-R19-V19)*24)) | Z19: =IF(X19="",L19,IF(OR(L19-X19=0,L19-X19<0),"-",L19-X19))
B20: 15 | C20: o | D20: =C20 -> o | E20: ： | G20: ～ | I20: （ | J20: 0 | K20: ） | L20: =IF(OR(F20="",H20=""),"",(H20+IF(F20>H20,1,0)-F20-J20)*24) | N20: =【記載例】小多機!$BB$13 -> 0.29166667 | O20: ～ | P20: =【記載例】小多機!$BF$13 -> 0.83333333 | R20: =IF(F20="","",IF(F20<N20,N20,IF(F20>=P20,"",F20))) | S20: ～ | T20: =IF(H20="","",IF(H20>F20,IF(H20<P20,H20,P20),P20)) | U20: （ | V20: 0 | W20: ） | X20: =IF(R20="","",IF((T20+IF(R20>T20,1,0)-R20-V20)*24=0,"",(T20+IF(R20>T20,1,0)-R20-V20)*24)) | Z20: =IF(X20="",L20,IF(OR(L20-X20=0,L20-X20<0),"-",L20-X20))
B21: 16 | C21: p | D21: =C21 -> p | E21: ： | G21: ～ | I21: （ | J21: 0 | K21: ） | L21: =IF(OR(F21="",H21=""),"",(H21+IF(F21>H21,1,0)-F21-J21)*24) | N21: =【記載例】小多機!$BB$13 -> 0.29166667 | O21: ～ | P21: =【記載例】小多機!$BF$13 -> 0.83333333 | R21: =IF(F21="","",IF(F21<N21,N21,IF(F21>=P21,"",F21))) | S21: ～ | T21: =IF(H21="","",IF(H21>F21,IF(H21<P21,H21,P21),P21)) | U21: （ | V21: 0 | W21: ） | X21: =IF(R21="","",IF((T21+IF(R21>T21,1,0)-R21-V21)*24=0,"",(T21+IF(R21>T21,1,0)-R21-V21)*24)) | Z21: =IF(X21="",L21,IF(OR(L21-X21=0,L21-X21<0),"-",L21-X21))
B22: 17 | C22: q | D22: =C22 -> q | E22: ： | G22: ～ | I22: （ | J22: 0 | K22: ） | L22: =IF(OR(F22="",H22=""),"",(H22+IF(F22>H22,1,0)-F22-J22)*24) | N22: =【記載例】小多機!$BB$13 -> 0.29166667 | O22: ～ | P22: =【記載例】小多機!$BF$13 -> 0.83333333 | R22: =IF(F22="","",IF(F22<N22,N22,IF(F22>=P22,"",F22))) | S22: ～ | T22: =IF(H22="","",IF(H22>F22,IF(H22<P22,H22,P22),P22)) | U22: （ | V22: 0 | W22: ） | X22: =IF(R22="","",IF((T22+IF(R22>T22,1,0)-R22-V22)*24=0,"",(T22+IF(R22>T22,1,0)-R22-V22)*24)) | Z22: =IF(X22="",L22,IF(OR(L22-X22=0,L22-X22<0),"-",L22-X22))
B23: 18 | C23: r | D23: =C23 -> r | E23: ： | G23: ～ | I23: （ | K23: ） | L23: 1 | O23: ～ | S23: ～ | U23: （ | W23: ） | X23: 1 | Z23: -
B24: 19 | C24: s | D24: =C24 -> s | E24: ： | G24: ～ | I24: （ | K24: ） | L24: 2 | O24: ～ | S24: ～ | U24: （ | W24: ） | X24: 2 | Z24: -
B25: 20 | C25: t | D25: =C25 -> t | E25: ： | G25: ～ | I25: （ | K25: ） | L25: 3 | O25: ～ | S25: ～ | U25: （ | W25: ） | X25: 3 | Z25: -
B26: 21 | C26: u | D26: =C26 -> u | E26: ： | G26: ～ | I26: （ | K26: ） | L26: 4 | O26: ～ | S26: ～ | U26: （ | W26: ） | X26: 4 | Z26: -
B27: 22 | C27: v | D27: =C27 -> v | E27: ： | G27: ～ | I27: （ | K27: ） | L27: 5 | O27: ～ | S27: ～ | U27: （ | W27: ） | X27: 5 | Z27: -
B28: 23 | C28: w | D28: =C28 -> w | E28: ： | G28: ～ | I28: （ | K28: ） | L28: 6 | O28: ～ | S28: ～ | U28: （ | W28: ） | X28: 6 | Z28: -
B29: 24 | C29: x | D29: =C29 -> x | E29: ： | G29: ～ | I29: （ | K29: ） | L29: 7 | O29: ～ | S29: ～ | U29: （ | W29: ） | X29: 7 | Z29: -
B30: 25 | C30: y | D30: =C30 -> y | E30: ： | G30: ～ | I30: （ | K30: ） | L30: 8 | O30: ～ | S30: ～ | U30: （ | W30: ） | X30: 8 | Z30: -
B31: 26 | C31: z | D31: =C31 -> z | E31: ： | G31: ～ | I31: （ | K31: ） | L31: 1 | O31: ～ | S31: ～ | U31: （ | W31: ） | X31: - | Z31: 1
B32: 27 | C32: x | D32: =C32 -> x | E32: ： | G32: ～ | I32: （ | K32: ） | L32: 2 | O32: ～ | S32: ～ | U32: （ | W32: ） | X32: - | Z32: 2
B33: 28 | C33: aa | D33: =C33 -> aa | E33: ： | G33: ～ | I33: （ | K33: ） | L33: 3 | O33: ～ | S33: ～ | U33: （ | W33: ） | X33: - | Z33: 3
B34: 29 | C34: ab | D34: =C34 -> ab | E34: ： | G34: ～ | I34: （ | K34: ） | L34: 4 | O34: ～ | S34: ～ | U34: （ | W34: ） | X34: - | Z34: 4
B35: 30 | C35: ac | D35: =C35 -> ac | E35: ： | G35: ～ | I35: （ | K35: ） | L35: 5 | O35: ～ | S35: ～ | U35: （ | W35: ） | X35: - | Z35: 5
B36: 31 | C36: ad | D36: =C36 -> ad | E36: ： | G36: ～ | I36: （ | K36: ） | L36: 6 | O36: ～ | S36: ～ | U36: （ | W36: ） | X36: - | Z36: 6
B37: 32 | C37: ae | D37: =C37 -> ae | E37: ： | G37: ～ | I37: （ | K37: ） | L37: 7 | O37: ～ | S37: ～ | U37: （ | W37: ） | X37: - | Z37: 7
B38: 33 | C38: af | D38: =C38 -> af | E38: ： | G38: ～ | I38: （ | K38: ） | L38: 8 | O38: ～ | S38: ～ | U38: （ | W38: ） | X38: - | Z38: 8
B39: 34 | C39: ag | E39: ： | F39: 0.29166667 | G39: ～ | H39: 0.39583333 | I39: （ | J39: 0 | K39: ） | L39: =IF(OR(F39="",H39=""),"",(H39+IF(F39>H39,1,0)-F39-J39)*24) -> 2.5 | N39: =【記載例】小多機!$BB$13 -> 0.29166667 | O39: ～ | P39: =【記載例】小多機!$BF$13 -> 0.83333333 | R39: =IF(F39="","",IF(F39<N39,N39,IF(F39>=P39,"",F39))) -> 0.29166667 | S39: ～ | T39: =IF(H39="","",IF(H39>F39,IF(H39<P39,H39,P39),P39)) -> 0.39583333 | U39: （ | V39: 0 | W39: ） | X39: =IF(R39="","",IF((T39+IF(R39>T39,1,0)-R39-V39)*24=0,"",(T39+IF(R39>T39,1,0)-R39-V39)*24)) -> 2.5 | Z39: =IF(X39="",L39,IF(OR(L39-X39=0,L39-X39<0),"-",L39-X39)) -> -
C40: - | E40: ： | F40: 0.6875 | G40: ～ | H40: 0.83333333 | I40: （ | J40: 0 | K40: ） | L40: =IF(OR(F40="",H40=""),"",(H40+IF(F40>H40,1,0)-F40-J40)*24) -> 3.5 | N40: =【記載例】小多機!$BB$13 -> 0.29166667 | O40: ～ | P40: =【記載例】小多機!$BF$13 -> 0.83333333 | R40: =IF(F40="","",IF(F40<N40,N40,IF(F40>=P40,"",F40))) -> 0.6875 | S40: ～ | T40: =IF(H40="","",IF(H40>F40,IF(H40<P40,H40,P40),P40)) -> 0.83333333 | U40: （ | V40: 0 | W40: ） | X40: =IF(R40="","",IF((T40+IF(R40>T40,1,0)-R40-V40)*24=0,"",(T40+IF(R40>T40,1,0)-R40-V40)*24)) -> 3.5 | Z40: =IF(X40="",L40,IF(OR(L40-X40=0,L40-X40<0),"-",L40-X40)) -> -
C41: - | D41: =C39 -> ag | E41: ： | F41: - | G41: ～ | H41: - | I41: （ | J41: - | K41: ） | L41: =IF(OR(L39="",L40=""),"",L39+L40) -> 6 | N41: - | O41: ～ | P41: - | R41: - | S41: ～ | T41: - | U41: （ | V41: - | W41: ） | X41: =IF(OR(X39="",X40=""),"",X39+X40) -> 6 | Z41: =IF(X41="",L41,IF(OR(L41-X41=0,L41-X41<0),"-",L41-X41)) -> - | AB41: 1日に2回勤務する場合
C42: ah | E42: ： | G42: ～ | I42: （ | J42: 0 | K42: ） | L42: =IF(OR(F42="",H42=""),"",(H42+IF(F42>H42,1,0)-F42-J42)*24) | N42: =【記載例】小多機!$BB$13 -> 0.29166667 | O42: ～ | P42: =【記載例】小多機!$BF$13 -> 0.83333333 | R42: =IF(F42="","",IF(F42<N42,N42,IF(F42>=P42,"",F42))) | S42: ～ | T42: =IF(H42="","",IF(H42>F42,IF(H42<P42,H42,P42),P42)) | U42: （ | V42: 0 | W42: ） | X42: =IF(R42="","",IF((T42+IF(R42>T42,1,0)-R42-V42)*24=0,"",(T42+IF(R42>T42,1,0)-R42-V42)*24)) | Z42: =IF(X42="",L42,IF(OR(L42-X42=0,L42-X42<0),"-",L42-X42))
B43: 35 | C43: - | E43: ： | G43: ～ | I43: （ | J43: 0 | K43: ） | L43: =IF(OR(F43="",H43=""),"",(H43+IF(F43>H43,1,0)-F43-J43)*24) | N43: =【記載例】小多機!$BB$13 -> 0.29166667 | O43: ～ | P43: =【記載例】小多機!$BF$13 -> 0.83333333 | R43: =IF(F43="","",IF(F43<N43,N43,IF(F43>=P43,"",F43))) | S43: ～ | T43: =IF(H43="","",IF(H43>F43,IF(H43<P43,H43,P43),P43)) | U43: （ | V43: 0 | W43: ） | X43: =IF(R43="","",IF((T43+IF(R43>T43,1,0)-R43-V43)*24=0,"",(T43+IF(R43>T43,1,0)-R43-V43)*24)) | Z43: =IF(X43="",L43,IF(OR(L43-X43=0,L43-X43<0),"-",L43-X43))
C44: - | D44: =C42 -> ah | E44: ： | F44: - | G44: ～ | H44: - | I44: （ | J44: - | K44: ） | L44: =IF(OR(L42="",L43=""),"",L42+L43) | N44: - | O44: ～ | P44: - | R44: - | S44: ～ | T44: - | U44: （ | V44: - | W44: ） | X44: =IF(OR(X42="",X43=""),"",X42+X43) | Z44: =IF(X44="",L44,IF(OR(L44-X44=0,L44-X44<0),"-",L44-X44)) | AB44: 1日に2回勤務する場合
C45: ai | E45: ： | G45: ～ | I45: （ | J45: 0 | K45: ） | L45: =IF(OR(F45="",H45=""),"",(H45+IF(F45>H45,1,0)-F45-J45)*24) | N45: =【記載例】小多機!$BB$13 -> 0.29166667 | O45: ～ | P45: =【記載例】小多機!$BF$13 -> 0.83333333 | R45: =IF(F45="","",IF(F45<N45,N45,IF(F45>=P45,"",F45))) | S45: ～ | T45: =IF(H45="","",IF(H45>F45,IF(H45<P45,H45,P45),P45)) | U45: （ | V45: 0 | W45: ） | X45: =IF(R45="","",IF((T45+IF(R45>T45,1,0)-R45-V45)*24=0,"",(T45+IF(R45>T45,1,0)-R45-V45)*24)) | Z45: =IF(X45="",L45,IF(OR(L45-X45=0,L45-X45<0),"-",L45-X45))
B46: 36 | C46: - | E46: ： | G46: ～ | I46: （ | J46: 0 | K46: ） | L46: =IF(OR(F46="",H46=""),"",(H46+IF(F46>H46,1,0)-F46-J46)*24) | N46: =【記載例】小多機!$BB$13 -> 0.29166667 | O46: ～ | P46: =【記載例】小多機!$BF$13 -> 0.83333333 | R46: =IF(F46="","",IF(F46<N46,N46,IF(F46>=P46,"",F46))) | S46: ～ | T46: =IF(H46="","",IF(H46>F46,IF(H46<P46,H46,P46),P46)) | U46: （ | V46: 0 | W46: ） | X46: =IF(R46="","",IF((T46+IF(R46>T46,1,0)-R46-V46)*24=0,"",(T46+IF(R46>T46,1,0)-R46-V46)*24)) | Z46: =IF(X46="",L46,IF(OR(L46-X46=0,L46-X46<0),"-",L46-X46))
C47: - | D47: =C45 -> ai | E47: ： | F47: - | G47: ～ | H47: - | I47: （ | J47: - | K47: ） | L47: =IF(OR(L45="",L46=""),"",L45+L46) | N47: - | O47: ～ | P47: - | R47: - | S47: ～ | T47: - | U47: （ | V47: - | W47: ） | X47: =IF(OR(X45="",X46=""),"",X45+X46) | Z47: =IF(X47="",L47,IF(OR(L47-X47=0,L47-X47<0),"-",L47-X47)) | AB47: 1日に2回勤務する場合
C49: ・職種ごとの勤務時間を「○：○○～○：○○」と表記することが困難な場合は、No18～33を活用し、勤務時間数のみを入力してください。
C50: ・No18～33以外は始業時刻・終業時刻・休憩時間等を入力すると勤務時間数が計算されますが、入力の補助を目的とするものですので、結果に誤りがないかご確認ください。
C51: ・シフト記号が足りない場合は、適宜、行を追加してください。
C52: ・シフト記号は、適宜、使いやすい記号に変更していただいて構いません。

Sheet 小多機(50人)
C1: （標準様式1） | K1: 従業者の勤務の体制及び勤務形態一覧表 | AQ1: サービス種別（ | AR1: 小規模多機能型居宅介護 | BH1: ）
Z2: 令和 | AA2: 6 | AC2: ( | AD2: =IF(AA2=0,"",YEAR(DATE(2018+AA2,1,1))) -> 2024 | AF2: ) | AG2: 年 | AH2: 4 | AJ2: 月 | AQ2: 事業所名（ | AR2: ○○サービス | BH2: ）
BB3: (1) | BC3: ４週
BB4: (2) | BC4: 予定
AM6: (3) 事業所における常勤の従業者が勤務すべき時間数 | AY6: 40 | BA6: 時間/週 | BC6: 160 | BE6: 時間/月
AZ8: 当月の日数 | BC8: =DAY(EOMONTH(DATE(AD2,AH2,1),0)) -> 30 | BE8: 日
AN10: (4) 利用者数（通いサービス） | BA10: （前年度の平均値または推定数） | BE10: 人
AS12: (5) 日中／夜間及び深夜の時間帯の区分
AS13: 利用者の生活時間帯（日中） | BB13: 0.29166667 | BE13: ～ | BF13: 0.83333333
AS14: 夜間及び深夜の時間帯 | BB14: 0.83333333 | BE14: ～ | BF14: 0.29166667
B16: No | C16: (6) 職種 | H16: (7) 勤務 形態 | I16: (8) 資格 | M16: (9) 氏 名 | P16: 日中／夜間及び深夜 の区分 | AI16: (10) | AN16: （宿直 ･･･ | AR16: ） | AZ16: =IF(BC3="計画","(11)1～4週目の勤務時間数合計","(11)1か月の勤務時間数 合計") -> (11)1か月の勤務時間数 合計 | BB16: (12) 週平均 勤務時間数 | BD16: (13) 兼務状況 （兼務先/兼務する職務の内容）等
U17: 1週目 | AB17: 2週目 | AI17: 3週目 | AP17: 4週目 | AW17: 5週目
U18: 1 | V18: 2 | W18: 3 | X18: 4 | Y18: 5 | Z18: 6 | AA18: 7 | AB18: 8 | AC18: 9 | AD18: 10 | AE18: 11 | AF18: 12 | AG18: 13 | AH18: 14 | AI18: 15 | AJ18: 16 | AK18: 17 | AL18: 18 | AM18: 19 | AN18: 20 | AO18: 21 | AP18: 22 | AQ18: 23 | AR18: 24 | AS18: 25 | AT18: 26 | AU18: 27 | AV18: 28 | AW18: =IF($BC$3="暦月",IF(DAY(DATE($AD$2,$AH$2,29))=29,29,""),"") | AX18: =IF($BC$3="暦月",IF(DAY(DATE($AD$2,$AH$2,30))=30,30,""),"") | AY18: =IF($BC$3="暦月",IF(DAY(DATE($AD$2,$AH$2,31))=31,31,""),"")
U19: =WEEKDAY(DATE($AD$2,$AH$2,1)) -> 2 | V19: =WEEKDAY(DATE($AD$2,$AH$2,2)) -> 3 | W19: =WEEKDAY(DATE($AD$2,$AH$2,3)) -> 4 | X19: =WEEKDAY(DATE($AD$2,$AH$2,4)) -> 5 | Y19: =WEEKDAY(DATE($AD$2,$AH$2,5)) -> 6 | Z19: =WEEKDAY(DATE($AD$2,$AH$2,6)) -> 7 | AA19: =WEEKDAY(DATE($AD$2,$AH$2,7)) -> 1 | AB19: =WEEKDAY(DATE($AD$2,$AH$2,8)) -> 2 | AC19: =WEEKDAY(DATE($AD$2,$AH$2,9)) -> 3 | AD19: =WEEKDAY(DATE($AD$2,$AH$2,10)) -> 4 | AE19: =WEEKDAY(DATE($AD$2,$AH$2,11)) -> 5 | AF19: =WEEKDAY(DATE($AD$2,$AH$2,12)) -> 6 | AG19: =WEEKDAY(DATE($AD$2,$AH$2,13)) -> 7 | AH19: =WEEKDAY(DATE($AD$2,$AH$2,14)) -> 1 | AI19: =WEEKDAY(DATE($AD$2,$AH$2,15)) -> 2 | AJ19: =WEEKDAY(DATE($AD$2,$AH$2,16)) -> 3 | AK19: =WEEKDAY(DATE($AD$2,$AH$2,17)) -> 4 | AL19: =WEEKDAY(DATE($AD$2,$AH$2,18)) -> 5 | AM19: =WEEKDAY(DATE($AD$2,$AH$2,19)) -> 6 | AN19: =WEEKDAY(DATE($AD$2,$AH$2,20)) -> 7 | AO19: =WEEKDAY(DATE($AD$2,$AH$2,21)) -> 1 | AP19: =WEEKDAY(DATE($AD$2,$AH$2,22)) -> 2 | AQ19: =WEEKDAY(DATE($AD$2,$AH$2,23)) -> 3 | AR19: =WEEKDAY(DATE($AD$2,$AH$2,24)) -> 4 | AS19: =WEEKDAY(DATE($AD$2,$AH$2,25)) -> 5 | AT19: =WEEKDAY(DATE($AD$2,$AH$2,26)) -> 6 | AU19: =WEEKDAY(DATE($AD$2,$AH$2,27)) -> 7 | AV19: =WEEKDAY(DATE($AD$2,$AH$2,28)) -> 1 | AW19: =IF(AW18=29,WEEKDAY(DATE($AD$2,$AH$2,29)),0) -> 0 | AX19: =IF(AX18=30,WEEKDAY(DATE($AD$2,$AH$2,30)),0) -> 0 | AY19: =IF(AY18=31,WEEKDAY(DATE($AD$2,$AH$2,31)),0) -> 0
U20: =IF(U19=1,"日",IF(U19=2,"月",IF(U19=3,"火",IF(U19=4,"水",IF(U19=5,"木",IF(U19=6,"金","土")))))) -> 月 | V20: =IF(V19=1,"日",IF(V19=2,"月",IF(V19=3,"火",IF(V19=4,"水",IF(V19=5,"木",IF(V19=6,"金","土")))))) -> 火 | W20: =IF(W19=1,"日",IF(W19=2,"月",IF(W19=3,"火",IF(W19=4,"水",IF(W19=5,"木",IF(W19=6,"金","土")))))) -> 水 | X20: =IF(X19=1,"日",IF(X19=2,"月",IF(X19=3,"火",IF(X19=4,"水",IF(X19=5,"木",IF(X19=6,"金","土")))))) -> 木 | Y20: =IF(Y19=1,"日",IF(Y19=2,"月",IF(Y19=3,"火",IF(Y19=4,"水",IF(Y19=5,"木",IF(Y19=6,"金","土")))))) -> 金 | Z20: =IF(Z19=1,"日",IF(Z19=2,"月",IF(Z19=3,"火",IF(Z19=4,"水",IF(Z19=5,"木",IF(Z19=6,"金","土")))))) -> 土 | AA20: =IF(AA19=1,"日",IF(AA19=2,"月",IF(AA19=3,"火",IF(AA19=4,"水",IF(AA19=5,"木",IF(AA19=6,"金","土")))))) -> 日 | AB20: =IF(AB19=1,"日",IF(AB19=2,"月",IF(AB19=3,"火",IF(AB19=4,"水",IF(AB19=5,"木",IF(AB19=6,"金","土")))))) -> 月 | ... AV20: =IF(AV19=1,"日",IF(AV19=2,"月",IF(AV19=3,"火",IF(AV19=4,"水",IF(AV19=5,"木",IF(AV19=6,"金","土")))))) -> 日 | AW20: =IF(AW19=1,"日",IF(AW19=2,"月",IF(AW19=3,"火",IF(AW19=4,"水",IF(AW19=5,"木",IF(AW19=6,"金",IF(AW19=0,"","土"))))))) | AX20: =IF(AX19=1,"日",IF(AX19=2,"月",IF(AX19=3,"火",IF(AX19=4,"水",IF(AX19=5,"木",IF(AX19=6,"金",IF(AX19=0,"","土"))))))) | AY20: =IF(AY19=1,"日",IF(AY19=2,"月",IF(AY19=3,"火",IF(AY19=4,"水",IF(AY19=5,"木",IF(AY19=6,"金",IF(AY19=0,"","土")))))))
P21: シフト記号
B22: 1 | F22: =C21 -> 0 | P22: 日中の勤務時間数 | U22: =IF(U21="","",VLOOKUP(U21,'シフト記号表（勤務時間帯）'!$D$6:$X$47,21,FALSE)) | V22: =IF(V21="","",VLOOKUP(V21,'シフト記号表（勤務時間帯）'!$D$6:$X$47,21,FALSE)) | W22: =IF(W21="","",VLOOKUP(W21,'シフト記号表（勤務時間帯）'!$D$6:$X$47,21,FALSE)) | X22: =IF(X21="","",VLOOKUP(X21,'シフト記号表（勤務時間帯）'!$D$6:$X$47,21,FALSE)) | Y22: =IF(Y21="","",VLOOKUP(Y21,'シフト記号表（勤務時間帯）'!$D$6:$X$47,21,FALSE)) | Z22: =IF(Z21="","",VLOOKUP(Z21,'シフト記号表（勤務時間帯）'!$D$6:$X$47,21,FALSE)) | AA22: =IF(AA21="","",VLOOKUP(AA21,'シフト記号表（勤務時間帯）'!$D$6:$X$47,21,FALSE)) | AB22: =IF(AB21="","",VLOOKUP(AB21,'シフト記号表（勤務時間帯）'!$D$6:$X$47,21,FALSE)) | ... AY22: =IF(AY21="","",VLOOKUP(AY21,'シフト記号表（勤務時間帯）'!$D$6:$X$47,21,FALSE)) | AZ22: =IF($BC$3="４週",SUM(U22:AV22),IF($BC$3="暦月",SUM(U22:AY22),"")) -> 0 | BB22: =IF($BC$3="４週",AZ22/4,IF($BC$3="暦月",(AZ22/($BC$8/7)),"")) -> 0
G23: =C21 -> 0 | P23: 夜間・深夜の勤務時間数 | U23: =IF(U21="","",VLOOKUP(U21,'シフト記号表（勤務時間帯）'!$D$6:$Z$47,23,FALSE)) | V23: =IF(V21="","",VLOOKUP(V21,'シフト記号表（勤務時間帯）'!$D$6:$Z$47,23,FALSE)) | W23: =IF(W21="","",VLOOKUP(W21,'シフト記号表（勤務時間帯）'!$D$6:$Z$47,23,FALSE)) | X23: =IF(X21="","",VLOOKUP(X21,'シフト記号表（勤務時間帯）'!$D$6:$Z$47,23,FALSE)) | Y23: =IF(Y21="","",VLOOKUP(Y21,'シフト記号表（勤務時間帯）'!$D$6:$Z$47,23,FALSE)) | Z23: =IF(Z21="","",VLOOKUP(Z21,'シフト記号表（勤務時間帯）'!$D$6:$Z$47,23,FALSE)) | AA23: =IF(AA21="","",VLOOKUP(AA21,'シフト記号表（勤務時間帯）'!$D$6:$Z$47,23,FALSE)) | AB23: =IF(AB21="","",VLOOKUP(AB21,'シフト記号表（勤務時間帯）'!$D$6:$Z$47,23,FALSE)) | ... AY23: =IF(AY21="","",VLOOKUP(AY21,'シフト記号表（勤務時間帯）'!$D$6:$Z$47,23,FALSE)) | AZ23: =IF($BC$3="４週",SUM(U23:AV23),IF($BC$3="暦月",SUM(U23:AY23),"")) -> 0 | BB23: =IF($BC$3="４週",AZ23/4,IF($BC$3="暦月",(AZ23/($BC$8/7)),"")) -> 0
P24: シフト記号
B25: =B22+1 -> 2 | F25: =C24 -> 0 | P25: 日中の勤務時間数 | U25: =IF(U24="","",VLOOKUP(U24,'シフト記号表（勤務時間帯）'!$D$6:$X$47,21,FALSE)) | V25: =IF(V24="","",VLOOKUP(V24,'シフト記号表（勤務時間帯）'!$D$6:$X$47,21,FALSE)) | W25: =IF(W24="","",VLOOKUP(W24,'シフト記号表（勤務時間帯）'!$D$6:$X$47,21,FALSE)) | X25: =IF(X24="","",VLOOKUP(X24,'シフト記号表（勤務時間帯）'!$D$6:$X$47,21,FALSE)) | Y25: =IF(Y24="","",VLOOKUP(Y24,'シフト記号表（勤務時間帯）'!$D$6:$X$47,21,FALSE)) | Z25: =IF(Z24="","",VLOOKUP(Z24,'シフト記号表（勤務時間帯）'!$D$6:$X$47,21,FALSE)) | AA25: =IF(AA24="","",VLOOKUP(AA24,'シフト記号表（勤務時間帯）'!$D$6:$X$47,21,FALSE)) | AB25: =IF(AB24="","",VLOOKUP(AB24,'シフト記号表（勤務時間帯）'!$D$6:$X$47,21,FALSE)) | ... AY25: =IF(AY24="","",VLOOKUP(AY24,'シフト記号表（勤務時間帯）'!$D$6:$X$47,21,FALSE)) | AZ25: =IF($BC$3="４週",SUM(U25:AV25),IF($BC$3="暦月",SUM(U25:AY25),"")) -> 0 | BB25: =IF($BC$3="４週",AZ25/4,IF($BC$3="暦月",(AZ25/($BC$8/7)),"")) -> 0
G26: =C24 -> 0 | P26: 夜間・深夜の勤務時間数 | U26: =IF(U24="","",VLOOKUP(U24,'シフト記号表（勤務時間帯）'!$D$6:$Z$47,23,FALSE)) | V26: =IF(V24="","",VLOOKUP(V24,'シフト記号表（勤務時間帯）'!$D$6:$Z$47,23,FALSE)) | W26: =IF(W24="","",VLOOKUP(W24,'シフト記号表（勤務時間帯）'!$D$6:$Z$47,23,FALSE)) | X26: =IF(X24="","",VLOOKUP(X24,'シフト記号表（勤務時間帯）'!$D$6:$Z$47,23,FALSE)) | Y26: =IF(Y24="","",VLOOKUP(Y24,'シフト記号表（勤務時間帯）'!$D$6:$Z$47,23,FALSE)) | Z26: =IF(Z24="","",VLOOKUP(Z24,'シフト記号表（勤務時間帯）'!$D$6:$Z$47,23,FALSE)) | AA26: =IF(AA24="","",VLOOKUP(AA24,'シフト記号表（勤務時間帯）'!$D$6:$Z$47,23,FALSE)) | AB26: =IF(AB24="","",VLOOKUP(AB24,'シフト記号表（勤務時間帯）'!$D$6:$Z$47,23,FALSE)) | ... AY26: =IF(AY24="","",VLOOKUP(AY24,'シフト記号表（勤務時間帯）'!$D$6:$Z$47,23,FALSE)) | AZ26: =IF($BC$3="４週",SUM(U26:AV26),IF($BC$3="暦月",SUM(U26:AY26),"")) -> 0 | BB26: =IF($BC$3="４週",AZ26/4,IF($BC$3="暦月",(AZ26/($BC$8/7)),"")) -> 0
P27: シフト記号
B28: =B25+1 -> 3 | F28: =C27 -> 0 | P28: 日中の勤務時間数 | U28: =IF(U27="","",VLOOKUP(U27,'シフト記号表（勤務時間帯）'!$D$6:$X$47,21,FALSE)) | V28: =IF(V27="","",VLOOKUP(V27,'シフト記号表（勤務時間帯）'!$D$6:$X$47,21,FALSE)) | W28: =IF(W27="","",VLOOKUP(W27,'シフト記号表（勤務時間帯）'!$D$6:$X$47,21,FALSE)) | X28: =IF(X27="","",VLOOKUP(X27,'シフト記号表（勤務時間帯）'!$D$6:$X$47,21,FALSE)) | Y28: =IF(Y27="","",VLOOKUP(Y27,'シフト記号表（勤務時間帯）'!$D$6:$X$47,21,FALSE)) | Z28: =IF(Z27="","",VLOOKUP(Z27,'シフト記号表（勤務時間帯）'!$D$6:$X$47,21,FALSE)) | AA28: =IF(AA27="","",VLOOKUP(AA27,'シフト記号表（勤務時間帯）'!$D$6:$X$47,21,FALSE)) | AB28: =IF(AB27="","",VLOOKUP(AB27,'シフト記号表（勤務時間帯）'!$D$6:$X$47,21,FALSE)) | ... AY28: =IF(AY27="","",VLOOKUP(AY27,'シフト記号表（勤務時間帯）'!$D$6:$X$47,21,FALSE)) | AZ28: =IF($BC$3="４週",SUM(U28:AV28),IF($BC$3="暦月",SUM(U28:AY28),"")) -> 0 | BB28: =IF($BC$3="４週",AZ28/4,IF($BC$3="暦月",(AZ28/($BC$8/7)),"")) -> 0
G29: =C27 -> 0 | P29: 夜間・深夜の勤務時間数 | U29: =IF(U27="","",VLOOKUP(U27,'シフト記号表（勤務時間帯）'!$D$6:$Z$47,23,FALSE)) | V29: =IF(V27="","",VLOOKUP(V27,'シフト記号表（勤務時間帯）'!$D$6:$Z$47,23,FALSE)) | W29: =IF(W27="","",VLOOKUP(W27,'シフト記号表（勤務時間帯）'!$D$6:$Z$47,23,FALSE)) | X29: =IF(X27="","",VLOOKUP(X27,'シフト記号表（勤務時間帯）'!$D$6:$Z$47,23,FALSE)) | Y29: =IF(Y27="","",VLOOKUP(Y27,'シフト記号表（勤務時間帯）'!$D$6:$Z$47,23,FALSE)) | Z29: =IF(Z27="","",VLOOKUP(Z27,'シフト記号表（勤務時間帯）'!$D$6:$Z$47,23,FALSE)) | AA29: =IF(AA27="","",VLOOKUP(AA27,'シフト記号表（勤務時間帯）'!$D$6:$Z$47,23,FALSE)) | AB29: =IF(AB27="","",VLOOKUP(AB27,'シフト記号表（勤務時間帯）'!$D$6:$Z$47,23,FALSE)) | ... AY29: =IF(AY27="","",VLOOKUP(AY27,'シフト記号表（勤務時間帯）'!$D$6:$Z$47,23,FALSE)) | AZ29: =IF($BC$3="４週",SUM(U29:AV29),IF($BC$3="暦月",SUM(U29:AY29),"")) -> 0 | BB29: =IF($BC$3="４週",AZ29/4,IF($BC$3="暦月",(AZ29/($BC$8/7)),"")) -> 0
P30: シフト記号
B31: =B28+1 -> 4 | F31: =C30 -> 0 | P31: 日中の勤務時間数 | U31: =IF(U30="","",VLOOKUP(U30,'シフト記号表（勤務時間帯）'!$D$6:$X$47,21,FALSE)) | V31: =IF(V30="","",VLOOKUP(V30,'シフト記号表（勤務時間帯）'!$D$6:$X$47,21,FALSE)) | W31: =IF(W30="","",VLOOKUP(W30,'シフト記号表（勤務時間帯）'!$D$6:$X$47,21,FALSE)) | X31: =IF(X30="","",VLOOKUP(X30,'シフト記号表（勤務時間帯）'!$D$6:$X$47,21,FALSE)) | Y31: =IF(Y30="","",VLOOKUP(Y30,'シフト記号表（勤務時間帯）'!$D$6:$X$47,21,FALSE)) | Z31: =IF(Z30="","",VLOOKUP(Z30,'シフト記号表（勤務時間帯）'!$D$6:$X$47,21,FALSE)) | AA31: =IF(AA30="","",VLOOKUP(AA30,'シフト記号表（勤務時間帯）'!$D$6:$X$47,21,FALSE)) | AB31: =IF(AB30="","",VLOOKUP(AB30,'シフト記号表（勤務時間帯）'!$D$6:$X$47,21,FALSE)) | ... AY31: =IF(AY30="","",VLOOKUP(AY30,'シフト記号表（勤務時間帯）'!$D$6:$X$47,21,FALSE)) | AZ31: =IF($BC$3="４週",SUM(U31:AV31),IF($BC$3="暦月",SUM(U31:AY31),"")) -> 0 | BB31: =IF($BC$3="４週",AZ31/4,IF($BC$3="暦月",(AZ31/($BC$8/7)),"")) -> 0
G32: =C30 -> 0 | P32: 夜間・深夜の勤務時間数 | U32: =IF(U30="","",VLOOKUP(U30,'シフト記号表（勤務時間帯）'!$D$6:$Z$47,23,FALSE)) | V32: =IF(V30="","",VLOOKUP(V30,'シフト記号表（勤務時間帯）'!$D$6:$Z$47,23,FALSE)) | W32: =IF(W30="","",VLOOKUP(W30,'シフト記号表（勤務時間帯）'!$D$6:$Z$47,23,FALSE)) | X32: =IF(X30="","",VLOOKUP(X30,'シフト記号表（勤務時間帯）'!$D$6:$Z$47,23,FALSE)) | Y32: =IF(Y30="","",VLOOKUP(Y30,'シフト記号表（勤務時間帯）'!$D$6:$Z$47,23,FALSE)) | Z32: =IF(Z30="","",VLOOKUP(Z30,'シフト記号表（勤務時間帯）'!$D$6:$Z$47,23,FALSE)) | AA32: =IF(AA30="","",VLOOKUP(AA30,'シフト記号表（勤務時間帯）'!$D$6:$Z$47,23,FALSE)) | AB32: =IF(AB30="","",VLOOKUP(AB30,'シフト記号表（勤務時間帯）'!$D$6:$Z$47,23,FALSE)) | ... AY32: =IF(AY30="","",VLOOKUP(AY30,'シフト記号表（勤務時間帯）'!$D$6:$Z$47,23,FALSE)) | AZ32: =IF($BC$3="４週",SUM(U32:AV32),IF($BC$3="暦月",SUM(U32:AY32),"")) -> 0 | BB32: =IF($BC$3="４週",AZ32/4,IF($BC$3="暦月",(AZ32/($BC$8/7)),"")) -> 0
P33: シフト記号
B34: =B31+1 -> 5 | F34: =C33 -> 0 | P34: 日中の勤務時間数 | U34: =IF(U33="","",VLOOKUP(U33,'シフト記号表（勤務時間帯）'!$D$6:$X$47,21,FALSE)) | V34: =IF(V33="","",VLOOKUP(V33,'シフト記号表（勤務時間帯）'!$D$6:$X$47,21,FALSE)) | W34: =IF(W33="","",VLOOKUP(W33,'シフト記号表（勤務時間帯）'!$D$6:$X$47,21,FALSE)) | X34: =IF(X33="","",VLOOKUP(X33,'シフト記号表（勤務時間帯）'!$D$6:$X$47,21,FALSE)) | Y34: =IF(Y33="","",VLOOKUP(Y33,'シフト記号表（勤務時間帯）'!$D$6:$X$47,21,FALSE)) | Z34: =IF(Z33="","",VLOOKUP(Z33,'シフト記号表（勤務時間帯）'!$D$6:$X$47,21,FALSE)) | AA34: =IF(AA33="","",VLOOKUP(AA33,'シフト記号表（勤務時間帯）'!$D$6:$X$47,21,FALSE)) | AB34: =IF(AB33="","",VLOOKUP(AB33,'シフト記号表（勤務時間帯）'!$D$6:$X$47,21,FALSE)) | ... AY34: =IF(AY33="","",VLOOKUP(AY33,'シフト記号表（勤務時間帯）'!$D$6:$X$47,21,FALSE)) | AZ34: =IF($BC$3="４週",SUM(U34:AV34),IF($BC$3="暦月",SUM(U34:AY34),"")) -> 0 | BB34: =IF($BC$3="４週",AZ34/4,IF($BC$3="暦月",(AZ34/($BC$8/7)),"")) -> 0
G35: =C33 -> 0 | P35: 夜間・深夜の勤務時間数 | U35: =IF(U33="","",VLOOKUP(U33,'シフト記号表（勤務時間帯）'!$D$6:$Z$47,23,FALSE)) | V35: =IF(V33="","",VLOOKUP(V33,'シフト記号表（勤務時間帯）'!$D$6:$Z$47,23,FALSE)) | W35: =IF(W33="","",VLOOKUP(W33,'シフト記号表（勤務時間帯）'!$D$6:$Z$47,23,FALSE)) | X35: =IF(X33="","",VLOOKUP(X33,'シフト記号表（勤務時間帯）'!$D$6:$Z$47,23,FALSE)) | Y35: =IF(Y33="","",VLOOKUP(Y33,'シフト記号表（勤務時間帯）'!$D$6:$Z$47,23,FALSE)) | Z35: =IF(Z33="","",VLOOKUP(Z33,'シフト記号表（勤務時間帯）'!$D$6:$Z$47,23,FALSE)) | AA35: =IF(AA33="","",VLOOKUP(AA33,'シフト記号表（勤務時間帯）'!$D$6:$Z$47,23,FALSE)) | AB35: =IF(AB33="","",VLOOKUP(AB33,'シフト記号表（勤務時間帯）'!$D$6:$Z$47,23,FALSE)) | ... AY35: =IF(AY33="","",VLOOKUP(AY33,'シフト記号表（勤務時間帯）'!$D$6:$Z$47,23,FALSE)) | AZ35: =IF($BC$3="４週",SUM(U35:AV35),IF($BC$3="暦月",SUM(U35:AY35),"")) -> 0 | BB35: =IF($BC$3="４週",AZ35/4,IF($BC$3="暦月",(AZ35/($BC$8/7)),"")) -> 0
P36: シフト記号
B37: =B34+1 -> 6 | F37: =C36 -> 0 | P37: 日中の勤務時間数 | U37: =IF(U36="","",VLOOKUP(U36,'シフト記号表（勤務時間帯）'!$D$6:$X$47,21,FALSE)) | V37: =IF(V36="","",VLOOKUP(V36,'シフト記号表（勤務時間帯）'!$D$6:$X$47,21,FALSE)) | W37: =IF(W36="","",VLOOKUP(W36,'シフト記号表（勤務時間帯）'!$D$6:$X$47,21,FALSE)) | X37: =IF(X36="","",VLOOKUP(X36,'シフト記号表（勤務時間帯）'!$D$6:$X$47,21,FALSE)) | Y37: =IF(Y36="","",VLOOKUP(Y36,'シフト記号表（勤務時間帯）'!$D$6:$X$47,21,FALSE)) | Z37: =IF(Z36="","",VLOOKUP(Z36,'シフト記号表（勤務時間帯）'!$D$6:$X$47,21,FALSE)) | AA37: =IF(AA36="","",VLOOKUP(AA36,'シフト記号表（勤務時間帯）'!$D$6:$X$47,21,FALSE)) | AB37: =IF(AB36="","",VLOOKUP(AB36,'シフト記号表（勤務時間帯）'!$D$6:$X$47,21,FALSE)) | ... AY37: =IF(AY36="","",VLOOKUP(AY36,'シフト記号表（勤務時間帯）'!$D$6:$X$47,21,FALSE)) | AZ37: =IF($BC$3="４週",SUM(U37:AV37),IF($BC$3="暦月",SUM(U37:AY37),"")) -> 0 | BB37: =IF($BC$3="４週",AZ37/4,IF($BC$3="暦月",(AZ37/($BC$8/7)),"")) -> 0
G38: =C36 -> 0 | P38: 夜間・深夜の勤務時間数 | U38: =IF(U36="","",VLOOKUP(U36,'シフト記号表（勤務時間帯）'!$D$6:$Z$47,23,FALSE)) | V38: =IF(V36="","",VLOOKUP(V36,'シフト記号表（勤務時間帯）'!$D$6:$Z$47,23,FALSE)) | W38: =IF(W36="","",VLOOKUP(W36,'シフト記号表（勤務時間帯）'!$D$6:$Z$47,23,FALSE)) | X38: =IF(X36="","",VLOOKUP(X36,'シフト記号表（勤務時間帯）'!$D$6:$Z$47,23,FALSE)) | Y38: =IF(Y36="","",VLOOKUP(Y36,'シフト記号表（勤務時間帯）'!$D$6:$Z$47,23,FALSE)) | Z38: =IF(Z36="","",VLOOKUP(Z36,'シフト記号表（勤務時間帯）'!$D$6:$Z$47,23,FALSE)) | AA38: =IF(AA36="","",VLOOKUP(AA36,'シフト記号表（勤務時間帯）'!$D$6:$Z$47,23,FALSE)) | AB38: =IF(AB36="","",VLOOKUP(AB36,'シフト記号表（勤務時間帯）'!$D$6:$Z$47,23,FALSE)) | ... AY38: =IF(AY36="","",VLOOKUP(AY36,'シフト記号表（勤務時間帯）'!$D$6:$Z$47,23,FALSE)) | AZ38: =IF($BC$3="４週",SUM(U38:AV38),IF($BC$3="暦月",SUM(U38:AY38),"")) -> 0 | BB38: =IF($BC$3="４週",AZ38/4,IF($BC$3="暦月",(AZ38/($BC$8/7)),"")) -> 0
P39: シフト記号
B40: =B37+1 -> 7 | F40: =C39 -> 0 | P40: 日中の勤務時間数 | U40: =IF(U39="","",VLOOKUP(U39,'シフト記号表（勤務時間帯）'!$D$6:$X$47,21,FALSE)) | V40: =IF(V39="","",VLOOKUP(V39,'シフト記号表（勤務時間帯）'!$D$6:$X$47,21,FALSE)) | W40: =IF(W39="","",VLOOKUP(W39,'シフト記号表（勤務時間帯）'!$D$6:$X$47,21,FALSE)) | X40: =IF(X39="","",VLOOKUP(X39,'シフト記号表（勤務時間帯）'!$D$6:$X$47,21,FALSE)) | Y40: =IF(Y39="","",VLOOKUP(Y39,'シフト記号表（勤務時間帯）'!$D$6:$X$47,21,FALSE)) | Z40: =IF(Z39="","",VLOOKUP(Z39,'シフト記号表（勤務時間帯）'!$D$6:$X$47,21,FALSE)) | AA40: =IF(AA39="","",VLOOKUP(AA39,'シフト記号表（勤務時間帯）'!$D$6:$X$47,21,FALSE)) | AB40: =IF(AB39="","",VLOOKUP(AB39,'シフト記号表（勤務時間帯）'!$D$6:$X$47,21,FALSE)) | ... AY40: =IF(AY39="","",VLOOKUP(AY39,'シフト記号表（勤務時間帯）'!$D$6:$X$47,21,FALSE)) | AZ40: =IF($BC$3="４週",SUM(U40:AV40),IF($BC$3="暦月",SUM(U40:AY40),"")) -> 0 | BB40: =IF($BC$3="４週",AZ40/4,IF($BC$3="暦月",(AZ40/($BC$8/7)),"")) -> 0
G41: =C39 -> 0 | P41: 夜間・深夜の勤務時間数 | U41: =IF(U39="","",VLOOKUP(U39,'シフト記号表（勤務時間帯）'!$D$6:$Z$47,23,FALSE)) | V41: =IF(V39="","",VLOOKUP(V39,'シフト記号表（勤務時間帯）'!$D$6:$Z$47,23,FALSE)) | W41: =IF(W39="","",VLOOKUP(W39,'シフト記号表（勤務時間帯）'!$D$6:$Z$47,23,FALSE)) | X41: =IF(X39="","",VLOOKUP(X39,'シフト記号表（勤務時間帯）'!$D$6:$Z$47,23,FALSE)) | Y41: =IF(Y39="","",VLOOKUP(Y39,'シフト記号表（勤務時間帯）'!$D$6:$Z$47,23,FALSE)) | Z41: =IF(Z39="","",VLOOKUP(Z39,'シフト記号表（勤務時間帯）'!$D$6:$Z$47,23,FALSE)) | AA41: =IF(AA39="","",VLOOKUP(AA39,'シフト記号表（勤務時間帯）'!$D$6:$Z$47,23,FALSE)) | AB41: =IF(AB39="","",VLOOKUP(AB39,'シフト記号表（勤務時間帯）'!$D$6:$Z$47,23,FALSE)) | ... AY41: =IF(AY39="","",VLOOKUP(AY39,'シフト記号表（勤務時間帯）'!$D$6:$Z$47,23,FALSE)) | AZ41: =IF($BC$3="４週",SUM(U41:AV41),IF($BC$3="暦月",SUM(U41:AY41),"")) -> 0 | BB41: =IF($BC$3="４週",AZ41/4,IF($BC$3="暦月",(AZ41/($BC$8/7)),"")) -> 0
P42: シフト記号
B43: =B40+1 -> 8 | F43: =C42 -> 0 | P43: 日中の勤務時間数 | U43: =IF(U42="","",VLOOKUP(U42,'シフト記号表（勤務時間帯）'!$D$6:$X$47,21,FALSE)) | V43: =IF(V42="","",VLOOKUP(V42,'シフト記号表（勤務時間帯）'!$D$6:$X$47,21,FALSE)) | W43: =IF(W42="","",VLOOKUP(W42,'シフト記号表（勤務時間帯）'!$D$6:$X$47,21,FALSE)) | X43: =IF(X42="","",VLOOKUP(X42,'シフト記号表（勤務時間帯）'!$D$6:$X$47,21,FALSE)) | Y43: =IF(Y42="","",VLOOKUP(Y42,'シフト記号表（勤務時間帯）'!$D$6:$X$47,21,FALSE)) | Z43: =IF(Z42="","",VLOOKUP(Z42,'シフト記号表（勤務時間帯）'!$D$6:$X$47,21,FALSE)) | AA43: =IF(AA42="","",VLOOKUP(AA42,'シフト記号表（勤務時間帯）'!$D$6:$X$47,21,FALSE)) | AB43: =IF(AB42="","",VLOOKUP(AB42,'シフト記号表（勤務時間帯）'!$D$6:$X$47,21,FALSE)) | ... AY43: =IF(AY42="","",VLOOKUP(AY42,'シフト記号表（勤務時間帯）'!$D$6:$X$47,21,FALSE)) | AZ43: =IF($BC$3="４週",SUM(U43:AV43),IF($BC$3="暦月",SUM(U43:AY43),"")) -> 0 | BB43: =IF($BC$3="４週",AZ43/4,IF($BC$3="暦月",(AZ43/($BC$8/7)),"")) -> 0
G44: =C42 -> 0 | P44: 夜間・深夜の勤務時間数 | U44: =IF(U42="","",VLOOKUP(U42,'シフト記号表（勤務時間帯）'!$D$6:$Z$47,23,FALSE)) | V44: =IF(V42="","",VLOOKUP(V42,'シフト記号表（勤務時間帯）'!$D$6:$Z$47,23,FALSE)) | W44: =IF(W42="","",VLOOKUP(W42,'シフト記号表（勤務時間帯）'!$D$6:$Z$47,23,FALSE)) | X44: =IF(X42="","",VLOOKUP(X42,'シフト記号表（勤務時間帯）'!$D$6:$Z$47,23,FALSE)) | Y44: =IF(Y42="","",VLOOKUP(Y42,'シフト記号表（勤務時間帯）'!$D$6:$Z$47,23,FALSE)) | Z44: =IF(Z42="","",VLOOKUP(Z42,'シフト記号表（勤務時間帯）'!$D$6:$Z$47,23,FALSE)) | AA44: =IF(AA42="","",VLOOKUP(AA42,'シフト記号表（勤務時間帯）'!$D$6:$Z$47,23,FALSE)) | AB44: =IF(AB42="","",VLOOKUP(AB42,'シフト記号表（勤務時間帯）'!$D$6:$Z$47,23,FALSE)) | ... AY44: =IF(AY42="","",VLOOKUP(AY42,'シフト記号表（勤務時間帯）'!$D$6:$Z$47,23,FALSE)) | AZ44: =IF($BC$3="４週",SUM(U44:AV44),IF($BC$3="暦月",SUM(U44:AY44),"")) -> 0 | BB44: =IF($BC$3="４週",AZ44/4,IF($BC$3="暦月",(AZ44/($BC$8/7)),"")) -> 0
P45: シフト記号
B46: =B43+1 -> 9 | F46: =C45 -> 0 | P46: 日中の勤務時間数 | U46: =IF(U45="","",VLOOKUP(U45,'シフト記号表（勤務時間帯）'!$D$6:$X$47,21,FALSE)) | V46: =IF(V45="","",VLOOKUP(V45,'シフト記号表（勤務時間帯）'!$D$6:$X$47,21,FALSE)) | W46: =IF(W45="","",VLOOKUP(W45,'シフト記号表（勤務時間帯）'!$D$6:$X$47,21,FALSE)) | X46: =IF(X45="","",VLOOKUP(X45,'シフト記号表（勤務時間帯）'!$D$6:$X$47,21,FALSE)) | Y46: =IF(Y45="","",VLOOKUP(Y45,'シフト記号表（勤務時間帯）'!$D$6:$X$47,21,FALSE)) | Z46: =IF(Z45="","",VLOOKUP(Z45,'シフト記号表（勤務時間帯）'!$D$6:$X$47,21,FALSE)) | AA46: =IF(AA45="","",VLOOKUP(AA45,'シフト記号表（勤務時間帯）'!$D$6:$X$47,21,FALSE)) | AB46: =IF(AB45="","",VLOOKUP(AB45,'シフト記号表（勤務時間帯）'!$D$6:$X$47,21,FALSE)) | ... AY46: =IF(AY45="","",VLOOKUP(AY45,'シフト記号表（勤務時間帯）'!$D$6:$X$47,21,FALSE)) | AZ46: =IF($BC$3="４週",SUM(U46:AV46),IF($BC$3="暦月",SUM(U46:AY46),"")) -> 0 | BB46: =IF($BC$3="４週",AZ46/4,IF($BC$3="暦月",(AZ46/($BC$8/7)),"")) -> 0
G47: =C45 -> 0 | P47: 夜間・深夜の勤務時間数 | U47: =IF(U45="","",VLOOKUP(U45,'シフト記号表（勤務時間帯）'!$D$6:$Z$47,23,FALSE)) | V47: =IF(V45="","",VLOOKUP(V45,'シフト記号表（勤務時間帯）'!$D$6:$Z$47,23,FALSE)) | W47: =IF(W45="","",VLOOKUP(W45,'シフト記号表（勤務時間帯）'!$D$6:$Z$47,23,FALSE)) | X47: =IF(X45="","",VLOOKUP(X45,'シフト記号表（勤務時間帯）'!$D$6:$Z$47,23,FALSE)) | Y47: =IF(Y45="","",VLOOKUP(Y45,'シフト記号表（勤務時間帯）'!$D$6:$Z$47,23,FALSE)) | Z47: =IF(Z45="","",VLOOKUP(Z45,'シフト記号表（勤務時間帯）'!$D$6:$Z$47,23,FALSE)) | AA47: =IF(AA45="","",VLOOKUP(AA45,'シフト記号表（勤務時間帯）'!$D$6:$Z$47,23,FALSE)) | AB47: =IF(AB45="","",VLOOKUP(AB45,'シフト記号表（勤務時間帯）'!$D$6:$Z$47,23,FALSE)) | ... AY47: =IF(AY45="","",VLOOKUP(AY45,'シフト記号表（勤務時間帯）'!$D$6:$Z$47,23,FALSE)) | AZ47: =IF($BC$3="４週",SUM(U47:AV47),IF($BC$3="暦月",SUM(U47:AY47),"")) -> 0 | BB47: =IF($BC$3="４週",AZ47/4,IF($BC$3="暦月",(AZ47/($BC$8/7)),"")) -> 0
P48: シフト記号
B49: =B46+1 -> 10 | F49: =C48 -> 0 | P49: 日中の勤務時間数 | U49: =IF(U48="","",VLOOKUP(U48,'シフト記号表（勤務時間帯）'!$D$6:$X$47,21,FALSE)) | V49: =IF(V48="","",VLOOKUP(V48,'シフト記号表（勤務時間帯）'!$D$6:$X$47,21,FALSE)) | W49: =IF(W48="","",VLOOKUP(W48,'シフト記号表（勤務時間帯）'!$D$6:$X$47,21,FALSE)) | X49: =IF(X48="","",VLOOKUP(X48,'シフト記号表（勤務時間帯）'!$D$6:$X$47,21,FALSE)) | Y49: =IF(Y48="","",VLOOKUP(Y48,'シフト記号表（勤務時間帯）'!$D$6:$X$47,21,FALSE)) | Z49: =IF(Z48="","",VLOOKUP(Z48,'シフト記号表（勤務時間帯）'!$D$6:$X$47,21,FALSE)) | AA49: =IF(AA48="","",VLOOKUP(AA48,'シフト記号表（勤務時間帯）'!$D$6:$X$47,21,FALSE)) | AB49: =IF(AB48="","",VLOOKUP(AB48,'シフト記号表（勤務時間帯）'!$D$6:$X$47,21,FALSE)) | ... AY49: =IF(AY48="","",VLOOKUP(AY48,'シフト記号表（勤務時間帯）'!$D$6:$X$47,21,FALSE)) | AZ49: =IF($BC$3="４週",SUM(U49:AV49),IF($BC$3="暦月",SUM(U49:AY49),"")) -> 0 | BB49: =IF($BC$3="４週",AZ49/4,IF($BC$3="暦月",(AZ49/($BC$8/7)),"")) -> 0
G50: =C48 -> 0 | P50: 夜間・深夜の勤務時間数 | U50: =IF(U48="","",VLOOKUP(U48,'シフト記号表（勤務時間帯）'!$D$6:$Z$47,23,FALSE)) | V50: =IF(V48="","",VLOOKUP(V48,'シフト記号表（勤務時間帯）'!$D$6:$Z$47,23,FALSE)) | W50: =IF(W48="","",VLOOKUP(W48,'シフト記号表（勤務時間帯）'!$D$6:$Z$47,23,FALSE)) | X50: =IF(X48="","",VLOOKUP(X48,'シフト記号表（勤務時間帯）'!$D$6:$Z$47,23,FALSE)) | Y50: =IF(Y48="","",VLOOKUP(Y48,'シフト記号表（勤務時間帯）'!$D$6:$Z$47,23,FALSE)) | Z50: =IF(Z48="","",VLOOKUP(Z48,'シフト記号表（勤務時間帯）'!$D$6:$Z$47,23,FALSE)) | AA50: =IF(AA48="","",VLOOKUP(AA48,'シフト記号表（勤務時間帯）'!$D$6:$Z$47,23,FALSE)) | AB50: =IF(AB48="","",VLOOKUP(AB48,'シフト記号表（勤務時間帯）'!$D$6:$Z$47,23,FALSE)) | ... AY50: =IF(AY48="","",VLOOKUP(AY48,'シフト記号表（勤務時間帯）'!$D$6:$Z$47,23,FALSE)) | AZ50: =IF($BC$3="４週",SUM(U50:AV50),IF($BC$3="暦月",SUM(U50:AY50),"")) -> 0 | BB50: =IF($BC$3="４週",AZ50/4,IF($BC$3="暦月",(AZ50/($BC$8/7)),"")) -> 0
P51: シフト記号
B52: =B49+1 -> 11 | F52: =C51 -> 0 | P52: 日中の勤務時間数 | U52: =IF(U51="","",VLOOKUP(U51,'シフト記号表（勤務時間帯）'!$D$6:$X$47,21,FALSE)) | V52: =IF(V51="","",VLOOKUP(V51,'シフト記号表（勤務時間帯）'!$D$6:$X$47,21,FALSE)) | W52: =IF(W51="","",VLOOKUP(W51,'シフト記号表（勤務時間帯）'!$D$6:$X$47,21,FALSE)) | X52: =IF(X51="","",VLOOKUP(X51,'シフト記号表（勤務時間帯）'!$D$6:$X$47,21,FALSE)) | Y52: =IF(Y51="","",VLOOKUP(Y51,'シフト記号表（勤務時間帯）'!$D$6:$X$47,21,FALSE)) | Z52: =IF(Z51="","",VLOOKUP(Z51,'シフト記号表（勤務時間帯）'!$D$6:$X$47,21,FALSE)) | AA52: =IF(AA51="","",VLOOKUP(AA51,'シフト記号表（勤務時間帯）'!$D$6:$X$47,21,FALSE)) | AB52: =IF(AB51="","",VLOOKUP(AB51,'シフト記号表（勤務時間帯）'!$D$6:$X$47,21,FALSE)) | ... AY52: =IF(AY51="","",VLOOKUP(AY51,'シフト記号表（勤務時間帯）'!$D$6:$X$47,21,FALSE)) | AZ52: =IF($BC$3="４週",SUM(U52:AV52),IF($BC$3="暦月",SUM(U52:AY52),"")) -> 0 | BB52: =IF($BC$3="４週",AZ52/4,IF($BC$3="暦月",(AZ52/($BC$8/7)),"")) -> 0
G53: =C51 -> 0 | P53: 夜間・深夜の勤務時間数 | U53: =IF(U51="","",VLOOKUP(U51,'シフト記号表（勤務時間帯）'!$D$6:$Z$47,23,FALSE)) | V53: =IF(V51="","",VLOOKUP(V51,'シフト記号表（勤務時間帯）'!$D$6:$Z$47,23,FALSE)) | W53: =IF(W51="","",VLOOKUP(W51,'シフト記号表（勤務時間帯）'!$D$6:$Z$47,23,FALSE)) | X53: =IF(X51="","",VLOOKUP(X51,'シフト記号表（勤務時間帯）'!$D$6:$Z$47,23,FALSE)) | Y53: =IF(Y51="","",VLOOKUP(Y51,'シフト記号表（勤務時間帯）'!$D$6:$Z$47,23,FALSE)) | Z53: =IF(Z51="","",VLOOKUP(Z51,'シフト記号表（勤務時間帯）'!$D$6:$Z$47,23,FALSE)) | AA53: =IF(AA51="","",VLOOKUP(AA51,'シフト記号表（勤務時間帯）'!$D$6:$Z$47,23,FALSE)) | AB53: =IF(AB51="","",VLOOKUP(AB51,'シフト記号表（勤務時間帯）'!$D$6:$Z$47,23,FALSE)) | ... AY53: =IF(AY51="","",VLOOKUP(AY51,'シフト記号表（勤務時間帯）'!$D$6:$Z$47,23,FALSE)) | AZ53: =IF($BC$3="４週",SUM(U53:AV53),IF($BC$3="暦月",SUM(U53:AY53),"")) -> 0 | BB53: =IF($BC$3="４週",AZ53/4,IF($BC$3="暦月",(AZ53/($BC$8/7)),"")) -> 0
P54: シフト記号
B55: =B52+1 -> 12 | F55: =C54 -> 0 | P55: 日中の勤務時間数 | U55: =IF(U54="","",VLOOKUP(U54,'シフト記号表（勤務時間帯）'!$D$6:$X$47,21,FALSE)) | V55: =IF(V54="","",VLOOKUP(V54,'シフト記号表（勤務時間帯）'!$D$6:$X$47,21,FALSE)) | W55: =IF(W54="","",VLOOKUP(W54,'シフト記号表（勤務時間帯）'!$D$6:$X$47,21,FALSE)) | X55: =IF(X54="","",VLOOKUP(X54,'シフト記号表（勤務時間帯）'!$D$6:$X$47,21,FALSE)) | Y55: =IF(Y54="","",VLOOKUP(Y54,'シフト記号表（勤務時間帯）'!$D$6:$X$47,21,FALSE)) | Z55: =IF(Z54="","",VLOOKUP(Z54,'シフト記号表（勤務時間帯）'!$D$6:$X$47,21,FALSE)) | AA55: =IF(AA54="","",VLOOKUP(AA54,'シフト記号表（勤務時間帯）'!$D$6:$X$47,21,FALSE)) | AB55: =IF(AB54="","",VLOOKUP(AB54,'シフト記号表（勤務時間帯）'!$D$6:$X$47,21,FALSE)) | ... AY55: =IF(AY54="","",VLOOKUP(AY54,'シフト記号表（勤務時間帯）'!$D$6:$X$47,21,FALSE)) | AZ55: =IF($BC$3="４週",SUM(U55:AV55),IF($BC$3="暦月",SUM(U55:AY55),"")) -> 0 | BB55: =IF($BC$3="４週",AZ55/4,IF($BC$3="暦月",(AZ55/($BC$8/7)),"")) -> 0
G56: =C54 -> 0 | P56: 夜間・深夜の勤務時間数 | U56: =IF(U54="","",VLOOKUP(U54,'シフト記号表（勤務時間帯）'!$D$6:$Z$47,23,FALSE)) | V56: =IF(V54="","",VLOOKUP(V54,'シフト記号表（勤務時間帯）'!$D$6:$Z$47,23,FALSE)) | W56: =IF(W54="","",VLOOKUP(W54,'シフト記号表（勤務時間帯）'!$D$6:$Z$47,23,FALSE)) | X56: =IF(X54="","",VLOOKUP(X54,'シフト記号表（勤務時間帯）'!$D$6:$Z$47,23,FALSE)) | Y56: =IF(Y54="","",VLOOKUP(Y54,'シフト記号表（勤務時間帯）'!$D$6:$Z$47,23,FALSE)) | Z56: =IF(Z54="","",VLOOKUP(Z54,'シフト記号表（勤務時間帯）'!$D$6:$Z$47,23,FALSE)) | AA56: =IF(AA54="","",VLOOKUP(AA54,'シフト記号表（勤務時間帯）'!$D$6:$Z$47,23,FALSE)) | AB56: =IF(AB54="","",VLOOKUP(AB54,'シフト記号表（勤務時間帯）'!$D$6:$Z$47,23,FALSE)) | ... AY56: =IF(AY54="","",VLOOKUP(AY54,'シフト記号表（勤務時間帯）'!$D$6:$Z$47,23,FALSE)) | AZ56: =IF($BC$3="４週",SUM(U56:AV56),IF($BC$3="暦月",SUM(U56:AY56),"")) -> 0 | BB56: =IF($BC$3="４週",AZ56/4,IF($BC$3="暦月",(AZ56/($BC$8/7)),"")) -> 0
P57: シフト記号
B58: =B55+1 -> 13 | F58: =C57 -> 0 | P58: 日中の勤務時間数 | U58: =IF(U57="","",VLOOKUP(U57,'シフト記号表（勤務時間帯）'!$D$6:$X$47,21,FALSE)) | V58: =IF(V57="","",VLOOKUP(V57,'シフト記号表（勤務時間帯）'!$D$6:$X$47,21,FALSE)) | W58: =IF(W57="","",VLOOKUP(W57,'シフト記号表（勤務時間帯）'!$D$6:$X$47,21,FALSE)) | X58: =IF(X57="","",VLOOKUP(X57,'シフト記号表（勤務時間帯）'!$D$6:$X$47,21,FALSE)) | Y58: =IF(Y57="","",VLOOKUP(Y57,'シフト記号表（勤務時間帯）'!$D$6:$X$47,21,FALSE)) | Z58: =IF(Z57="","",VLOOKUP(Z57,'シフト記号表（勤務時間帯）'!$D$6:$X$47,21,FALSE)) | AA58: =IF(AA57="","",VLOOKUP(AA57,'シフト記号表（勤務時間帯）'!$D$6:$X$47,21,FALSE)) | AB58: =IF(AB57="","",VLOOKUP(AB57,'シフト記号表（勤務時間帯）'!$D$6:$X$47,21,FALSE)) | ... AY58: =IF(AY57="","",VLOOKUP(AY57,'シフト記号表（勤務時間帯）'!$D$6:$X$47,21,FALSE)) | AZ58: =IF($BC$3="４週",SUM(U58:AV58),IF($BC$3="暦月",SUM(U58:AY58),"")) -> 0 | BB58: =IF($BC$3="４週",AZ58/4,IF($BC$3="暦月",(AZ58/($BC$8/7)),"")) -> 0
G59: =C57 -> 0 | P59: 夜間・深夜の勤務時間数 | U59: =IF(U57="","",VLOOKUP(U57,'シフト記号表（勤務時間帯）'!$D$6:$Z$47,23,FALSE)) | V59: =IF(V57="","",VLOOKUP(V57,'シフト記号表（勤務時間帯）'!$D$6:$Z$47,23,FALSE)) | W59: =IF(W57="","",VLOOKUP(W57,'シフト記号表（勤務時間帯）'!$D$6:$Z$47,23,FALSE)) | X59: =IF(X57="","",VLOOKUP(X57,'シフト記号表（勤務時間帯）'!$D$6:$Z$47,23,FALSE)) | Y59: =IF(Y57="","",VLOOKUP(Y57,'シフト記号表（勤務時間帯）'!$D$6:$Z$47,23,FALSE)) | Z59: =IF(Z57="","",VLOOKUP(Z57,'シフト記号表（勤務時間帯）'!$D$6:$Z$47,23,FALSE)) | AA59: =IF(AA57="","",VLOOKUP(AA57,'シフト記号表（勤務時間帯）'!$D$6:$Z$47,23,FALSE)) | AB59: =IF(AB57="","",VLOOKUP(AB57,'シフト記号表（勤務時間帯）'!$D$6:$Z$47,23,FALSE)) | ... AY59: =IF(AY57="","",VLOOKUP(AY57,'シフト記号表（勤務時間帯）'!$D$6:$Z$47,23,FALSE)) | AZ59: =IF($BC$3="４週",SUM(U59:AV59),IF($BC$3="暦月",SUM(U59:AY59),"")) -> 0 | BB59: =IF($BC$3="４週",AZ59/4,IF($BC$3="暦月",(AZ59/($BC$8/7)),"")) -> 0
P60: シフト記号
B61: =B58+1 -> 14 | F61: =C60 -> 0 | P61: 日中の勤務時間数 | U61: =IF(U60="","",VLOOKUP(U60,'シフト記号表（勤務時間帯）'!$D$6:$X$47,21,FALSE)) | V61: =IF(V60="","",VLOOKUP(V60,'シフト記号表（勤務時間帯）'!$D$6:$X$47,21,FALSE)) | W61: =IF(W60="","",VLOOKUP(W60,'シフト記号表（勤務時間帯）'!$D$6:$X$47,21,FALSE)) | X61: =IF(X60="","",VLOOKUP(X60,'シフト記号表（勤務時間帯）'!$D$6:$X$47,21,FALSE)) | Y61: =IF(Y60="","",VLOOKUP(Y60,'シフト記号表（勤務時間帯）'!$D$6:$X$47,21,FALSE)) | Z61: =IF(Z60="","",VLOOKUP(Z60,'シフト記号表（勤務時間帯）'!$D$6:$X$47,21,FALSE)) | AA61: =IF(AA60="","",VLOOKUP(AA60,'シフト記号表（勤務時間帯）'!$D$6:$X$47,21,FALSE)) | AB61: =IF(AB60="","",VLOOKUP(AB60,'シフト記号表（勤務時間帯）'!$D$6:$X$47,21,FALSE)) | ... AY61: =IF(AY60="","",VLOOKUP(AY60,'シフト記号表（勤務時間帯）'!$D$6:$X$47,21,FALSE)) | AZ61: =IF($BC$3="４週",SUM(U61:AV61),IF($BC$3="暦月",SUM(U61:AY61),"")) -> 0 | BB61: =IF($BC$3="４週",AZ61/4,IF($BC$3="暦月",(AZ61/($BC$8/7)),"")) -> 0
G62: =C60 -> 0 | P62: 夜間・深夜の勤務時間数 | U62: =IF(U60="","",VLOOKUP(U60,'シフト記号表（勤務時間帯）'!$D$6:$Z$47,23,FALSE)) | V62: =IF(V60="","",VLOOKUP(V60,'シフト記号表（勤務時間帯）'!$D$6:$Z$47,23,FALSE)) | W62: =IF(W60="","",VLOOKUP(W60,'シフト記号表（勤務時間帯）'!$D$6:$Z$47,23,FALSE)) | X62: =IF(X60="","",VLOOKUP(X60,'シフト記号表（勤務時間帯）'!$D$6:$Z$47,23,FALSE)) | Y62: =IF(Y60="","",VLOOKUP(Y60,'シフト記号表（勤務時間帯）'!$D$6:$Z$47,23,FALSE)) | Z62: =IF(Z60="","",VLOOKUP(Z60,'シフト記号表（勤務時間帯）'!$D$6:$Z$47,23,FALSE)) | AA62: =IF(AA60="","",VLOOKUP(AA60,'シフト記号表（勤務時間帯）'!$D$6:$Z$47,23,FALSE)) | AB62: =IF(AB60="","",VLOOKUP(AB60,'シフト記号表（勤務時間帯）'!$D$6:$Z$47,23,FALSE)) | ... AY62: =IF(AY60="","",VLOOKUP(AY60,'シフト記号表（勤務時間帯）'!$D$6:$Z$47,23,FALSE)) | AZ62: =IF($BC$3="４週",SUM(U62:AV62),IF($BC$3="暦月",SUM(U62:AY62),"")) -> 0 | BB62: =IF($BC$3="４週",AZ62/4,IF($BC$3="暦月",(AZ62/($BC$8/7)),"")) -> 0
P63: シフト記号
B64: =B61+1 -> 15 | F64: =C63 -> 0 | P64: 日中の勤務時間数 | U64: =IF(U63="","",VLOOKUP(U63,'シフト記号表（勤務時間帯）'!$D$6:$X$47,21,FALSE)) | V64: =IF(V63="","",VLOOKUP(V63,'シフト記号表（勤務時間帯）'!$D$6:$X$47,21,FALSE)) | W64: =IF(W63="","",VLOOKUP(W63,'シフト記号表（勤務時間帯）'!$D$6:$X$47,21,FALSE)) | X64: =IF(X63="","",VLOOKUP(X63,'シフト記号表（勤務時間帯）'!$D$6:$X$47,21,FALSE)) | Y64: =IF(Y63="","",VLOOKUP(Y63,'シフト記号表（勤務時間帯）'!$D$6:$X$47,21,FALSE)) | Z64: =IF(Z63="","",VLOOKUP(Z63,'シフト記号表（勤務時間帯）'!$D$6:$X$47,21,FALSE)) | AA64: =IF(AA63="","",VLOOKUP(AA63,'シフト記号表（勤務時間帯）'!$D$6:$X$47,21,FALSE)) | AB64: =IF(AB63="","",VLOOKUP(AB63,'シフト記号表（勤務時間帯）'!$D$6:$X$47,21,FALSE)) | ... AY64: =IF(AY63="","",VLOOKUP(AY63,'シフト記号表（勤務時間帯）'!$D$6:$X$47,21,FALSE)) | AZ64: =IF($BC$3="４週",SUM(U64:AV64),IF($BC$3="暦月",SUM(U64:AY64),"")) -> 0 | BB64: =IF($BC$3="４週",AZ64/4,IF($BC$3="暦月",(AZ64/($BC$8/7)),"")) -> 0
G65: =C63 -> 0 | P65: 夜間・深夜の勤務時間数 | U65: =IF(U63="","",VLOOKUP(U63,'シフト記号表（勤務時間帯）'!$D$6:$Z$47,23,FALSE)) | V65: =IF(V63="","",VLOOKUP(V63,'シフト記号表（勤務時間帯）'!$D$6:$Z$47,23,FALSE)) | W65: =IF(W63="","",VLOOKUP(W63,'シフト記号表（勤務時間帯）'!$D$6:$Z$47,23,FALSE)) | X65: =IF(X63="","",VLOOKUP(X63,'シフト記号表（勤務時間帯）'!$D$6:$Z$47,23,FALSE)) | Y65: =IF(Y63="","",VLOOKUP(Y63,'シフト記号表（勤務時間帯）'!$D$6:$Z$47,23,FALSE)) | Z65: =IF(Z63="","",VLOOKUP(Z63,'シフト記号表（勤務時間帯）'!$D$6:$Z$47,23,FALSE)) | AA65: =IF(AA63="","",VLOOKUP(AA63,'シフト記号表（勤務時間帯）'!$D$6:$Z$47,23,FALSE)) | AB65: =IF(AB63="","",VLOOKUP(AB63,'シフト記号表（勤務時間帯）'!$D$6:$Z$47,23,FALSE)) | ... AY65: =IF(AY63="","",VLOOKUP(AY63,'シフト記号表（勤務時間帯）'!$D$6:$Z$47,23,FALSE)) | AZ65: =IF($BC$3="４週",SUM(U65:AV65),IF($BC$3="暦月",SUM(U65:AY65),"")) -> 0 | BB65: =IF($BC$3="４週",AZ65/4,IF($BC$3="暦月",(AZ65/($BC$8/7)),"")) -> 0
P66: シフト記号
B67: =B64+1 -> 16 | F67: =C66 -> 0 | P67: 日中の勤務時間数 | U67: =IF(U66="","",VLOOKUP(U66,'シフト記号表（勤務時間帯）'!$D$6:$X$47,21,FALSE)) | V67: =IF(V66="","",VLOOKUP(V66,'シフト記号表（勤務時間帯）'!$D$6:$X$47,21,FALSE)) | W67: =IF(W66="","",VLOOKUP(W66,'シフト記号表（勤務時間帯）'!$D$6:$X$47,21,FALSE)) | X67: =IF(X66="","",VLOOKUP(X66,'シフト記号表（勤務時間帯）'!$D$6:$X$47,21,FALSE)) | Y67: =IF(Y66="","",VLOOKUP(Y66,'シフト記号表（勤務時間帯）'!$D$6:$X$47,21,FALSE)) | Z67: =IF(Z66="","",VLOOKUP(Z66,'シフト記号表（勤務時間帯）'!$D$6:$X$47,21,FALSE)) | AA67: =IF(AA66="","",VLOOKUP(AA66,'シフト記号表（勤務時間帯）'!$D$6:$X$47,21,FALSE)) | AB67: =IF(AB66="","",VLOOKUP(AB66,'シフト記号表（勤務時間帯）'!$D$6:$X$47,21,FALSE)) | ... AY67: =IF(AY66="","",VLOOKUP(AY66,'シフト記号表（勤務時間帯）'!$D$6:$X$47,21,FALSE)) | AZ67: =IF($BC$3="４週",SUM(U67:AV67),IF($BC$3="暦月",SUM(U67:AY67),"")) -> 0 | BB67: =IF($BC$3="４週",AZ67/4,IF($BC$3="暦月",(AZ67/($BC$8/7)),"")) -> 0
G68: =C66 -> 0 | P68: 夜間・深夜の勤務時間数 | U68: =IF(U66="","",VLOOKUP(U66,'シフト記号表（勤務時間帯）'!$D$6:$Z$47,23,FALSE)) | V68: =IF(V66="","",VLOOKUP(V66,'シフト記号表（勤務時間帯）'!$D$6:$Z$47,23,FALSE)) | W68: =IF(W66="","",VLOOKUP(W66,'シフト記号表（勤務時間帯）'!$D$6:$Z$47,23,FALSE)) | X68: =IF(X66="","",VLOOKUP(X66,'シフト記号表（勤務時間帯）'!$D$6:$Z$47,23,FALSE)) | Y68: =IF(Y66="","",VLOOKUP(Y66,'シフト記号表（勤務時間帯）'!$D$6:$Z$47,23,FALSE)) | Z68: =IF(Z66="","",VLOOKUP(Z66,'シフト記号表（勤務時間帯）'!$D$6:$Z$47,23,FALSE)) | AA68: =IF(AA66="","",VLOOKUP(AA66,'シフト記号表（勤務時間帯）'!$D$6:$Z$47,23,FALSE)) | AB68: =IF(AB66="","",VLOOKUP(AB66,'シフト記号表（勤務時間帯）'!$D$6:$Z$47,23,FALSE)) | ... AY68: =IF(AY66="","",VLOOKUP(AY66,'シフト記号表（勤務時間帯）'!$D$6:$Z$47,23,FALSE)) | AZ68: =IF($BC$3="４週",SUM(U68:AV68),IF($BC$3="暦月",SUM(U68:AY68),"")) -> 0 | BB68: =IF($BC$3="４週",AZ68/4,IF($BC$3="暦月",(AZ68/($BC$8/7)),"")) -> 0
P69: シフト記号
B70: =B67+1 -> 17 | F70: =C69 -> 0 | P70: 日中の勤務時間数 | U70: =IF(U69="","",VLOOKUP(U69,'シフト記号表（勤務時間帯）'!$D$6:$X$47,21,FALSE)) | V70: =IF(V69="","",VLOOKUP(V69,'シフト記号表（勤務時間帯）'!$D$6:$X$47,21,FALSE)) | W70: =IF(W69="","",VLOOKUP(W69,'シフト記号表（勤務時間帯）'!$D$6:$X$47,21,FALSE)) | X70: =IF(X69="","",VLOOKUP(X69,'シフト記号表（勤務時間帯）'!$D$6:$X$47,21,FALSE)) | Y70: =IF(Y69="","",VLOOKUP(Y69,'シフト記号表（勤務時間帯）'!$D$6:$X$47,21,FALSE)) | Z70: =IF(Z69="","",VLOOKUP(Z69,'シフト記号表（勤務時間帯）'!$D$6:$X$47,21,FALSE)) | AA70: =IF(AA69="","",VLOOKUP(AA69,'シフト記号表（勤務時間帯）'!$D$6:$X$47,21,FALSE)) | AB70: =IF(AB69="","",VLOOKUP(AB69,'シフト記号表（勤務時間帯）'!$D$6:$X$47,21,FALSE)) | ... AY70: =IF(AY69="","",VLOOKUP(AY69,'シフト記号表（勤務時間帯）'!$D$6:$X$47,21,FALSE)) | AZ70: =IF($BC$3="４週",SUM(U70:AV70),IF($BC$3="暦月",SUM(U70:AY70),"")) -> 0 | BB70: =IF($BC$3="４週",AZ70/4,IF($BC$3="暦月",(AZ70/($BC$8/7)),"")) -> 0
G71: =C69 -> 0 | P71: 夜間・深夜の勤務時間数 | U71: =IF(U69="","",VLOOKUP(U69,'シフト記号表（勤務時間帯）'!$D$6:$Z$47,23,FALSE)) | V71: =IF(V69="","",VLOOKUP(V69,'シフト記号表（勤務時間帯）'!$D$6:$Z$47,23,FALSE)) | W71: =IF(W69="","",VLOOKUP(W69,'シフト記号表（勤務時間帯）'!$D$6:$Z$47,23,FALSE)) | X71: =IF(X69="","",VLOOKUP(X69,'シフト記号表（勤務時間帯）'!$D$6:$Z$47,23,FALSE)) | Y71: =IF(Y69="","",VLOOKUP(Y69,'シフト記号表（勤務時間帯）'!$D$6:$Z$47,23,FALSE)) | Z71: =IF(Z69="","",VLOOKUP(Z69,'シフト記号表（勤務時間帯）'!$D$6:$Z$47,23,FALSE)) | AA71: =IF(AA69="","",VLOOKUP(AA69,'シフト記号表（勤務時間帯）'!$D$6:$Z$47,23,FALSE)) | AB71: =IF(AB69="","",VLOOKUP(AB69,'シフト記号表（勤務時間帯）'!$D$6:$Z$47,23,FALSE)) | ... AY71: =IF(AY69="","",VLOOKUP(AY69,'シフト記号表（勤務時間帯）'!$D$6:$Z$47,23,FALSE)) | AZ71: =IF($BC$3="４週",SUM(U71:AV71),IF($BC$3="暦月",SUM(U71:AY71),"")) -> 0 | BB71: =IF($BC$3="４週",AZ71/4,IF($BC$3="暦月",(AZ71/($BC$8/7)),"")) -> 0
P72: シフト記号
B73: =B70+1 -> 18 | F73: =C72 -> 0 | P73: 日中の勤務時間数 | U73: =IF(U72="","",VLOOKUP(U72,'シフト記号表（勤務時間帯）'!$D$6:$X$47,21,FALSE)) | V73: =IF(V72="","",VLOOKUP(V72,'シフト記号表（勤務時間帯）'!$D$6:$X$47,21,FALSE)) | W73: =IF(W72="","",VLOOKUP(W72,'シフト記号表（勤務時間帯）'!$D$6:$X$47,21,FALSE)) | X73: =IF(X72="","",VLOOKUP(X72,'シフト記号表（勤務時間帯）'!$D$6:$X$47,21,FALSE)) | Y73: =IF(Y72="","",VLOOKUP(Y72,'シフト記号表（勤務時間帯）'!$D$6:$X$47,21,FALSE)) | Z73: =IF(Z72="","",VLOOKUP(Z72,'シフト記号表（勤務時間帯）'!$D$6:$X$47,21,FALSE)) | AA73: =IF(AA72="","",VLOOKUP(AA72,'シフト記号表（勤務時間帯）'!$D$6:$X$47,21,FALSE)) | AB73: =IF(AB72="","",VLOOKUP(AB72,'シフト記号表（勤務時間帯）'!$D$6:$X$47,21,FALSE)) | ... AY73: =IF(AY72="","",VLOOKUP(AY72,'シフト記号表（勤務時間帯）'!$D$6:$X$47,21,FALSE)) | AZ73: =IF($BC$3="４週",SUM(U73:AV73),IF($BC$3="暦月",SUM(U73:AY73),"")) -> 0 | BB73: =IF($BC$3="４週",AZ73/4,IF($BC$3="暦月",(AZ73/($BC$8/7)),"")) -> 0
G74: =C72 -> 0 | P74: 夜間・深夜の勤務時間数 | U74: =IF(U72="","",VLOOKUP(U72,'シフト記号表（勤務時間帯）'!$D$6:$Z$47,23,FALSE)) | V74: =IF(V72="","",VLOOKUP(V72,'シフト記号表（勤務時間帯）'!$D$6:$Z$47,23,FALSE)) | W74: =IF(W72="","",VLOOKUP(W72,'シフト記号表（勤務時間帯）'!$D$6:$Z$47,23,FALSE)) | X74: =IF(X72="","",VLOOKUP(X72,'シフト記号表（勤務時間帯）'!$D$6:$Z$47,23,FALSE)) | Y74: =IF(Y72="","",VLOOKUP(Y72,'シフト記号表（勤務時間帯）'!$D$6:$Z$47,23,FALSE)) | Z74: =IF(Z72="","",VLOOKUP(Z72,'シフト記号表（勤務時間帯）'!$D$6:$Z$47,23,FALSE)) | AA74: =IF(AA72="","",VLOOKUP(AA72,'シフト記号表（勤務時間帯）'!$D$6:$Z$47,23,FALSE)) | AB74: =IF(AB72="","",VLOOKUP(AB72,'シフト記号表（勤務時間帯）'!$D$6:$Z$47,23,FALSE)) | ... AY74: =IF(AY72="","",VLOOKUP(AY72,'シフト記号表（勤務時間帯）'!$D$6:$Z$47,23,FALSE)) | AZ74: =IF($BC$3="４週",SUM(U74:AV74),IF($BC$3="暦月",SUM(U74:AY74),"")) -> 0 | BB74: =IF($BC$3="４週",AZ74/4,IF($BC$3="暦月",(AZ74/($BC$8/7)),"")) -> 0
P75: シフト記号
B76: =B73+1 -> 19 | F76: =C75 -> 0 | P76: 日中の勤務時間数 | U76: =IF(U75="","",VLOOKUP(U75,'シフト記号表（勤務時間帯）'!$D$6:$X$47,21,FALSE)) | V76: =IF(V75="","",VLOOKUP(V75,'シフト記号表（勤務時間帯）'!$D$6:$X$47,21,FALSE)) | W76: =IF(W75="","",VLOOKUP(W75,'シフト記号表（勤務時間帯）'!$D$6:$X$47,21,FALSE)) | X76: =IF(X75="","",VLOOKUP(X75,'シフト記号表（勤務時間帯）'!$D$6:$X$47,21,FALSE)) | Y76: =IF(Y75="","",VLOOKUP(Y75,'シフト記号表（勤務時間帯）'!$D$6:$X$47,21,FALSE)) | Z76: =IF(Z75="","",VLOOKUP(Z75,'シフト記号表（勤務時間帯）'!$D$6:$X$47,21,FALSE)) | AA76: =IF(AA75="","",VLOOKUP(AA75,'シフト記号表（勤務時間帯）'!$D$6:$X$47,21,FALSE)) | AB76: =IF(AB75="","",VLOOKUP(AB75,'シフト記号表（勤務時間帯）'!$D$6:$X$47,21,FALSE)) | ... AY76: =IF(AY75="","",VLOOKUP(AY75,'シフト記号表（勤務時間帯）'!$D$6:$X$47,21,FALSE)) | AZ76: =IF($BC$3="４週",SUM(U76:AV76),IF($BC$3="暦月",SUM(U76:AY76),"")) -> 0 | BB76: =IF($BC$3="４週",AZ76/4,IF($BC$3="暦月",(AZ76/($BC$8/7)),"")) -> 0
G77: =C75 -> 0 | P77: 夜間・深夜の勤務時間数 | U77: =IF(U75="","",VLOOKUP(U75,'シフト記号表（勤務時間帯）'!$D$6:$Z$47,23,FALSE)) | V77: =IF(V75="","",VLOOKUP(V75,'シフト記号表（勤務時間帯）'!$D$6:$Z$47,23,FALSE)) | W77: =IF(W75="","",VLOOKUP(W75,'シフト記号表（勤務時間帯）'!$D$6:$Z$47,23,FALSE)) | X77: =IF(X75="","",VLOOKUP(X75,'シフト記号表（勤務時間帯）'!$D$6:$Z$47,23,FALSE)) | Y77: =IF(Y75="","",VLOOKUP(Y75,'シフト記号表（勤務時間帯）'!$D$6:$Z$47,23,FALSE)) | Z77: =IF(Z75="","",VLOOKUP(Z75,'シフト記号表（勤務時間帯）'!$D$6:$Z$47,23,FALSE)) | AA77: =IF(AA75="","",VLOOKUP(AA75,'シフト記号表（勤務時間帯）'!$D$6:$Z$47,23,FALSE)) | AB77: =IF(AB75="","",VLOOKUP(AB75,'シフト記号表（勤務時間帯）'!$D$6:$Z$47,23,FALSE)) | ... AY77: =IF(AY75="","",VLOOKUP(AY75,'シフト記号表（勤務時間帯）'!$D$6:$Z$47,23,FALSE)) | AZ77: =IF($BC$3="４週",SUM(U77:AV77),IF($BC$3="暦月",SUM(U77:AY77),"")) -> 0 | BB77: =IF($BC$3="４週",AZ77/4,IF($BC$3="暦月",(AZ77/($BC$8/7)),"")) -> 0
P78: シフト記号
B79: =B76+1 -> 20 | F79: =C78 -> 0 | P79: 日中の勤務時間数 | U79: =IF(U78="","",VLOOKUP(U78,'シフト記号表（勤務時間帯）'!$D$6:$X$47,21,FALSE)) | V79: =IF(V78="","",VLOOKUP(V78,'シフト記号表（勤務時間帯）'!$D$6:$X$47,21,FALSE)) | W79: =IF(W78="","",VLOOKUP(W78,'シフト記号表（勤務時間帯）'!$D$6:$X$47,21,FALSE)) | X79: =IF(X78="","",VLOOKUP(X78,'シフト記号表（勤務時間帯）'!$D$6:$X$47,21,FALSE)) | Y79: =IF(Y78="","",VLOOKUP(Y78,'シフト記号表（勤務時間帯）'!$D$6:$X$47,21,FALSE)) | Z79: =IF(Z78="","",VLOOKUP(Z78,'シフト記号表（勤務時間帯）'!$D$6:$X$47,21,FALSE)) | AA79: =IF(AA78="","",VLOOKUP(AA78,'シフト記号表（勤務時間帯）'!$D$6:$X$47,21,FALSE)) | AB79: =IF(AB78="","",VLOOKUP(AB78,'シフト記号表（勤務時間帯）'!$D$6:$X$47,21,FALSE)) | ... AY79: =IF(AY78="","",VLOOKUP(AY78,'シフト記号表（勤務時間帯）'!$D$6:$X$47,21,FALSE)) | AZ79: =IF($BC$3="４週",SUM(U79:AV79),IF($BC$3="暦月",SUM(U79:AY79),"")) -> 0 | BB79: =IF($BC$3="４週",AZ79/4,IF($BC$3="暦月",(AZ79/($BC$8/7)),"")) -> 0
G80: =C78 -> 0 | P80: 夜間・深夜の勤務時間数 | U80: =IF(U78="","",VLOOKUP(U78,'シフト記号表（勤務時間帯）'!$D$6:$Z$47,23,FALSE)) | V80: =IF(V78="","",VLOOKUP(V78,'シフト記号表（勤務時間帯）'!$D$6:$Z$47,23,FALSE)) | W80: =IF(W78="","",VLOOKUP(W78,'シフト記号表（勤務時間帯）'!$D$6:$Z$47,23,FALSE)) | X80: =IF(X78="","",VLOOKUP(X78,'シフト記号表（勤務時間帯）'!$D$6:$Z$47,23,FALSE)) | Y80: =IF(Y78="","",VLOOKUP(Y78,'シフト記号表（勤務時間帯）'!$D$6:$Z$47,23,FALSE)) | Z80: =IF(Z78="","",VLOOKUP(Z78,'シフト記号表（勤務時間帯）'!$D$6:$Z$47,23,FALSE)) | AA80: =IF(AA78="","",VLOOKUP(AA78,'シフト記号表（勤務時間帯）'!$D$6:$Z$47,23,FALSE)) | AB80: =IF(AB78="","",VLOOKUP(AB78,'シフト記号表（勤務時間帯）'!$D$6:$Z$47,23,FALSE)) | ... AY80: =IF(AY78="","",VLOOKUP(AY78,'シフト記号表（勤務時間帯）'!$D$6:$Z$47,23,FALSE)) | AZ80: =IF($BC$3="４週",SUM(U80:AV80),IF($BC$3="暦月",SUM(U80:AY80),"")) -> 0 | BB80: =IF($BC$3="４週",AZ80/4,IF($BC$3="暦月",(AZ80/($BC$8/7)),"")) -> 0
P81: シフト記号
B82: =B79+1 -> 21 | F82: =C81 -> 0 | P82: 日中の勤務時間数 | U82: =IF(U81="","",VLOOKUP(U81,'シフト記号表（勤務時間帯）'!$D$6:$X$47,21,FALSE)) | V82: =IF(V81="","",VLOOKUP(V81,'シフト記号表（勤務時間帯）'!$D$6:$X$47,21,FALSE)) | W82: =IF(W81="","",VLOOKUP(W81,'シフト記号表（勤務時間帯）'!$D$6:$X$47,21,FALSE)) | X82: =IF(X81="","",VLOOKUP(X81,'シフト記号表（勤務時間帯）'!$D$6:$X$47,21,FALSE)) | Y82: =IF(Y81="","",VLOOKUP(Y81,'シフト記号表（勤務時間帯）'!$D$6:$X$47,21,FALSE)) | Z82: =IF(Z81="","",VLOOKUP(Z81,'シフト記号表（勤務時間帯）'!$D$6:$X$47,21,FALSE)) | AA82: =IF(AA81="","",VLOOKUP(AA81,'シフト記号表（勤務時間帯）'!$D$6:$X$47,21,FALSE)) | AB82: =IF(AB81="","",VLOOKUP(AB81,'シフト記号表（勤務時間帯）'!$D$6:$X$47,21,FALSE)) | ... AY82: =IF(AY81="","",VLOOKUP(AY81,'シフト記号表（勤務時間帯）'!$D$6:$X$47,21,FALSE)) | AZ82: =IF($BC$3="４週",SUM(U82:AV82),IF($BC$3="暦月",SUM(U82:AY82),"")) -> 0 | BB82: =IF($BC$3="４週",AZ82/4,IF($BC$3="暦月",(AZ82/($BC$8/7)),"")) -> 0
G83: =C81 -> 0 | P83: 夜間・深夜の勤務時間数 | U83: =IF(U81="","",VLOOKUP(U81,'シフト記号表（勤務時間帯）'!$D$6:$Z$47,23,FALSE)) | V83: =IF(V81="","",VLOOKUP(V81,'シフト記号表（勤務時間帯）'!$D$6:$Z$47,23,FALSE)) | W83: =IF(W81="","",VLOOKUP(W81,'シフト記号表（勤務時間帯）'!$D$6:$Z$47,23,FALSE)) | X83: =IF(X81="","",VLOOKUP(X81,'シフト記号表（勤務時間帯）'!$D$6:$Z$47,23,FALSE)) | Y83: =IF(Y81="","",VLOOKUP(Y81,'シフト記号表（勤務時間帯）'!$D$6:$Z$47,23,FALSE)) | Z83: =IF(Z81="","",VLOOKUP(Z81,'シフト記号表（勤務時間帯）'!$D$6:$Z$47,23,FALSE)) | AA83: =IF(AA81="","",VLOOKUP(AA81,'シフト記号表（勤務時間帯）'!$D$6:$Z$47,23,FALSE)) | AB83: =IF(AB81="","",VLOOKUP(AB81,'シフト記号表（勤務時間帯）'!$D$6:$Z$47,23,FALSE)) | ... AY83: =IF(AY81="","",VLOOKUP(AY81,'シフト記号表（勤務時間帯）'!$D$6:$Z$47,23,FALSE)) | AZ83: =IF($BC$3="４週",SUM(U83:AV83),IF($BC$3="暦月",SUM(U83:AY83),"")) -> 0 | BB83: =IF($BC$3="４週",AZ83/4,IF($BC$3="暦月",(AZ83/($BC$8/7)),"")) -> 0
P84: シフト記号
B85: =B82+1 -> 22 | F85: =C84 -> 0 | P85: 日中の勤務時間数 | U85: =IF(U84="","",VLOOKUP(U84,'シフト記号表（勤務時間帯）'!$D$6:$X$47,21,FALSE)) | V85: =IF(V84="","",VLOOKUP(V84,'シフト記号表（勤務時間帯）'!$D$6:$X$47,21,FALSE)) | W85: =IF(W84="","",VLOOKUP(W84,'シフト記号表（勤務時間帯）'!$D$6:$X$47,21,FALSE)) | X85: =IF(X84="","",VLOOKUP(X84,'シフト記号表（勤務時間帯）'!$D$6:$X$47,21,FALSE)) | Y85: =IF(Y84="","",VLOOKUP(Y84,'シフト記号表（勤務時間帯）'!$D$6:$X$47,21,FALSE)) | Z85: =IF(Z84="","",VLOOKUP(Z84,'シフト記号表（勤務時間帯）'!$D$6:$X$47,21,FALSE)) | AA85: =IF(AA84="","",VLOOKUP(AA84,'シフト記号表（勤務時間帯）'!$D$6:$X$47,21,FALSE)) | AB85: =IF(AB84="","",VLOOKUP(AB84,'シフト記号表（勤務時間帯）'!$D$6:$X$47,21,FALSE)) | ... AY85: =IF(AY84="","",VLOOKUP(AY84,'シフト記号表（勤務時間帯）'!$D$6:$X$47,21,FALSE)) | AZ85: =IF($BC$3="４週",SUM(U85:AV85),IF($BC$3="暦月",SUM(U85:AY85),"")) -> 0 | BB85: =IF($BC$3="４週",AZ85/4,IF($BC$3="暦月",(AZ85/($BC$8/7)),"")) -> 0
G86: =C84 -> 0 | P86: 夜間・深夜の勤務時間数 | U86: =IF(U84="","",VLOOKUP(U84,'シフト記号表（勤務時間帯）'!$D$6:$Z$47,23,FALSE)) | V86: =IF(V84="","",VLOOKUP(V84,'シフト記号表（勤務時間帯）'!$D$6:$Z$47,23,FALSE)) | W86: =IF(W84="","",VLOOKUP(W84,'シフト記号表（勤務時間帯）'!$D$6:$Z$47,23,FALSE)) | X86: =IF(X84="","",VLOOKUP(X84,'シフト記号表（勤務時間帯）'!$D$6:$Z$47,23,FALSE)) | Y86: =IF(Y84="","",VLOOKUP(Y84,'シフト記号表（勤務時間帯）'!$D$6:$Z$47,23,FALSE)) | Z86: =IF(Z84="","",VLOOKUP(Z84,'シフト記号表（勤務時間帯）'!$D$6:$Z$47,23,FALSE)) | AA86: =IF(AA84="","",VLOOKUP(AA84,'シフト記号表（勤務時間帯）'!$D$6:$Z$47,23,FALSE)) | AB86: =IF(AB84="","",VLOOKUP(AB84,'シフト記号表（勤務時間帯）'!$D$6:$Z$47,23,FALSE)) | ... AY86: =IF(AY84="","",VLOOKUP(AY84,'シフト記号表（勤務時間帯）'!$D$6:$Z$47,23,FALSE)) | AZ86: =IF($BC$3="４週",SUM(U86:AV86),IF($BC$3="暦月",SUM(U86:AY86),"")) -> 0 | BB86: =IF($BC$3="４週",AZ86/4,IF($BC$3="暦月",(AZ86/($BC$8/7)),"")) -> 0
P87: シフト記号
B88: =B85+1 -> 23 | F88: =C87 -> 0 | P88: 日中の勤務時間数 | U88: =IF(U87="","",VLOOKUP(U87,'シフト記号表（勤務時間帯）'!$D$6:$X$47,21,FALSE)) | V88: =IF(V87="","",VLOOKUP(V87,'シフト記号表（勤務時間帯）'!$D$6:$X$47,21,FALSE)) | W88: =IF(W87="","",VLOOKUP(W87,'シフト記号表（勤務時間帯）'!$D$6:$X$47,21,FALSE)) | X88: =IF(X87="","",VLOOKUP(X87,'シフト記号表（勤務時間帯）'!$D$6:$X$47,21,FALSE)) | Y88: =IF(Y87="","",VLOOKUP(Y87,'シフト記号表（勤務時間帯）'!$D$6:$X$47,21,FALSE)) | Z88: =IF(Z87="","",VLOOKUP(Z87,'シフト記号表（勤務時間帯）'!$D$6:$X$47,21,FALSE)) | AA88: =IF(AA87="","",VLOOKUP(AA87,'シフト記号表（勤務時間帯）'!$D$6:$X$47,21,FALSE)) | AB88: =IF(AB87="","",VLOOKUP(AB87,'シフト記号表（勤務時間帯）'!$D$6:$X$47,21,FALSE)) | ... AY88: =IF(AY87="","",VLOOKUP(AY87,'シフト記号表（勤務時間帯）'!$D$6:$X$47,21,FALSE)) | AZ88: =IF($BC$3="４週",SUM(U88:AV88),IF($BC$3="暦月",SUM(U88:AY88),"")) -> 0 | BB88: =IF($BC$3="４週",AZ88/4,IF($BC$3="暦月",(AZ88/($BC$8/7)),"")) -> 0
G89: =C87 -> 0 | P89: 夜間・深夜の勤務時間数 | U89: =IF(U87="","",VLOOKUP(U87,'シフト記号表（勤務時間帯）'!$D$6:$Z$47,23,FALSE)) | V89: =IF(V87="","",VLOOKUP(V87,'シフト記号表（勤務時間帯）'!$D$6:$Z$47,23,FALSE)) | W89: =IF(W87="","",VLOOKUP(W87,'シフト記号表（勤務時間帯）'!$D$6:$Z$47,23,FALSE)) | X89: =IF(X87="","",VLOOKUP(X87,'シフト記号表（勤務時間帯）'!$D$6:$Z$47,23,FALSE)) | Y89: =IF(Y87="","",VLOOKUP(Y87,'シフト記号表（勤務時間帯）'!$D$6:$Z$47,23,FALSE)) | Z89: =IF(Z87="","",VLOOKUP(Z87,'シフト記号表（勤務時間帯）'!$D$6:$Z$47,23,FALSE)) | AA89: =IF(AA87="","",VLOOKUP(AA87,'シフト記号表（勤務時間帯）'!$D$6:$Z$47,23,FALSE)) | AB89: =IF(AB87="","",VLOOKUP(AB87,'シフト記号表（勤務時間帯）'!$D$6:$Z$47,23,FALSE)) | ... AY89: =IF(AY87="","",VLOOKUP(AY87,'シフト記号表（勤務時間帯）'!$D$6:$Z$47,23,FALSE)) | AZ89: =IF($BC$3="４週",SUM(U89:AV89),IF($BC$3="暦月",SUM(U89:AY89),"")) -> 0 | BB89: =IF($BC$3="４週",AZ89/4,IF($BC$3="暦月",(AZ89/($BC$8/7)),"")) -> 0
P90: シフト記号
B91: =B88+1 -> 24 | F91: =C90 -> 0 | P91: 日中の勤務時間数 | U91: =IF(U90="","",VLOOKUP(U90,'シフト記号表（勤務時間帯）'!$D$6:$X$47,21,FALSE)) | V91: =IF(V90="","",VLOOKUP(V90,'シフト記号表（勤務時間帯）'!$D$6:$X$47,21,FALSE)) | W91: =IF(W90="","",VLOOKUP(W90,'シフト記号表（勤務時間帯）'!$D$6:$X$47,21,FALSE)) | X91: =IF(X90="","",VLOOKUP(X90,'シフト記号表（勤務時間帯）'!$D$6:$X$47,21,FALSE)) | Y91: =IF(Y90="","",VLOOKUP(Y90,'シフト記号表（勤務時間帯）'!$D$6:$X$47,21,FALSE)) | Z91: =IF(Z90="","",VLOOKUP(Z90,'シフト記号表（勤務時間帯）'!$D$6:$X$47,21,FALSE)) | AA91: =IF(AA90="","",VLOOKUP(AA90,'シフト記号表（勤務時間帯）'!$D$6:$X$47,21,FALSE)) | AB91: =IF(AB90="","",VLOOKUP(AB90,'シフト記号表（勤務時間帯）'!$D$6:$X$47,21,FALSE)) | ... AY91: =IF(AY90="","",VLOOKUP(AY90,'シフト記号表（勤務時間帯）'!$D$6:$X$47,21,FALSE)) | AZ91: =IF($BC$3="４週",SUM(U91:AV91),IF($BC$3="暦月",SUM(U91:AY91),"")) -> 0 | BB91: =IF($BC$3="４週",AZ91/4,IF($BC$3="暦月",(AZ91/($BC$8/7)),"")) -> 0
G92: =C90 -> 0 | P92: 夜間・深夜の勤務時間数 | U92: =IF(U90="","",VLOOKUP(U90,'シフト記号表（勤務時間帯）'!$D$6:$Z$47,23,FALSE)) | V92: =IF(V90="","",VLOOKUP(V90,'シフト記号表（勤務時間帯）'!$D$6:$Z$47,23,FALSE)) | W92: =IF(W90="","",VLOOKUP(W90,'シフト記号表（勤務時間帯）'!$D$6:$Z$47,23,FALSE)) | X92: =IF(X90="","",VLOOKUP(X90,'シフト記号表（勤務時間帯）'!$D$6:$Z$47,23,FALSE)) | Y92: =IF(Y90="","",VLOOKUP(Y90,'シフト記号表（勤務時間帯）'!$D$6:$Z$47,23,FALSE)) | Z92: =IF(Z90="","",VLOOKUP(Z90,'シフト記号表（勤務時間帯）'!$D$6:$Z$47,23,FALSE)) | AA92: =IF(AA90="","",VLOOKUP(AA90,'シフト記号表（勤務時間帯）'!$D$6:$Z$47,23,FALSE)) | AB92: =IF(AB90="","",VLOOKUP(AB90,'シフト記号表（勤務時間帯）'!$D$6:$Z$47,23,FALSE)) | ... AY92: =IF(AY90="","",VLOOKUP(AY90,'シフト記号表（勤務時間帯）'!$D$6:$Z$47,23,FALSE)) | AZ92: =IF($BC$3="４週",SUM(U92:AV92),IF($BC$3="暦月",SUM(U92:AY92),"")) -> 0 | BB92: =IF($BC$3="４週",AZ92/4,IF($BC$3="暦月",(AZ92/($BC$8/7)),"")) -> 0
P93: シフト記号
B94: =B91+1 -> 25 | F94: =C93 -> 0 | P94: 日中の勤務時間数 | U94: =IF(U93="","",VLOOKUP(U93,'シフト記号表（勤務時間帯）'!$D$6:$X$47,21,FALSE)) | V94: =IF(V93="","",VLOOKUP(V93,'シフト記号表（勤務時間帯）'!$D$6:$X$47,21,FALSE)) | W94: =IF(W93="","",VLOOKUP(W93,'シフト記号表（勤務時間帯）'!$D$6:$X$47,21,FALSE)) | X94: =IF(X93="","",VLOOKUP(X93,'シフト記号表（勤務時間帯）'!$D$6:$X$47,21,FALSE)) | Y94: =IF(Y93="","",VLOOKUP(Y93,'シフト記号表（勤務時間帯）'!$D$6:$X$47,21,FALSE)) | Z94: =IF(Z93="","",VLOOKUP(Z93,'シフト記号表（勤務時間帯）'!$D$6:$X$47,21,FALSE)) | AA94: =IF(AA93="","",VLOOKUP(AA93,'シフト記号表（勤務時間帯）'!$D$6:$X$47,21,FALSE)) | AB94: =IF(AB93="","",VLOOKUP(AB93,'シフト記号表（勤務時間帯）'!$D$6:$X$47,21,FALSE)) | ... AY94: =IF(AY93="","",VLOOKUP(AY93,'シフト記号表（勤務時間帯）'!$D$6:$X$47,21,FALSE)) | AZ94: =IF($BC$3="４週",SUM(U94:AV94),IF($BC$3="暦月",SUM(U94:AY94),"")) -> 0 | BB94: =IF($BC$3="４週",AZ94/4,IF($BC$3="暦月",(AZ94/($BC$8/7)),"")) -> 0
G95: =C93 -> 0 | P95: 夜間・深夜の勤務時間数 | U95: =IF(U93="","",VLOOKUP(U93,'シフト記号表（勤務時間帯）'!$D$6:$Z$47,23,FALSE)) | V95: =IF(V93="","",VLOOKUP(V93,'シフト記号表（勤務時間帯）'!$D$6:$Z$47,23,FALSE)) | W95: =IF(W93="","",VLOOKUP(W93,'シフト記号表（勤務時間帯）'!$D$6:$Z$47,23,FALSE)) | X95: =IF(X93="","",VLOOKUP(X93,'シフト記号表（勤務時間帯）'!$D$6:$Z$47,23,FALSE)) | Y95: =IF(Y93="","",VLOOKUP(Y93,'シフト記号表（勤務時間帯）'!$D$6:$Z$47,23,FALSE)) | Z95: =IF(Z93="","",VLOOKUP(Z93,'シフト記号表（勤務時間帯）'!$D$6:$Z$47,23,FALSE)) | AA95: =IF(AA93="","",VLOOKUP(AA93,'シフト記号表（勤務時間帯）'!$D$6:$Z$47,23,FALSE)) | AB95: =IF(AB93="","",VLOOKUP(AB93,'シフト記号表（勤務時間帯）'!$D$6:$Z$47,23,FALSE)) | ... AY95: =IF(AY93="","",VLOOKUP(AY93,'シフト記号表（勤務時間帯）'!$D$6:$Z$47,23,FALSE)) | AZ95: =IF($BC$3="４週",SUM(U95:AV95),IF($BC$3="暦月",SUM(U95:AY95),"")) -> 0 | BB95: =IF($BC$3="４週",AZ95/4,IF($BC$3="暦月",(AZ95/($BC$8/7)),"")) -> 0
P96: シフト記号
B97: =B94+1 -> 26 | F97: =C96 -> 0 | P97: 日中の勤務時間数 | U97: =IF(U96="","",VLOOKUP(U96,'シフト記号表（勤務時間帯）'!$D$6:$X$47,21,FALSE)) | V97: =IF(V96="","",VLOOKUP(V96,'シフト記号表（勤務時間帯）'!$D$6:$X$47,21,FALSE)) | W97: =IF(W96="","",VLOOKUP(W96,'シフト記号表（勤務時間帯）'!$D$6:$X$47,21,FALSE)) | X97: =IF(X96="","",VLOOKUP(X96,'シフト記号表（勤務時間帯）'!$D$6:$X$47,21,FALSE)) | Y97: =IF(Y96="","",VLOOKUP(Y96,'シフト記号表（勤務時間帯）'!$D$6:$X$47,21,FALSE)) | Z97: =IF(Z96="","",VLOOKUP(Z96,'シフト記号表（勤務時間帯）'!$D$6:$X$47,21,FALSE)) | AA97: =IF(AA96="","",VLOOKUP(AA96,'シフト記号表（勤務時間帯）'!$D$6:$X$47,21,FALSE)) | AB97: =IF(AB96="","",VLOOKUP(AB96,'シフト記号表（勤務時間帯）'!$D$6:$X$47,21,FALSE)) | ... AY97: =IF(AY96="","",VLOOKUP(AY96,'シフト記号表（勤務時間帯）'!$D$6:$X$47,21,FALSE)) | AZ97: =IF($BC$3="４週",SUM(U97:AV97),IF($BC$3="暦月",SUM(U97:AY97),"")) -> 0 | BB97: =IF($BC$3="４週",AZ97/4,IF($BC$3="暦月",(AZ97/($BC$8/7)),"")) -> 0
G98: =C96 -> 0 | P98: 夜間・深夜の勤務時間数 | U98: =IF(U96="","",VLOOKUP(U96,'シフト記号表（勤務時間帯）'!$D$6:$Z$47,23,FALSE)) | V98: =IF(V96="","",VLOOKUP(V96,'シフト記号表（勤務時間帯）'!$D$6:$Z$47,23,FALSE)) | W98: =IF(W96="","",VLOOKUP(W96,'シフト記号表（勤務時間帯）'!$D$6:$Z$47,23,FALSE)) | X98: =IF(X96="","",VLOOKUP(X96,'シフト記号表（勤務時間帯）'!$D$6:$Z$47,23,FALSE)) | Y98: =IF(Y96="","",VLOOKUP(Y96,'シフト記号表（勤務時間帯）'!$D$6:$Z$47,23,FALSE)) | Z98: =IF(Z96="","",VLOOKUP(Z96,'シフト記号表（勤務時間帯）'!$D$6:$Z$47,23,FALSE)) | AA98: =IF(AA96="","",VLOOKUP(AA96,'シフト記号表（勤務時間帯）'!$D$6:$Z$47,23,FALSE)) | AB98: =IF(AB96="","",VLOOKUP(AB96,'シフト記号表（勤務時間帯）'!$D$6:$Z$47,23,FALSE)) | ... AY98: =IF(AY96="","",VLOOKUP(AY96,'シフト記号表（勤務時間帯）'!$D$6:$Z$47,23,FALSE)) | AZ98: =IF($BC$3="４週",SUM(U98:AV98),IF($BC$3="暦月",SUM(U98:AY98),"")) -> 0 | BB98: =IF($BC$3="４週",AZ98/4,IF($BC$3="暦月",(AZ98/($BC$8/7)),"")) -> 0
P99: シフト記号
B100: =B97+1 -> 27 | F100: =C99 -> 0 | P100: 日中の勤務時間数 | U100: =IF(U99="","",VLOOKUP(U99,'シフト記号表（勤務時間帯）'!$D$6:$X$47,21,FALSE)) | V100: =IF(V99="","",VLOOKUP(V99,'シフト記号表（勤務時間帯）'!$D$6:$X$47,21,FALSE)) | W100: =IF(W99="","",VLOOKUP(W99,'シフト記号表（勤務時間帯）'!$D$6:$X$47,21,FALSE)) | X100: =IF(X99="","",VLOOKUP(X99,'シフト記号表（勤務時間帯）'!$D$6:$X$47,21,FALSE)) | Y100: =IF(Y99="","",VLOOKUP(Y99,'シフト記号表（勤務時間帯）'!$D$6:$X$47,21,FALSE)) | Z100: =IF(Z99="","",VLOOKUP(Z99,'シフト記号表（勤務時間帯）'!$D$6:$X$47,21,FALSE)) | AA100: =IF(AA99="","",VLOOKUP(AA99,'シフト記号表（勤務時間帯）'!$D$6:$X$47,21,FALSE)) | AB100: =IF(AB99="","",VLOOKUP(AB99,'シフト記号表（勤務時間帯）'!$D$6:$X$47,21,FALSE)) | ... AY100: =IF(AY99="","",VLOOKUP(AY99,'シフト記号表（勤務時間帯）'!$D$6:$X$47,21,FALSE)) | AZ100: =IF($BC$3="４週",SUM(U100:AV100),IF($BC$3="暦月",SUM(U100:AY100),"")) -> 0 | BB100: =IF($BC$3="４週",AZ100/4,IF($BC$3="暦月",(AZ100/($BC$8/7)),"")) -> 0
G101: =C99 -> 0 | P101: 夜間・深夜の勤務時間数 | U101: =IF(U99="","",VLOOKUP(U99,'シフト記号表（勤務時間帯）'!$D$6:$Z$47,23,FALSE)) | V101: =IF(V99="","",VLOOKUP(V99,'シフト記号表（勤務時間帯）'!$D$6:$Z$47,23,FALSE)) | W101: =IF(W99="","",VLOOKUP(W99,'シフト記号表（勤務時間帯）'!$D$6:$Z$47,23,FALSE)) | X101: =IF(X99="","",VLOOKUP(X99,'シフト記号表（勤務時間帯）'!$D$6:$Z$47,23,FALSE)) | Y101: =IF(Y99="","",VLOOKUP(Y99,'シフト記号表（勤務時間帯）'!$D$6:$Z$47,23,FALSE)) | Z101: =IF(Z99="","",VLOOKUP(Z99,'シフト記号表（勤務時間帯）'!$D$6:$Z$47,23,FALSE)) | AA101: =IF(AA99="","",VLOOKUP(AA99,'シフト記号表（勤務時間帯）'!$D$6:$Z$47,23,FALSE)) | AB101: =IF(AB99="","",VLOOKUP(AB99,'シフト記号表（勤務時間帯）'!$D$6:$Z$47,23,FALSE)) | ... AY101: =IF(AY99="","",VLOOKUP(AY99,'シフト記号表（勤務時間帯）'!$D$6:$Z$47,23,FALSE)) | AZ101: =IF($BC$3="４週",SUM(U101:AV101),IF($BC$3="暦月",SUM(U101:AY101),"")) -> 0 | BB101: =IF($BC$3="４週",AZ101/4,IF($BC$3="暦月",(AZ101/($BC$8/7)),"")) -> 0
P102: シフト記号
B103: =B100+1 -> 28 | F103: =C102 -> 0 | P103: 日中の勤務時間数 | U103: =IF(U102="","",VLOOKUP(U102,'シフト記号表（勤務時間帯）'!$D$6:$X$47,21,FALSE)) | V103: =IF(V102="","",VLOOKUP(V102,'シフト記号表（勤務時間帯）'!$D$6:$X$47,21,FALSE)) | W103: =IF(W102="","",VLOOKUP(W102,'シフト記号表（勤務時間帯）'!$D$6:$X$47,21,FALSE)) | X103: =IF(X102="","",VLOOKUP(X102,'シフト記号表（勤務時間帯）'!$D$6:$X$47,21,FALSE)) | Y103: =IF(Y102="","",VLOOKUP(Y102,'シフト記号表（勤務時間帯）'!$D$6:$X$47,21,FALSE)) | Z103: =IF(Z102="","",VLOOKUP(Z102,'シフト記号表（勤務時間帯）'!$D$6:$X$47,21,FALSE)) | AA103: =IF(AA102="","",VLOOKUP(AA102,'シフト記号表（勤務時間帯）'!$D$6:$X$47,21,FALSE)) | AB103: =IF(AB102="","",VLOOKUP(AB102,'シフト記号表（勤務時間帯）'!$D$6:$X$47,21,FALSE)) | ... AY103: =IF(AY102="","",VLOOKUP(AY102,'シフト記号表（勤務時間帯）'!$D$6:$X$47,21,FALSE)) | AZ103: =IF($BC$3="４週",SUM(U103:AV103),IF($BC$3="暦月",SUM(U103:AY103),"")) -> 0 | BB103: =IF($BC$3="４週",AZ103/4,IF($BC$3="暦月",(AZ103/($BC$8/7)),"")) -> 0
G104: =C102 -> 0 | P104: 夜間・深夜の勤務時間数 | U104: =IF(U102="","",VLOOKUP(U102,'シフト記号表（勤務時間帯）'!$D$6:$Z$47,23,FALSE)) | V104: =IF(V102="","",VLOOKUP(V102,'シフト記号表（勤務時間帯）'!$D$6:$Z$47,23,FALSE)) | W104: =IF(W102="","",VLOOKUP(W102,'シフト記号表（勤務時間帯）'!$D$6:$Z$47,23,FALSE)) | X104: =IF(X102="","",VLOOKUP(X102,'シフト記号表（勤務時間帯）'!$D$6:$Z$47,23,FALSE)) | Y104: =IF(Y102="","",VLOOKUP(Y102,'シフト記号表（勤務時間帯）'!$D$6:$Z$47,23,FALSE)) | Z104: =IF(Z102="","",VLOOKUP(Z102,'シフト記号表（勤務時間帯）'!$D$6:$Z$47,23,FALSE)) | AA104: =IF(AA102="","",VLOOKUP(AA102,'シフト記号表（勤務時間帯）'!$D$6:$Z$47,23,FALSE)) | AB104: =IF(AB102="","",VLOOKUP(AB102,'シフト記号表（勤務時間帯）'!$D$6:$Z$47,23,FALSE)) | ... AY104: =IF(AY102="","",VLOOKUP(AY102,'シフト記号表（勤務時間帯）'!$D$6:$Z$47,23,FALSE)) | AZ104: =IF($BC$3="４週",SUM(U104:AV104),IF($BC$3="暦月",SUM(U104:AY104),"")) -> 0 | BB104: =IF($BC$3="４週",AZ104/4,IF($BC$3="暦月",(AZ104/($BC$8/7)),"")) -> 0
P105: シフト記号
...

Sheet 小多機（1枚用）
C1: （標準様式1） | K1: 従業者の勤務の体制及び勤務形態一覧表 | AQ1: サービス種別（ | AR1: 小規模多機能型居宅介護 | BH1: ）
Z2: 令和 | AA2: 6 | AC2: ( | AD2: =IF(AA2=0,"",YEAR(DATE(2018+AA2,1,1))) -> 2024 | AF2: ) | AG2: 年 | AH2: 4 | AJ2: 月 | AQ2: 事業所名（ | AR2: ○○サービス | BH2: ）
BB3: (1) | BC3: ４週
BB4: (2) | BC4: 予定
AM6: (3) 事業所における常勤の従業者が勤務すべき時間数 | AY6: 40 | BA6: 時間/週 | BC6: 160 | BE6: 時間/月
AZ8: 当月の日数 | BC8: =DAY(EOMONTH(DATE(AD2,AH2,1),0)) -> 30 | BE8: 日
AN10: (4) 利用者数（通いサービス） | BA10: （前年度の平均値または推定数） | BE10: 人
AS12: (5) 日中／夜間及び深夜の時間帯の区分
AS13: 利用者の生活時間帯（日中） | BB13: 0.29166667 | BE13: ～ | BF13: 0.83333333
AS14: 夜間及び深夜の時間帯 | BB14: 0.83333333 | BE14: ～ | BF14: 0.29166667
B16: No | C16: (6) 職種 | H16: (7) 勤務 形態 | I16: (8) 資格 | M16: (9) 氏 名 | P16: 日中／夜間及び深夜 の区分 | AI16: (10) | AN16: （宿直 ･･･ | AR16: ） | AZ16: =IF(BC3="計画","(11)1～4週目の勤務時間数合計","(11)1か月の勤務時間数 合計") -> (11)1か月の勤務時間数 合計 | BB16: (12) 週平均 勤務時間数 | BD16: (13) 兼務状況 （兼務先/兼務する職務の内容）等
U17: 1週目 | AB17: 2週目 | AI17: 3週目 | AP17: 4週目 | AW17: 5週目
U18: 1 | V18: 2 | W18: 3 | X18: 4 | Y18: 5 | Z18: 6 | AA18: 7 | AB18: 8 | AC18: 9 | AD18: 10 | AE18: 11 | AF18: 12 | AG18: 13 | AH18: 14 | AI18: 15 | AJ18: 16 | AK18: 17 | AL18: 18 | AM18: 19 | AN18: 20 | AO18: 21 | AP18: 22 | AQ18: 23 | AR18: 24 | AS18: 25 | AT18: 26 | AU18: 27 | AV18: 28 | AW18: =IF($BC$3="暦月",IF(DAY(DATE($AD$2,$AH$2,29))=29,29,""),"") | AX18: =IF($BC$3="暦月",IF(DAY(DATE($AD$2,$AH$2,30))=30,30,""),"") | AY18: =IF($BC$3="暦月",IF(DAY(DATE($AD$2,$AH$2,31))=31,31,""),"")
U19: =WEEKDAY(DATE($AD$2,$AH$2,1)) -> 2 | V19: =WEEKDAY(DATE($AD$2,$AH$2,2)) -> 3 | W19: =WEEKDAY(DATE($AD$2,$AH$2,3)) -> 4 | X19: =WEEKDAY(DATE($AD$2,$AH$2,4)) -> 5 | Y19: =WEEKDAY(DATE($AD$2,$AH$2,5)) -> 6 | Z19: =WEEKDAY(DATE($AD$2,$AH$2,6)) -> 7 | AA19: =WEEKDAY(DATE($AD$2,$AH$2,7)) -> 1 | AB19: =WEEKDAY(DATE($AD$2,$AH$2,8)) -> 2 | AC19: =WEEKDAY(DATE($AD$2,$AH$2,9)) -> 3 | AD19: =WEEKDAY(DATE($AD$2,$AH$2,10)) -> 4 | AE19: =WEEKDAY(DATE($AD$2,$AH$2,11)) -> 5 | AF19: =WEEKDAY(DATE($AD$2,$AH$2,12)) -> 6 | AG19: =WEEKDAY(DATE($AD$2,$AH$2,13)) -> 7 | AH19: =WEEKDAY(DATE($AD$2,$AH$2,14)) -> 1 | AI19: =WEEKDAY(DATE($AD$2,$AH$2,15)) -> 2 | AJ19: =WEEKDAY(DATE($AD$2,$AH$2,16)) -> 3 | AK19: =WEEKDAY(DATE($AD$2,$AH$2,17)) -> 4 | AL19: =WEEKDAY(DATE($AD$2,$AH$2,18)) -> 5 | AM19: =WEEKDAY(DATE($AD$2,$AH$2,19)) -> 6 | AN19: =WEEKDAY(DATE($AD$2,$AH$2,20)) -> 7 | AO19: =WEEKDAY(DATE($AD$2,$AH$2,21)) -> 1 | AP19: =WEEKDAY(DATE($AD$2,$AH$2,22)) -> 2 | AQ19: =WEEKDAY(DATE($AD$2,$AH$2,23)) -> 3 | AR19: =WEEKDAY(DATE($AD$2,$AH$2,24)) -> 4 | AS19: =WEEKDAY(DATE($AD$2,$AH$2,25)) -> 5 | AT19: =WEEKDAY(DATE($AD$2,$AH$2,26)) -> 6 | AU19: =WEEKDAY(DATE($AD$2,$AH$2,27)) -> 7 | AV19: =WEEKDAY(DATE($AD$2,$AH$2,28)) -> 1 | AW19: =IF(AW18=29,WEEKDAY(DATE($AD$2,$AH$2,29)),0) -> 0 | AX19: =IF(AX18=30,WEEKDAY(DATE($AD$2,$AH$2,30)),0) -> 0 | AY19: =IF(AY18=31,WEEKDAY(DATE($AD$2,$AH$2,31)),0) -> 0
U20: =IF(U19=1,"日",IF(U19=2,"月",IF(U19=3,"火",IF(U19=4,"水",IF(U19=5,"木",IF(U19=6,"金","土")))))) -> 月 | V20: =IF(V19=1,"日",IF(V19=2,"月",IF(V19=3,"火",IF(V19=4,"水",IF(V19=5,"木",IF(V19=6,"金","土")))))) -> 火 | W20: =IF(W19=1,"日",IF(W19=2,"月",IF(W19=3,"火",IF(W19=4,"水",IF(W19=5,"木",IF(W19=6,"金","土")))))) -> 水 | X20: =IF(X19=1,"日",IF(X19=2,"月",IF(X19=3,"火",IF(X19=4,"水",IF(X19=5,"木",IF(X19=6,"金","土")))))) -> 木 | Y20: =IF(Y19=1,"日",IF(Y19=2,"月",IF(Y19=3,"火",IF(Y19=4,"水",IF(Y19=5,"木",IF(Y19=6,"金","土")))))) -> 金 | Z20: =IF(Z19=1,"日",IF(Z19=2,"月",IF(Z19=3,"火",IF(Z19=4,"水",IF(Z19=5,"木",IF(Z19=6,"金","土")))))) -> 土 | AA20: =IF(AA19=1,"日",IF(AA19=2,"月",IF(AA19=3,"火",IF(AA19=4,"水",IF(AA19=5,"木",IF(AA19=6,"金","土")))))) -> 日 | AB20: =IF(AB19=1,"日",IF(AB19=2,"月",IF(AB19=3,"火",IF(AB19=4,"水",IF(AB19=5,"木",IF(AB19=6,"金","土")))))) -> 月 | ... AV20: =IF(AV19=1,"日",IF(AV19=2,"月",IF(AV19=3,"火",IF(AV19=4,"水",IF(AV19=5,"木",IF(AV19=6,"金","土")))))) -> 日 | AW20: =IF(AW19=1,"日",IF(AW19=2,"月",IF(AW19=3,"火",IF(AW19=4,"水",IF(AW19=5,"木",IF(AW19=6,"金",IF(AW19=0,"","土"))))))) | AX20: =IF(AX19=1,"日",IF(AX19=2,"月",IF(AX19=3,"火",IF(AX19=4,"水",IF(AX19=5,"木",IF(AX19=6,"金",IF(AX19=0,"","土"))))))) | AY20: =IF(AY19=1,"日",IF(AY19=2,"月",IF(AY19=3,"火",IF(AY19=4,"水",IF(AY19=5,"木",IF(AY19=6,"金",IF(AY19=0,"","土")))))))
P21: シフト記号
B22: 1 | F22: =C21 -> 0 | P22: 日中の勤務時間数 | U22: =IF(U21="","",VLOOKUP(U21,'シフト記号表（勤務時間帯）'!$D$6:$X$47,21,FALSE)) | V22: =IF(V21="","",VLOOKUP(V21,'シフト記号表（勤務時間帯）'!$D$6:$X$47,21,FALSE)) | W22: =IF(W21="","",VLOOKUP(W21,'シフト記号表（勤務時間帯）'!$D$6:$X$47,21,FALSE)) | X22: =IF(X21="","",VLOOKUP(X21,'シフト記号表（勤務時間帯）'!$D$6:$X$47,21,FALSE)) | Y22: =IF(Y21="","",VLOOKUP(Y21,'シフト記号表（勤務時間帯）'!$D$6:$X$47,21,FALSE)) | Z22: =IF(Z21="","",VLOOKUP(Z21,'シフト記号表（勤務時間帯）'!$D$6:$X$47,21,FALSE)) | AA22: =IF(AA21="","",VLOOKUP(AA21,'シフト記号表（勤務時間帯）'!$D$6:$X$47,21,FALSE)) | AB22: =IF(AB21="","",VLOOKUP(AB21,'シフト記号表（勤務時間帯）'!$D$6:$X$47,21,FALSE)) | ... AY22: =IF(AY21="","",VLOOKUP(AY21,'シフト記号表（勤務時間帯）'!$D$6:$X$47,21,FALSE)) | AZ22: =IF($BC$3="４週",SUM(U22:AV22),IF($BC$3="暦月",SUM(U22:AY22),"")) -> 0 | BB22: =IF($BC$3="４週",AZ22/4,IF($BC$3="暦月",(AZ22/($BC$8/7)),"")) -> 0
G23: =C21 -> 0 | P23: 夜間・深夜の勤務時間数 | U23: =IF(U21="","",VLOOKUP(U21,'シフト記号表（勤務時間帯）'!$D$6:$Z$47,23,FALSE)) | V23: =IF(V21="","",VLOOKUP(V21,'シフト記号表（勤務時間帯）'!$D$6:$Z$47,23,FALSE)) | W23: =IF(W21="","",VLOOKUP(W21,'シフト記号表（勤務時間帯）'!$D$6:$Z$47,23,FALSE)) | X23: =IF(X21="","",VLOOKUP(X21,'シフト記号表（勤務時間帯）'!$D$6:$Z$47,23,FALSE)) | Y23: =IF(Y21="","",VLOOKUP(Y21,'シフト記号表（勤務時間帯）'!$D$6:$Z$47,23,FALSE)) | Z23: =IF(Z21="","",VLOOKUP(Z21,'シフト記号表（勤務時間帯）'!$D$6:$Z$47,23,FALSE)) | AA23: =IF(AA21="","",VLOOKUP(AA21,'シフト記号表（勤務時間帯）'!$D$6:$Z$47,23,FALSE)) | AB23: =IF(AB21="","",VLOOKUP(AB21,'シフト記号表（勤務時間帯）'!$D$6:$Z$47,23,FALSE)) | ... AY23: =IF(AY21="","",VLOOKUP(AY21,'シフト記号表（勤務時間帯）'!$D$6:$Z$47,23,FALSE)) | AZ23: =IF($BC$3="４週",SUM(U23:AV23),IF($BC$3="暦月",SUM(U23:AY23),"")) -> 0 | BB23: =IF($BC$3="４週",AZ23/4,IF($BC$3="暦月",(AZ23/($BC$8/7)),"")) -> 0
P24: シフト記号
B25: =B22+1 -> 2 | F25: =C24 -> 0 | P25: 日中の勤務時間数 | U25: =IF(U24="","",VLOOKUP(U24,'シフト記号表（勤務時間帯）'!$D$6:$X$47,21,FALSE)) | V25: =IF(V24="","",VLOOKUP(V24,'シフト記号表（勤務時間帯）'!$D$6:$X$47,21,FALSE)) | W25: =IF(W24="","",VLOOKUP(W24,'シフト記号表（勤務時間帯）'!$D$6:$X$47,21,FALSE)) | X25: =IF(X24="","",VLOOKUP(X24,'シフト記号表（勤務時間帯）'!$D$6:$X$47,21,FALSE)) | Y25: =IF(Y24="","",VLOOKUP(Y24,'シフト記号表（勤務時間帯）'!$D$6:$X$47,21,FALSE)) | Z25: =IF(Z24="","",VLOOKUP(Z24,'シフト記号表（勤務時間帯）'!$D$6:$X$47,21,FALSE)) | AA25: =IF(AA24="","",VLOOKUP(AA24,'シフト記号表（勤務時間帯）'!$D$6:$X$47,21,FALSE)) | AB25: =IF(AB24="","",VLOOKUP(AB24,'シフト記号表（勤務時間帯）'!$D$6:$X$47,21,FALSE)) | ... AY25: =IF(AY24="","",VLOOKUP(AY24,'シフト記号表（勤務時間帯）'!$D$6:$X$47,21,FALSE)) | AZ25: =IF($BC$3="４週",SUM(U25:AV25),IF($BC$3="暦月",SUM(U25:AY25),"")) -> 0 | BB25: =IF($BC$3="４週",AZ25/4,IF($BC$3="暦月",(AZ25/($BC$8/7)),"")) -> 0
G26: =C24 -> 0 | P26: 夜間・深夜の勤務時間数 | U26: =IF(U24="","",VLOOKUP(U24,'シフト記号表（勤務時間帯）'!$D$6:$Z$47,23,FALSE)) | V26: =IF(V24="","",VLOOKUP(V24,'シフト記号表（勤務時間帯）'!$D$6:$Z$47,23,FALSE)) | W26: =IF(W24="","",VLOOKUP(W24,'シフト記号表（勤務時間帯）'!$D$6:$Z$47,23,FALSE)) | X26: =IF(X24="","",VLOOKUP(X24,'シフト記号表（勤務時間帯）'!$D$6:$Z$47,23,FALSE)) | Y26: =IF(Y24="","",VLOOKUP(Y24,'シフト記号表（勤務時間帯）'!$D$6:$Z$47,23,FALSE)) | Z26: =IF(Z24="","",VLOOKUP(Z24,'シフト記号表（勤務時間帯）'!$D$6:$Z$47,23,FALSE)) | AA26: =IF(AA24="","",VLOOKUP(AA24,'シフト記号表（勤務時間帯）'!$D$6:$Z$47,23,FALSE)) | AB26: =IF(AB24="","",VLOOKUP(AB24,'シフト記号表（勤務時間帯）'!$D$6:$Z$47,23,FALSE)) | ... AY26: =IF(AY24="","",VLOOKUP(AY24,'シフト記号表（勤務時間帯）'!$D$6:$Z$47,23,FALSE)) | AZ26: =IF($BC$3="４週",SUM(U26:AV26),IF($BC$3="暦月",SUM(U26:AY26),"")) -> 0 | BB26: =IF($BC$3="４週",AZ26/4,IF($BC$3="暦月",(AZ26/($BC$8/7)),"")) -> 0
P27: シフト記号
B28: =B25+1 -> 3 | F28: =C27 -> 0 | P28: 日中の勤務時間数 | U28: =IF(U27="","",VLOOKUP(U27,'シフト記号表（勤務時間帯）'!$D$6:$X$47,21,FALSE)) | V28: =IF(V27="","",VLOOKUP(V27,'シフト記号表（勤務時間帯）'!$D$6:$X$47,21,FALSE)) | W28: =IF(W27="","",VLOOKUP(W27,'シフト記号表（勤務時間帯）'!$D$6:$X$47,21,FALSE)) | X28: =IF(X27="","",VLOOKUP(X27,'シフト記号表（勤務時間帯）'!$D$6:$X$47,21,FALSE)) | Y28: =IF(Y27="","",VLOOKUP(Y27,'シフト記号表（勤務時間帯）'!$D$6:$X$47,21,FALSE)) | Z28: =IF(Z27="","",VLOOKUP(Z27,'シフト記号表（勤務時間帯）'!$D$6:$X$47,21,FALSE)) | AA28: =IF(AA27="","",VLOOKUP(AA27,'シフト記号表（勤務時間帯）'!$D$6:$X$47,21,FALSE)) | AB28: =IF(AB27="","",VLOOKUP(AB27,'シフト記号表（勤務時間帯）'!$D$6:$X$47,21,FALSE)) | ... AY28: =IF(AY27="","",VLOOKUP(AY27,'シフト記号表（勤務時間帯）'!$D$6:$X$47,21,FALSE)) | AZ28: =IF($BC$3="４週",SUM(U28:AV28),IF($BC$3="暦月",SUM(U28:AY28),"")) -> 0 | BB28: =IF($BC$3="４週",AZ28/4,IF($BC$3="暦月",(AZ28/($BC$8/7)),"")) -> 0
G29: =C27 -> 0 | P29: 夜間・深夜の勤務時間数 | U29: =IF(U27="","",VLOOKUP(U27,'シフト記号表（勤務時間帯）'!$D$6:$Z$47,23,FALSE)) | V29: =IF(V27="","",VLOOKUP(V27,'シフト記号表（勤務時間帯）'!$D$6:$Z$47,23,FALSE)) | W29: =IF(W27="","",VLOOKUP(W27,'シフト記号表（勤務時間帯）'!$D$6:$Z$47,23,FALSE)) | X29: =IF(X27="","",VLOOKUP(X27,'シフト記号表（勤務時間帯）'!$D$6:$Z$47,23,FALSE)) | Y29: =IF(Y27="","",VLOOKUP(Y27,'シフト記号表（勤務時間帯）'!$D$6:$Z$47,23,FALSE)) | Z29: =IF(Z27="","",VLOOKUP(Z27,'シフト記号表（勤務時間帯）'!$D$6:$Z$47,23,FALSE)) | AA29: =IF(AA27="","",VLOOKUP(AA27,'シフト記号表（勤務時間帯）'!$D$6:$Z$47,23,FALSE)) | AB29: =IF(AB27="","",VLOOKUP(AB27,'シフト記号表（勤務時間帯）'!$D$6:$Z$47,23,FALSE)) | ... AY29: =IF(AY27="","",VLOOKUP(AY27,'シフト記号表（勤務時間帯）'!$D$6:$Z$47,23,FALSE)) | AZ29: =IF($BC$3="４週",SUM(U29:AV29),IF($BC$3="暦月",SUM(U29:AY29),"")) -> 0 | BB29: =IF($BC$3="４週",AZ29/4,IF($BC$3="暦月",(AZ29/($BC$8/7)),"")) -> 0
P30: シフト記号
B31: =B28+1 -> 4 | F31: =C30 -> 0 | P31: 日中の勤務時間数 | U31: =IF(U30="","",VLOOKUP(U30,'シフト記号表（勤務時間帯）'!$D$6:$X$47,21,FALSE)) | V31: =IF(V30="","",VLOOKUP(V30,'シフト記号表（勤務時間帯）'!$D$6:$X$47,21,FALSE)) | W31: =IF(W30="","",VLOOKUP(W30,'シフト記号表（勤務時間帯）'!$D$6:$X$47,21,FALSE)) | X31: =IF(X30="","",VLOOKUP(X30,'シフト記号表（勤務時間帯）'!$D$6:$X$47,21,FALSE)) | Y31: =IF(Y30="","",VLOOKUP(Y30,'シフト記号表（勤務時間帯）'!$D$6:$X$47,21,FALSE)) | Z31: =IF(Z30="","",VLOOKUP(Z30,'シフト記号表（勤務時間帯）'!$D$6:$X$47,21,FALSE)) | AA31: =IF(AA30="","",VLOOKUP(AA30,'シフト記号表（勤務時間帯）'!$D$6:$X$47,21,FALSE)) | AB31: =IF(AB30="","",VLOOKUP(AB30,'シフト記号表（勤務時間帯）'!$D$6:$X$47,21,FALSE)) | ... AY31: =IF(AY30="","",VLOOKUP(AY30,'シフト記号表（勤務時間帯）'!$D$6:$X$47,21,FALSE)) | AZ31: =IF($BC$3="４週",SUM(U31:AV31),IF($BC$3="暦月",SUM(U31:AY31),"")) -> 0 | BB31: =IF($BC$3="４週",AZ31/4,IF($BC$3="暦月",(AZ31/($BC$8/7)),"")) -> 0
G32: =C30 -> 0 | P32: 夜間・深夜の勤務時間数 | U32: =IF(U30="","",VLOOKUP(U30,'シフト記号表（勤務時間帯）'!$D$6:$Z$47,23,FALSE)) | V32: =IF(V30="","",VLOOKUP(V30,'シフト記号表（勤務時間帯）'!$D$6:$Z$47,23,FALSE)) | W32: =IF(W30="","",VLOOKUP(W30,'シフト記号表（勤務時間帯）'!$D$6:$Z$47,23,FALSE)) | X32: =IF(X30="","",VLOOKUP(X30,'シフト記号表（勤務時間帯）'!$D$6:$Z$47,23,FALSE)) | Y32: =IF(Y30="","",VLOOKUP(Y30,'シフト記号表（勤務時間帯）'!$D$6:$Z$47,23,FALSE)) | Z32: =IF(Z30="","",VLOOKUP(Z30,'シフト記号表（勤務時間帯）'!$D$6:$Z$47,23,FALSE)) | AA32: =IF(AA30="","",VLOOKUP(AA30,'シフト記号表（勤務時間帯）'!$D$6:$Z$47,23,FALSE)) | AB32: =IF(AB30="","",VLOOKUP(AB30,'シフト記号表（勤務時間帯）'!$D$6:$Z$47,23,FALSE)) | ... AY32: =IF(AY30="","",VLOOKUP(AY30,'シフト記号表（勤務時間帯）'!$D$6:$Z$47,23,FALSE)) | AZ32: =IF($BC$3="４週",SUM(U32:AV32),IF($BC$3="暦月",SUM(U32:AY32),"")) -> 0 | BB32: =IF($BC$3="４週",AZ32/4,IF($BC$3="暦月",(AZ32/($BC$8/7)),"")) -> 0
P33: シフト記号
B34: =B31+1 -> 5 | F34: =C33 -> 0 | P34: 日中の勤務時間数 | U34: =IF(U33="","",VLOOKUP(U33,'シフト記号表（勤務時間帯）'!$D$6:$X$47,21,FALSE)) | V34: =IF(V33="","",VLOOKUP(V33,'シフト記号表（勤務時間帯）'!$D$6:$X$47,21,FALSE)) | W34: =IF(W33="","",VLOOKUP(W33,'シフト記号表（勤務時間帯）'!$D$6:$X$47,21,FALSE)) | X34: =IF(X33="","",VLOOKUP(X33,'シフト記号表（勤務時間帯）'!$D$6:$X$47,21,FALSE)) | Y34: =IF(Y33="","",VLOOKUP(Y33,'シフト記号表（勤務時間帯）'!$D$6:$X$47,21,FALSE)) | Z34: =IF(Z33="","",VLOOKUP(Z33,'シフト記号表（勤務時間帯）'!$D$6:$X$47,21,FALSE)) | AA34: =IF(AA33="","",VLOOKUP(AA33,'シフト記号表（勤務時間帯）'!$D$6:$X$47,21,FALSE)) | AB34: =IF(AB33="","",VLOOKUP(AB33,'シフト記号表（勤務時間帯）'!$D$6:$X$47,21,FALSE)) | ... AY34: =IF(AY33="","",VLOOKUP(AY33,'シフト記号表（勤務時間帯）'!$D$6:$X$47,21,FALSE)) | AZ34: =IF($BC$3="４週",SUM(U34:AV34),IF($BC$3="暦月",SUM(U34:AY34),"")) -> 0 | BB34: =IF($BC$3="４週",AZ34/4,IF($BC$3="暦月",(AZ34/($BC$8/7)),"")) -> 0
G35: =C33 -> 0 | P35: 夜間・深夜の勤務時間数 | U35: =IF(U33="","",VLOOKUP(U33,'シフト記号表（勤務時間帯）'!$D$6:$Z$47,23,FALSE)) | V35: =IF(V33="","",VLOOKUP(V33,'シフト記号表（勤務時間帯）'!$D$6:$Z$47,23,FALSE)) | W35: =IF(W33="","",VLOOKUP(W33,'シフト記号表（勤務時間帯）'!$D$6:$Z$47,23,FALSE)) | X35: =IF(X33="","",VLOOKUP(X33,'シフト記号表（勤務時間帯）'!$D$6:$Z$47,23,FALSE)) | Y35: =IF(Y33="","",VLOOKUP(Y33,'シフト記号表（勤務時間帯）'!$D$6:$Z$47,23,FALSE)) | Z35: =IF(Z33="","",VLOOKUP(Z33,'シフト記号表（勤務時間帯）'!$D$6:$Z$47,23,FALSE)) | AA35: =IF(AA33="","",VLOOKUP(AA33,'シフト記号表（勤務時間帯）'!$D$6:$Z$47,23,FALSE)) | AB35: =IF(AB33="","",VLOOKUP(AB33,'シフト記号表（勤務時間帯）'!$D$6:$Z$47,23,FALSE)) | ... AY35: =IF(AY33="","",VLOOKUP(AY33,'シフト記号表（勤務時間帯）'!$D$6:$Z$47,23,FALSE)) | AZ35: =IF($BC$3="４週",SUM(U35:AV35),IF($BC$3="暦月",SUM(U35:AY35),"")) -> 0 | BB35: =IF($BC$3="４週",AZ35/4,IF($BC$3="暦月",(AZ35/($BC$8/7)),"")) -> 0
P36: シフト記号
B37: =B34+1 -> 6 | F37: =C36 -> 0 | P37: 日中の勤務時間数 | U37: =IF(U36="","",VLOOKUP(U36,'シフト記号表（勤務時間帯）'!$D$6:$X$47,21,FALSE)) | V37: =IF(V36="","",VLOOKUP(V36,'シフト記号表（勤務時間帯）'!$D$6:$X$47,21,FALSE)) | W37: =IF(W36="","",VLOOKUP(W36,'シフト記号表（勤務時間帯）'!$D$6:$X$47,21,FALSE)) | X37: =IF(X36="","",VLOOKUP(X36,'シフト記号表（勤務時間帯）'!$D$6:$X$47,21,FALSE)) | Y37: =IF(Y36="","",VLOOKUP(Y36,'シフト記号表（勤務時間帯）'!$D$6:$X$47,21,FALSE)) | Z37: =IF(Z36="","",VLOOKUP(Z36,'シフト記号表（勤務時間帯）'!$D$6:$X$47,21,FALSE)) | AA37: =IF(AA36="","",VLOOKUP(AA36,'シフト記号表（勤務時間帯）'!$D$6:$X$47,21,FALSE)) | AB37: =IF(AB36="","",VLOOKUP(AB36,'シフト記号表（勤務時間帯）'!$D$6:$X$47,21,FALSE)) | ... AY37: =IF(AY36="","",VLOOKUP(AY36,'シフト記号表（勤務時間帯）'!$D$6:$X$47,21,FALSE)) | AZ37: =IF($BC$3="４週",SUM(U37:AV37),IF($BC$3="暦月",SUM(U37:AY37),"")) -> 0 | BB37: =IF($BC$3="４週",AZ37/4,IF($BC$3="暦月",(AZ37/($BC$8/7)),"")) -> 0
G38: =C36 -> 0 | P38: 夜間・深夜の勤務時間数 | U38: =IF(U36="","",VLOOKUP(U36,'シフト記号表（勤務時間帯）'!$D$6:$Z$47,23,FALSE)) | V38: =IF(V36="","",VLOOKUP(V36,'シフト記号表（勤務時間帯）'!$D$6:$Z$47,23,FALSE)) | W38: =IF(W36="","",VLOOKUP(W36,'シフト記号表（勤務時間帯）'!$D$6:$Z$47,23,FALSE)) | X38: =IF(X36="","",VLOOKUP(X36,'シフト記号表（勤務時間帯）'!$D$6:$Z$47,23,FALSE)) | Y38: =IF(Y36="","",VLOOKUP(Y36,'シフト記号表（勤務時間帯）'!$D$6:$Z$47,23,FALSE)) | Z38: =IF(Z36="","",VLOOKUP(Z36,'シフト記号表（勤務時間帯）'!$D$6:$Z$47,23,FALSE)) | AA38: =IF(AA36="","",VLOOKUP(AA36,'シフト記号表（勤務時間帯）'!$D$6:$Z$47,23,FALSE)) | AB38: =IF(AB36="","",VLOOKUP(AB36,'シフト記号表（勤務時間帯）'!$D$6:$Z$47,23,FALSE)) | ... AY38: =IF(AY36="","",VLOOKUP(AY36,'シフト記号表（勤務時間帯）'!$D$6:$Z$47,23,FALSE)) | AZ38: =IF($BC$3="４週",SUM(U38:AV38),IF($BC$3="暦月",SUM(U38:AY38),"")) -> 0 | BB38: =IF($BC$3="４週",AZ38/4,IF($BC$3="暦月",(AZ38/($BC$8/7)),"")) -> 0
P39: シフト記号
B40: =B37+1 -> 7 | F40: =C39 -> 0 | P40: 日中の勤務時間数 | U40: =IF(U39="","",VLOOKUP(U39,'シフト記号表（勤務時間帯）'!$D$6:$X$47,21,FALSE)) | V40: =IF(V39="","",VLOOKUP(V39,'シフト記号表（勤務時間帯）'!$D$6:$X$47,21,FALSE)) | W40: =IF(W39="","",VLOOKUP(W39,'シフト記号表（勤務時間帯）'!$D$6:$X$47,21,FALSE)) | X40: =IF(X39="","",VLOOKUP(X39,'シフト記号表（勤務時間帯）'!$D$6:$X$47,21,FALSE)) | Y40: =IF(Y39="","",VLOOKUP(Y39,'シフト記号表（勤務時間帯）'!$D$6:$X$47,21,FALSE)) | Z40: =IF(Z39="","",VLOOKUP(Z39,'シフト記号表（勤務時間帯）'!$D$6:$X$47,21,FALSE)) | AA40: =IF(AA39="","",VLOOKUP(AA39,'シフト記号表（勤務時間帯）'!$D$6:$X$47,21,FALSE)) | AB40: =IF(AB39="","",VLOOKUP(AB39,'シフト記号表（勤務時間帯）'!$D$6:$X$47,21,FALSE)) | ... AY40: =IF(AY39="","",VLOOKUP(AY39,'シフト記号表（勤務時間帯）'!$D$6:$X$47,21,FALSE)) | AZ40: =IF($BC$3="４週",SUM(U40:AV40),IF($BC$3="暦月",SUM(U40:AY40),"")) -> 0 | BB40: =IF($BC$3="４週",AZ40/4,IF($BC$3="暦月",(AZ40/($BC$8/7)),"")) -> 0
G41: =C39 -> 0 | P41: 夜間・深夜の勤務時間数 | U41: =IF(U39="","",VLOOKUP(U39,'シフト記号表（勤務時間帯）'!$D$6:$Z$47,23,FALSE)) | V41: =IF(V39="","",VLOOKUP(V39,'シフト記号表（勤務時間帯）'!$D$6:$Z$47,23,FALSE)) | W41: =IF(W39="","",VLOOKUP(W39,'シフト記号表（勤務時間帯）'!$D$6:$Z$47,23,FALSE)) | X41: =IF(X39="","",VLOOKUP(X39,'シフト記号表（勤務時間帯）'!$D$6:$Z$47,23,FALSE)) | Y41: =IF(Y39="","",VLOOKUP(Y39,'シフト記号表（勤務時間帯）'!$D$6:$Z$47,23,FALSE)) | Z41: =IF(Z39="","",VLOOKUP(Z39,'シフト記号表（勤務時間帯）'!$D$6:$Z$47,23,FALSE)) | AA41: =IF(AA39="","",VLOOKUP(AA39,'シフト記号表（勤務時間帯）'!$D$6:$Z$47,23,FALSE)) | AB41: =IF(AB39="","",VLOOKUP(AB39,'シフト記号表（勤務時間帯）'!$D$6:$Z$47,23,FALSE)) | ... AY41: =IF(AY39="","",VLOOKUP(AY39,'シフト記号表（勤務時間帯）'!$D$6:$Z$47,23,FALSE)) | AZ41: =IF($BC$3="４週",SUM(U41:AV41),IF($BC$3="暦月",SUM(U41:AY41),"")) -> 0 | BB41: =IF($BC$3="４週",AZ41/4,IF($BC$3="暦月",(AZ41/($BC$8/7)),"")) -> 0
P42: シフト記号
B43: =B40+1 -> 8 | F43: =C42 -> 0 | P43: 日中の勤務時間数 | U43: =IF(U42="","",VLOOKUP(U42,'シフト記号表（勤務時間帯）'!$D$6:$X$47,21,FALSE)) | V43: =IF(V42="","",VLOOKUP(V42,'シフト記号表（勤務時間帯）'!$D$6:$X$47,21,FALSE)) | W43: =IF(W42="","",VLOOKUP(W42,'シフト記号表（勤務時間帯）'!$D$6:$X$47,21,FALSE)) | X43: =IF(X42="","",VLOOKUP(X42,'シフト記号表（勤務時間帯）'!$D$6:$X$47,21,FALSE)) | Y43: =IF(Y42="","",VLOOKUP(Y42,'シフト記号表（勤務時間帯）'!$D$6:$X$47,21,FALSE)) | Z43: =IF(Z42="","",VLOOKUP(Z42,'シフト記号表（勤務時間帯）'!$D$6:$X$47,21,FALSE)) | AA43: =IF(AA42="","",VLOOKUP(AA42,'シフト記号表（勤務時間帯）'!$D$6:$X$47,21,FALSE)) | AB43: =IF(AB42="","",VLOOKUP(AB42,'シフト記号表（勤務時間帯）'!$D$6:$X$47,21,FALSE)) | ... AY43: =IF(AY42="","",VLOOKUP(AY42,'シフト記号表（勤務時間帯）'!$D$6:$X$47,21,FALSE)) | AZ43: =IF($BC$3="４週",SUM(U43:AV43),IF($BC$3="暦月",SUM(U43:AY43),"")) -> 0 | BB43: =IF($BC$3="４週",AZ43/4,IF($BC$3="暦月",(AZ43/($BC$8/7)),"")) -> 0
G44: =C42 -> 0 | P44: 夜間・深夜の勤務時間数 | U44: =IF(U42="","",VLOOKUP(U42,'シフト記号表（勤務時間帯）'!$D$6:$Z$47,23,FALSE)) | V44: =IF(V42="","",VLOOKUP(V42,'シフト記号表（勤務時間帯）'!$D$6:$Z$47,23,FALSE)) | W44: =IF(W42="","",VLOOKUP(W42,'シフト記号表（勤務時間帯）'!$D$6:$Z$47,23,FALSE)) | X44: =IF(X42="","",VLOOKUP(X42,'シフト記号表（勤務時間帯）'!$D$6:$Z$47,23,FALSE)) | Y44: =IF(Y42="","",VLOOKUP(Y42,'シフト記号表（勤務時間帯）'!$D$6:$Z$47,23,FALSE)) | Z44: =IF(Z42="","",VLOOKUP(Z42,'シフト記号表（勤務時間帯）'!$D$6:$Z$47,23,FALSE)) | AA44: =IF(AA42="","",VLOOKUP(AA42,'シフト記号表（勤務時間帯）'!$D$6:$Z$47,23,FALSE)) | AB44: =IF(AB42="","",VLOOKUP(AB42,'シフト記号表（勤務時間帯）'!$D$6:$Z$47,23,FALSE)) | ... AY44: =IF(AY42="","",VLOOKUP(AY42,'シフト記号表（勤務時間帯）'!$D$6:$Z$47,23,FALSE)) | AZ44: =IF($BC$3="４週",SUM(U44:AV44),IF($BC$3="暦月",SUM(U44:AY44),"")) -> 0 | BB44: =IF($BC$3="４週",AZ44/4,IF($BC$3="暦月",(AZ44/($BC$8/7)),"")) -> 0
P45: シフト記号
B46: =B43+1 -> 9 | F46: =C45 -> 0 | P46: 日中の勤務時間数 | U46: =IF(U45="","",VLOOKUP(U45,'シフト記号表（勤務時間帯）'!$D$6:$X$47,21,FALSE)) | V46: =IF(V45="","",VLOOKUP(V45,'シフト記号表（勤務時間帯）'!$D$6:$X$47,21,FALSE)) | W46: =IF(W45="","",VLOOKUP(W45,'シフト記号表（勤務時間帯）'!$D$6:$X$47,21,FALSE)) | X46: =IF(X45="","",VLOOKUP(X45,'シフト記号表（勤務時間帯）'!$D$6:$X$47,21,FALSE)) | Y46: =IF(Y45="","",VLOOKUP(Y45,'シフト記号表（勤務時間帯）'!$D$6:$X$47,21,FALSE)) | Z46: =IF(Z45="","",VLOOKUP(Z45,'シフト記号表（勤務時間帯）'!$D$6:$X$47,21,FALSE)) | AA46: =IF(AA45="","",VLOOKUP(AA45,'シフト記号表（勤務時間帯）'!$D$6:$X$47,21,FALSE)) | AB46: =IF(AB45="","",VLOOKUP(AB45,'シフト記号表（勤務時間帯）'!$D$6:$X$47,21,FALSE)) | ... AY46: =IF(AY45="","",VLOOKUP(AY45,'シフト記号表（勤務時間帯）'!$D$6:$X$47,21,FALSE)) | AZ46: =IF($BC$3="４週",SUM(U46:AV46),IF($BC$3="暦月",SUM(U46:AY46),"")) -> 0 | BB46: =IF($BC$3="４週",AZ46/4,IF($BC$3="暦月",(AZ46/($BC$8/7)),"")) -> 0
G47: =C45 -> 0 | P47: 夜間・深夜の勤務時間数 | U47: =IF(U45="","",VLOOKUP(U45,'シフト記号表（勤務時間帯）'!$D$6:$Z$47,23,FALSE)) | V47: =IF(V45="","",VLOOKUP(V45,'シフト記号表（勤務時間帯）'!$D$6:$Z$47,23,FALSE)) | W47: =IF(W45="","",VLOOKUP(W45,'シフト記号表（勤務時間帯）'!$D$6:$Z$47,23,FALSE)) | X47: =IF(X45="","",VLOOKUP(X45,'シフト記号表（勤務時間帯）'!$D$6:$Z$47,23,FALSE)) | Y47: =IF(Y45="","",VLOOKUP(Y45,'シフト記号表（勤務時間帯）'!$D$6:$Z$47,23,FALSE)) | Z47: =IF(Z45="","",VLOOKUP(Z45,'シフト記号表（勤務時間帯）'!$D$6:$Z$47,23,FALSE)) | AA47: =IF(AA45="","",VLOOKUP(AA45,'シフト記号表（勤務時間帯）'!$D$6:$Z$47,23,FALSE)) | AB47: =IF(AB45="","",VLOOKUP(AB45,'シフト記号表（勤務時間帯）'!$D$6:$Z$47,23,FALSE)) | ... AY47: =IF(AY45="","",VLOOKUP(AY45,'シフト記号表（勤務時間帯）'!$D$6:$Z$47,23,FALSE)) | AZ47: =IF($BC$3="４週",SUM(U47:AV47),IF($BC$3="暦月",SUM(U47:AY47),"")) -> 0 | BB47: =IF($BC$3="４週",AZ47/4,IF($BC$3="暦月",(AZ47/($BC$8/7)),"")) -> 0
P48: シフト記号
B49: =B46+1 -> 10 | F49: =C48 -> 0 | P49: 日中の勤務時間数 | U49: =IF(U48="","",VLOOKUP(U48,'シフト記号表（勤務時間帯）'!$D$6:$X$47,21,FALSE)) | V49: =IF(V48="","",VLOOKUP(V48,'シフト記号表（勤務時間帯）'!$D$6:$X$47,21,FALSE)) | W49: =IF(W48="","",VLOOKUP(W48,'シフト記号表（勤務時間帯）'!$D$6:$X$47,21,FALSE)) | X49: =IF(X48="","",VLOOKUP(X48,'シフト記号表（勤務時間帯）'!$D$6:$X$47,21,FALSE)) | Y49: =IF(Y48="","",VLOOKUP(Y48,'シフト記号表（勤務時間帯）'!$D$6:$X$47,21,FALSE)) | Z49: =IF(Z48="","",VLOOKUP(Z48,'シフト記号表（勤務時間帯）'!$D$6:$X$47,21,FALSE)) | AA49: =IF(AA48="","",VLOOKUP(AA48,'シフト記号表（勤務時間帯）'!$D$6:$X$47,21,FALSE)) | AB49: =IF(AB48="","",VLOOKUP(AB48,'シフト記号表（勤務時間帯）'!$D$6:$X$47,21,FALSE)) | ... AY49: =IF(AY48="","",VLOOKUP(AY48,'シフト記号表（勤務時間帯）'!$D$6:$X$47,21,FALSE)) | AZ49: =IF($BC$3="４週",SUM(U49:AV49),IF($BC$3="暦月",SUM(U49:AY49),"")) -> 0 | BB49: =IF($BC$3="４週",AZ49/4,IF($BC$3="暦月",(AZ49/($BC$8/7)),"")) -> 0
G50: =C48 -> 0 | P50: 夜間・深夜の勤務時間数 | U50: =IF(U48="","",VLOOKUP(U48,'シフト記号表（勤務時間帯）'!$D$6:$Z$47,23,FALSE)) | V50: =IF(V48="","",VLOOKUP(V48,'シフト記号表（勤務時間帯）'!$D$6:$Z$47,23,FALSE)) | W50: =IF(W48="","",VLOOKUP(W48,'シフト記号表（勤務時間帯）'!$D$6:$Z$47,23,FALSE)) | X50: =IF(X48="","",VLOOKUP(X48,'シフト記号表（勤務時間帯）'!$D$6:$Z$47,23,FALSE)) | Y50: =IF(Y48="","",VLOOKUP(Y48,'シフト記号表（勤務時間帯）'!$D$6:$Z$47,23,FALSE)) | Z50: =IF(Z48="","",VLOOKUP(Z48,'シフト記号表（勤務時間帯）'!$D$6:$Z$47,23,FALSE)) | AA50: =IF(AA48="","",VLOOKUP(AA48,'シフト記号表（勤務時間帯）'!$D$6:$Z$47,23,FALSE)) | AB50: =IF(AB48="","",VLOOKUP(AB48,'シフト記号表（勤務時間帯）'!$D$6:$Z$47,23,FALSE)) | ... AY50: =IF(AY48="","",VLOOKUP(AY48,'シフト記号表（勤務時間帯）'!$D$6:$Z$47,23,FALSE)) | AZ50: =IF($BC$3="４週",SUM(U50:AV50),IF($BC$3="暦月",SUM(U50:AY50),"")) -> 0 | BB50: =IF($BC$3="４週",AZ50/4,IF($BC$3="暦月",(AZ50/($BC$8/7)),"")) -> 0
P51: シフト記号
B52: =B49+1 -> 11 | F52: =C51 -> 0 | P52: 日中の勤務時間数 | U52: =IF(U51="","",VLOOKUP(U51,'シフト記号表（勤務時間帯）'!$D$6:$X$47,21,FALSE)) | V52: =IF(V51="","",VLOOKUP(V51,'シフト記号表（勤務時間帯）'!$D$6:$X$47,21,FALSE)) | W52: =IF(W51="","",VLOOKUP(W51,'シフト記号表（勤務時間帯）'!$D$6:$X$47,21,FALSE)) | X52: =IF(X51="","",VLOOKUP(X51,'シフト記号表（勤務時間帯）'!$D$6:$X$47,21,FALSE)) | Y52: =IF(Y51="","",VLOOKUP(Y51,'シフト記号表（勤務時間帯）'!$D$6:$X$47,21,FALSE)) | Z52: =IF(Z51="","",VLOOKUP(Z51,'シフト記号表（勤務時間帯）'!$D$6:$X$47,21,FALSE)) | AA52: =IF(AA51="","",VLOOKUP(AA51,'シフト記号表（勤務時間帯）'!$D$6:$X$47,21,FALSE)) | AB52: =IF(AB51="","",VLOOKUP(AB51,'シフト記号表（勤務時間帯）'!$D$6:$X$47,21,FALSE)) | ... AY52: =IF(AY51="","",VLOOKUP(AY51,'シフト記号表（勤務時間帯）'!$D$6:$X$47,21,FALSE)) | AZ52: =IF($BC$3="４週",SUM(U52:AV52),IF($BC$3="暦月",SUM(U52:AY52),"")) -> 0 | BB52: =IF($BC$3="４週",AZ52/4,IF($BC$3="暦月",(AZ52/($BC$8/7)),"")) -> 0
G53: =C51 -> 0 | P53: 夜間・深夜の勤務時間数 | U53: =IF(U51="","",VLOOKUP(U51,'シフト記号表（勤務時間帯）'!$D$6:$Z$47,23,FALSE)) | V53: =IF(V51="","",VLOOKUP(V51,'シフト記号表（勤務時間帯）'!$D$6:$Z$47,23,FALSE)) | W53: =IF(W51="","",VLOOKUP(W51,'シフト記号表（勤務時間帯）'!$D$6:$Z$47,23,FALSE)) | X53: =IF(X51="","",VLOOKUP(X51,'シフト記号表（勤務時間帯）'!$D$6:$Z$47,23,FALSE)) | Y53: =IF(Y51="","",VLOOKUP(Y51,'シフト記号表（勤務時間帯）'!$D$6:$Z$47,23,FALSE)) | Z53: =IF(Z51="","",VLOOKUP(Z51,'シフト記号表（勤務時間帯）'!$D$6:$Z$47,23,FALSE)) | AA53: =IF(AA51="","",VLOOKUP(AA51,'シフト記号表（勤務時間帯）'!$D$6:$Z$47,23,FALSE)) | AB53: =IF(AB51="","",VLOOKUP(AB51,'シフト記号表（勤務時間帯）'!$D$6:$Z$47,23,FALSE)) | ... AY53: =IF(AY51="","",VLOOKUP(AY51,'シフト記号表（勤務時間帯）'!$D$6:$Z$47,23,FALSE)) | AZ53: =IF($BC$3="４週",SUM(U53:AV53),IF($BC$3="暦月",SUM(U53:AY53),"")) -> 0 | BB53: =IF($BC$3="４週",AZ53/4,IF($BC$3="暦月",(AZ53/($BC$8/7)),"")) -> 0
P54: シフト記号
B55: =B52+1 -> 12 | F55: =C54 -> 0 | P55: 日中の勤務時間数 | U55: =IF(U54="","",VLOOKUP(U54,'シフト記号表（勤務時間帯）'!$D$6:$X$47,21,FALSE)) | V55: =IF(V54="","",VLOOKUP(V54,'シフト記号表（勤務時間帯）'!$D$6:$X$47,21,FALSE)) | W55: =IF(W54="","",VLOOKUP(W54,'シフト記号表（勤務時間帯）'!$D$6:$X$47,21,FALSE)) | X55: =IF(X54="","",VLOOKUP(X54,'シフト記号表（勤務時間帯）'!$D$6:$X$47,21,FALSE)) | Y55: =IF(Y54="","",VLOOKUP(Y54,'シフト記号表（勤務時間帯）'!$D$6:$X$47,21,FALSE)) | Z55: =IF(Z54="","",VLOOKUP(Z54,'シフト記号表（勤務時間帯）'!$D$6:$X$47,21,FALSE)) | AA55: =IF(AA54="","",VLOOKUP(AA54,'シフト記号表（勤務時間帯）'!$D$6:$X$47,21,FALSE)) | AB55: =IF(AB54="","",VLOOKUP(AB54,'シフト記号表（勤務時間帯）'!$D$6:$X$47,21,FALSE)) | ... AY55: =IF(AY54="","",VLOOKUP(AY54,'シフト記号表（勤務時間帯）'!$D$6:$X$47,21,FALSE)) | AZ55: =IF($BC$3="４週",SUM(U55:AV55),IF($BC$3="暦月",SUM(U55:AY55),"")) -> 0 | BB55: =IF($BC$3="４週",AZ55/4,IF($BC$3="暦月",(AZ55/($BC$8/7)),"")) -> 0
G56: =C54 -> 0 | P56: 夜間・深夜の勤務時間数 | U56: =IF(U54="","",VLOOKUP(U54,'シフト記号表（勤務時間帯）'!$D$6:$Z$47,23,FALSE)) | V56: =IF(V54="","",VLOOKUP(V54,'シフト記号表（勤務時間帯）'!$D$6:$Z$47,23,FALSE)) | W56: =IF(W54="","",VLOOKUP(W54,'シフト記号表（勤務時間帯）'!$D$6:$Z$47,23,FALSE)) | X56: =IF(X54="","",VLOOKUP(X54,'シフト記号表（勤務時間帯）'!$D$6:$Z$47,23,FALSE)) | Y56: =IF(Y54="","",VLOOKUP(Y54,'シフト記号表（勤務時間帯）'!$D$6:$Z$47,23,FALSE)) | Z56: =IF(Z54="","",VLOOKUP(Z54,'シフト記号表（勤務時間帯）'!$D$6:$Z$47,23,FALSE)) | AA56: =IF(AA54="","",VLOOKUP(AA54,'シフト記号表（勤務時間帯）'!$D$6:$Z$47,23,FALSE)) | AB56: =IF(AB54="","",VLOOKUP(AB54,'シフト記号表（勤務時間帯）'!$D$6:$Z$47,23,FALSE)) | ... AY56: =IF(AY54="","",VLOOKUP(AY54,'シフト記号表（勤務時間帯）'!$D$6:$Z$47,23,FALSE)) | AZ56: =IF($BC$3="４週",SUM(U56:AV56),IF($BC$3="暦月",SUM(U56:AY56),"")) -> 0 | BB56: =IF($BC$3="４週",AZ56/4,IF($BC$3="暦月",(AZ56/($BC$8/7)),"")) -> 0
P57: シフト記号
B58: =B55+1 -> 13 | F58: =C57 -> 0 | P58: 日中の勤務時間数 | U58: =IF(U57="","",VLOOKUP(U57,'シフト記号表（勤務時間帯）'!$D$6:$X$47,21,FALSE)) | V58: =IF(V57="","",VLOOKUP(V57,'シフト記号表（勤務時間帯）'!$D$6:$X$47,21,FALSE)) | W58: =IF(W57="","",VLOOKUP(W57,'シフト記号表（勤務時間帯）'!$D$6:$X$47,21,FALSE)) | X58: =IF(X57="","",VLOOKUP(X57,'シフト記号表（勤務時間帯）'!$D$6:$X$47,21,FALSE)) | Y58: =IF(Y57="","",VLOOKUP(Y57,'シフト記号表（勤務時間帯）'!$D$6:$X$47,21,FALSE)) | Z58: =IF(Z57="","",VLOOKUP(Z57,'シフト記号表（勤務時間帯）'!$D$6:$X$47,21,FALSE)) | AA58: =IF(AA57="","",VLOOKUP(AA57,'シフト記号表（勤務時間帯）'!$D$6:$X$47,21,FALSE)) | AB58: =IF(AB57="","",VLOOKUP(AB57,'シフト記号表（勤務時間帯）'!$D$6:$X$47,21,FALSE)) | ... AY58: =IF(AY57="","",VLOOKUP(AY57,'シフト記号表（勤務時間帯）'!$D$6:$X$47,21,FALSE)) | AZ58: =IF($BC$3="４週",SUM(U58:AV58),IF($BC$3="暦月",SUM(U58:AY58),"")) -> 0 | BB58: =IF($BC$3="４週",AZ58/4,IF($BC$3="暦月",(AZ58/($BC$8/7)),"")) -> 0
G59: =C57 -> 0 | P59: 夜間・深夜の勤務時間数 | U59: =IF(U57="","",VLOOKUP(U57,'シフト記号表（勤務時間帯）'!$D$6:$Z$47,23,FALSE)) | V59: =IF(V57="","",VLOOKUP(V57,'シフト記号表（勤務時間帯）'!$D$6:$Z$47,23,FALSE)) | W59: =IF(W57="","",VLOOKUP(W57,'シフト記号表（勤務時間帯）'!$D$6:$Z$47,23,FALSE)) | X59: =IF(X57="","",VLOOKUP(X57,'シフト記号表（勤務時間帯）'!$D$6:$Z$47,23,FALSE)) | Y59: =IF(Y57="","",VLOOKUP(Y57,'シフト記号表（勤務時間帯）'!$D$6:$Z$47,23,FALSE)) | Z59: =IF(Z57="","",VLOOKUP(Z57,'シフト記号表（勤務時間帯）'!$D$6:$Z$47,23,FALSE)) | AA59: =IF(AA57="","",VLOOKUP(AA57,'シフト記号表（勤務時間帯）'!$D$6:$Z$47,23,FALSE)) | AB59: =IF(AB57="","",VLOOKUP(AB57,'シフト記号表（勤務時間帯）'!$D$6:$Z$47,23,FALSE)) | ... AY59: =IF(AY57="","",VLOOKUP(AY57,'シフト記号表（勤務時間帯）'!$D$6:$Z$47,23,FALSE)) | AZ59: =IF($BC$3="４週",SUM(U59:AV59),IF($BC$3="暦月",SUM(U59:AY59),"")) -> 0 | BB59: =IF($BC$3="４週",AZ59/4,IF($BC$3="暦月",(AZ59/($BC$8/7)),"")) -> 0
P60: シフト記号
B61: =B58+1 -> 14 | F61: =C60 -> 0 | P61: 日中の勤務時間数 | U61: =IF(U60="","",VLOOKUP(U60,'シフト記号表（勤務時間帯）'!$D$6:$X$47,21,FALSE)) | V61: =IF(V60="","",VLOOKUP(V60,'シフト記号表（勤務時間帯）'!$D$6:$X$47,21,FALSE)) | W61: =IF(W60="","",VLOOKUP(W60,'シフト記号表（勤務時間帯）'!$D$6:$X$47,21,FALSE)) | X61: =IF(X60="","",VLOOKUP(X60,'シフト記号表（勤務時間帯）'!$D$6:$X$47,21,FALSE)) | Y61: =IF(Y60="","",VLOOKUP(Y60,'シフト記号表（勤務時間帯）'!$D$6:$X$47,21,FALSE)) | Z61: =IF(Z60="","",VLOOKUP(Z60,'シフト記号表（勤務時間帯）'!$D$6:$X$47,21,FALSE)) | AA61: =IF(AA60="","",VLOOKUP(AA60,'シフト記号表（勤務時間帯）'!$D$6:$X$47,21,FALSE)) | AB61: =IF(AB60="","",VLOOKUP(AB60,'シフト記号表（勤務時間帯）'!$D$6:$X$47,21,FALSE)) | ... AY61: =IF(AY60="","",VLOOKUP(AY60,'シフト記号表（勤務時間帯）'!$D$6:$X$47,21,FALSE)) | AZ61: =IF($BC$3="４週",SUM(U61:AV61),IF($BC$3="暦月",SUM(U61:AY61),"")) -> 0 | BB61: =IF($BC$3="４週",AZ61/4,IF($BC$3="暦月",(AZ61/($BC$8/7)),"")) -> 0
G62: =C60 -> 0 | P62: 夜間・深夜の勤務時間数 | U62: =IF(U60="","",VLOOKUP(U60,'シフト記号表（勤務時間帯）'!$D$6:$Z$47,23,FALSE)) | V62: =IF(V60="","",VLOOKUP(V60,'シフト記号表（勤務時間帯）'!$D$6:$Z$47,23,FALSE)) | W62: =IF(W60="","",VLOOKUP(W60,'シフト記号表（勤務時間帯）'!$D$6:$Z$47,23,FALSE)) | X62: =IF(X60="","",VLOOKUP(X60,'シフト記号表（勤務時間帯）'!$D$6:$Z$47,23,FALSE)) | Y62: =IF(Y60="","",VLOOKUP(Y60,'シフト記号表（勤務時間帯）'!$D$6:$Z$47,23,FALSE)) | Z62: =IF(Z60="","",VLOOKUP(Z60,'シフト記号表（勤務時間帯）'!$D$6:$Z$47,23,FALSE)) | AA62: =IF(AA60="","",VLOOKUP(AA60,'シフト記号表（勤務時間帯）'!$D$6:$Z$47,23,FALSE)) | AB62: =IF(AB60="","",VLOOKUP(AB60,'シフト記号表（勤務時間帯）'!$D$6:$Z$47,23,FALSE)) | ... AY62: =IF(AY60="","",VLOOKUP(AY60,'シフト記号表（勤務時間帯）'!$D$6:$Z$47,23,FALSE)) | AZ62: =IF($BC$3="４週",SUM(U62:AV62),IF($BC$3="暦月",SUM(U62:AY62),"")) -> 0 | BB62: =IF($BC$3="４週",AZ62/4,IF($BC$3="暦月",(AZ62/($BC$8/7)),"")) -> 0
P63: シフト記号
B64: =B61+1 -> 15 | F64: =C63 -> 0 | P64: 日中の勤務時間数 | U64: =IF(U63="","",VLOOKUP(U63,'シフト記号表（勤務時間帯）'!$D$6:$X$47,21,FALSE)) | V64: =IF(V63="","",VLOOKUP(V63,'シフト記号表（勤務時間帯）'!$D$6:$X$47,21,FALSE)) | W64: =IF(W63="","",VLOOKUP(W63,'シフト記号表（勤務時間帯）'!$D$6:$X$47,21,FALSE)) | X64: =IF(X63="","",VLOOKUP(X63,'シフト記号表（勤務時間帯）'!$D$6:$X$47,21,FALSE)) | Y64: =IF(Y63="","",VLOOKUP(Y63,'シフト記号表（勤務時間帯）'!$D$6:$X$47,21,FALSE)) | Z64: =IF(Z63="","",VLOOKUP(Z63,'シフト記号表（勤務時間帯）'!$D$6:$X$47,21,FALSE)) | AA64: =IF(AA63="","",VLOOKUP(AA63,'シフト記号表（勤務時間帯）'!$D$6:$X$47,21,FALSE)) | AB64: =IF(AB63="","",VLOOKUP(AB63,'シフト記号表（勤務時間帯）'!$D$6:$X$47,21,FALSE)) | ... AY64: =IF(AY63="","",VLOOKUP(AY63,'シフト記号表（勤務時間帯）'!$D$6:$X$47,21,FALSE)) | AZ64: =IF($BC$3="４週",SUM(U64:AV64),IF($BC$3="暦月",SUM(U64:AY64),"")) -> 0 | BB64: =IF($BC$3="４週",AZ64/4,IF($BC$3="暦月",(AZ64/($BC$8/7)),"")) -> 0
G65: =C63 -> 0 | P65: 夜間・深夜の勤務時間数 | U65: =IF(U63="","",VLOOKUP(U63,'シフト記号表（勤務時間帯）'!$D$6:$Z$47,23,FALSE)) | V65: =IF(V63="","",VLOOKUP(V63,'シフト記号表（勤務時間帯）'!$D$6:$Z$47,23,FALSE)) | W65: =IF(W63="","",VLOOKUP(W63,'シフト記号表（勤務時間帯）'!$D$6:$Z$47,23,FALSE)) | X65: =IF(X63="","",VLOOKUP(X63,'シフト記号表（勤務時間帯）'!$D$6:$Z$47,23,FALSE)) | Y65: =IF(Y63="","",VLOOKUP(Y63,'シフト記号表（勤務時間帯）'!$D$6:$Z$47,23,FALSE)) | Z65: =IF(Z63="","",VLOOKUP(Z63,'シフト記号表（勤務時間帯）'!$D$6:$Z$47,23,FALSE)) | AA65: =IF(AA63="","",VLOOKUP(AA63,'シフト記号表（勤務時間帯）'!$D$6:$Z$47,23,FALSE)) | AB65: =IF(AB63="","",VLOOKUP(AB63,'シフト記号表（勤務時間帯）'!$D$6:$Z$47,23,FALSE)) | ... AY65: =IF(AY63="","",VLOOKUP(AY63,'シフト記号表（勤務時間帯）'!$D$6:$Z$47,23,FALSE)) | AZ65: =IF($BC$3="４週",SUM(U65:AV65),IF($BC$3="暦月",SUM(U65:AY65),"")) -> 0 | BB65: =IF($BC$3="４週",AZ65/4,IF($BC$3="暦月",(AZ65/($BC$8/7)),"")) -> 0
P66: シフト記号
B67: =B64+1 -> 16 | F67: =C66 -> 0 | P67: 日中の勤務時間数 | U67: =IF(U66="","",VLOOKUP(U66,'シフト記号表（勤務時間帯）'!$D$6:$X$47,21,FALSE)) | V67: =IF(V66="","",VLOOKUP(V66,'シフト記号表（勤務時間帯）'!$D$6:$X$47,21,FALSE)) | W67: =IF(W66="","",VLOOKUP(W66,'シフト記号表（勤務時間帯）'!$D$6:$X$47,21,FALSE)) | X67: =IF(X66="","",VLOOKUP(X66,'シフト記号表（勤務時間帯）'!$D$6:$X$47,21,FALSE)) | Y67: =IF(Y66="","",VLOOKUP(Y66,'シフト記号表（勤務時間帯）'!$D$6:$X$47,21,FALSE)) | Z67: =IF(Z66="","",VLOOKUP(Z66,'シフト記号表（勤務時間帯）'!$D$6:$X$47,21,FALSE)) | AA67: =IF(AA66="","",VLOOKUP(AA66,'シフト記号表（勤務時間帯）'!$D$6:$X$47,21,FALSE)) | AB67: =IF(AB66="","",VLOOKUP(AB66,'シフト記号表（勤務時間帯）'!$D$6:$X$47,21,FALSE)) | ... AY67: =IF(AY66="","",VLOOKUP(AY66,'シフト記号表（勤務時間帯）'!$D$6:$X$47,21,FALSE)) | AZ67: =IF($BC$3="４週",SUM(U67:AV67),IF($BC$3="暦月",SUM(U67:AY67),"")) -> 0 | BB67: =IF($BC$3="４週",AZ67/4,IF($BC$3="暦月",(AZ67/($BC$8/7)),"")) -> 0
G68: =C66 -> 0 | P68: 夜間・深夜の勤務時間数 | U68: =IF(U66="","",VLOOKUP(U66,'シフト記号表（勤務時間帯）'!$D$6:$Z$47,23,FALSE)) | V68: =IF(V66="","",VLOOKUP(V66,'シフト記号表（勤務時間帯）'!$D$6:$Z$47,23,FALSE)) | W68: =IF(W66="","",VLOOKUP(W66,'シフト記号表（勤務時間帯）'!$D$6:$Z$47,23,FALSE)) | X68: =IF(X66="","",VLOOKUP(X66,'シフト記号表（勤務時間帯）'!$D$6:$Z$47,23,FALSE)) | Y68: =IF(Y66="","",VLOOKUP(Y66,'シフト記号表（勤務時間帯）'!$D$6:$Z$47,23,FALSE)) | Z68: =IF(Z66="","",VLOOKUP(Z66,'シフト記号表（勤務時間帯）'!$D$6:$Z$47,23,FALSE)) | AA68: =IF(AA66="","",VLOOKUP(AA66,'シフト記号表（勤務時間帯）'!$D$6:$Z$47,23,FALSE)) | AB68: =IF(AB66="","",VLOOKUP(AB66,'シフト記号表（勤務時間帯）'!$D$6:$Z$47,23,FALSE)) | ... AY68: =IF(AY66="","",VLOOKUP(AY66,'シフト記号表（勤務時間帯）'!$D$6:$Z$47,23,FALSE)) | AZ68: =IF($BC$3="４週",SUM(U68:AV68),IF($BC$3="暦月",SUM(U68:AY68),"")) -> 0 | BB68: =IF($BC$3="４週",AZ68/4,IF($BC$3="暦月",(AZ68/($BC$8/7)),"")) -> 0
B69: (14) 宿直① （上記における該当者のNoを記載）
B70: (14) 宿直② （上記における該当者のNoを記載）
B71: (15) 日ごとの通いサービスの実利用者数
B72: (16) 日ごとの宿泊サービスの実利用者数
B73: (17) 介護従業者の日中の勤務時間の合計 | U73: =IF(SUMIF($F$21:$F$68,"介護従業者",U21:U68)=0,"",SUMIF($F$21:$F$68,"介護従業者",U21:U68)) | V73: =IF(SUMIF($F$21:$F$68,"介護従業者",V21:V68)=0,"",SUMIF($F$21:$F$68,"介護従業者",V21:V68)) | W73: =IF(SUMIF($F$21:$F$68,"介護従業者",W21:W68)=0,"",SUMIF($F$21:$F$68,"介護従業者",W21:W68)) | X73: =IF(SUMIF($F$21:$F$68,"介護従業者",X21:X68)=0,"",SUMIF($F$21:$F$68,"介護従業者",X21:X68)) | Y73: =IF(SUMIF($F$21:$F$68,"介護従業者",Y21:Y68)=0,"",SUMIF($F$21:$F$68,"介護従業者",Y21:Y68)) | Z73: =IF(SUMIF($F$21:$F$68,"介護従業者",Z21:Z68)=0,"",SUMIF($F$21:$F$68,"介護従業者",Z21:Z68)) | AA73: =IF(SUMIF($F$21:$F$68,"介護従業者",AA21:AA68)=0,"",SUMIF($F$21:$F$68,"介護従業者",AA21:AA68)) | AB73: =IF(SUMIF($F$21:$F$68,"介護従業者",AB21:AB68)=0,"",SUMIF($F$21:$F$68,"介護従業者",AB21:AB68)) | ... AY73: =IF(SUMIF($F$21:$F$68,"介護従業者",AY21:AY68)=0,"",SUMIF($F$21:$F$68,"介護従業者",AY21:AY68)) | AZ73: =IF($BC$3="４週",SUM(U73:AV73),IF($BC$3="暦月",SUM(U73:AY73),"")) -> 0
B74: (18) 介護従業者の夜間・深夜の勤務時間の合計 | U74: =IF(SUMIF($G$21:$G$68,"介護従業者",U21:U68)=0,"",SUMIF($G$21:$G$68,"介護従業者",U21:U68)) | V74: =IF(SUMIF($G$21:$G$68,"介護従業者",V21:V68)=0,"",SUMIF($G$21:$G$68,"介護従業者",V21:V68)) | W74: =IF(SUMIF($G$21:$G$68,"介護従業者",W21:W68)=0,"",SUMIF($G$21:$G$68,"介護従業者",W21:W68)) | X74: =IF(SUMIF($G$21:$G$68,"介護従業者",X21:X68)=0,"",SUMIF($G$21:$G$68,"介護従業者",X21:X68)) | Y74: =IF(SUMIF($G$21:$G$68,"介護従業者",Y21:Y68)=0,"",SUMIF($G$21:$G$68,"介護従業者",Y21:Y68)) | Z74: =IF(SUMIF($G$21:$G$68,"介護従業者",Z21:Z68)=0,"",SUMIF($G$21:$G$68,"介護従業者",Z21:Z68)) | AA74: =IF(SUMIF($G$21:$G$68,"介護従業者",AA21:AA68)=0,"",SUMIF($G$21:$G$68,"介護従業者",AA21:AA68)) | AB74: =IF(SUMIF($G$21:$G$68,"介護従業者",AB21:AB68)=0,"",SUMIF($G$21:$G$68,"介護従業者",AB21:AB68)) | ... AY74: =IF(SUMIF($G$21:$G$68,"介護従業者",AY21:AY68)=0,"",SUMIF($G$21:$G$68,"介護従業者",AY21:AY68)) | AZ74: =IF($BC$3="４週",SUM(U74:AV74),IF($BC$3="暦月",SUM(U74:AY74),"")) -> 0

Sheet シフト記号表（勤務時間帯）
B1: ≪要 提出≫
B2: ■シフト記号表（勤務時間帯）
B3: ※24時間表記 | F3: 休憩時間1時間は「1:00」、休憩時間45分は「00:45」と入力してください。
F4: 勤務時間 | N4: 日中の時間帯 | R4: 日中の勤務時間 | Z4: 夜間及び深夜 | AB4: 自由記載欄
B5: No | C5: 記号 | F5: 始業時刻 | H5: 終業時刻 | J5: うち、休憩時間 | L5: 勤務時間 | N5: 開始時刻 | P5: 終了時刻 | R5: 開始時刻 | T5: 終了時刻 | V5: うち、休憩時間 | X5: 勤務時間 | Z5: の勤務時間
B6: 1 | C6: a | D6: =C6 -> a | E6: ： | G6: ～ | I6: （ | J6: 0 | K6: ） | L6: =IF(OR(F6="",H6=""),"",(H6+IF(F6>H6,1,0)-F6-J6)*24) | N6: 0.29166667 | O6: ～ | P6: 0.83333333 | R6: =IF(F6="","",IF(F6<N6,N6,IF(F6>=P6,"",F6))) | S6: ～ | T6: =IF(H6="","",IF(H6>F6,IF(H6<P6,H6,P6),P6)) | U6: （ | V6: 0 | W6: ） | X6: =IF(R6="","",IF((T6+IF(R6>T6,1,0)-R6-V6)*24=0,"",(T6+IF(R6>T6,1,0)-R6-V6)*24)) | Z6: =IF(X6="",L6,IF(OR(L6-X6=0,L6-X6<0),"-",L6-X6))
B7: 2 | C7: b | D7: =C7 -> b | E7: ： | G7: ～ | I7: （ | J7: 0 | K7: ） | L7: =IF(OR(F7="",H7=""),"",(H7+IF(F7>H7,1,0)-F7-J7)*24) | N7: =$N$6 -> 0.29166667 | O7: ～ | P7: =$P$6 -> 0.83333333 | R7: =IF(F7="","",IF(F7<N7,N7,IF(F7>=P7,"",F7))) | S7: ～ | T7: =IF(H7="","",IF(H7>F7,IF(H7<P7,H7,P7),P7)) | U7: （ | V7: 0 | W7: ） | X7: =IF(R7="","",IF((T7+IF(R7>T7,1,0)-R7-V7)*24=0,"",(T7+IF(R7>T7,1,0)-R7-V7)*24)) | Z7: =IF(X7="",L7,IF(OR(L7-X7=0,L7-X7<0),"-",L7-X7))
B8: 3 | C8: c | D8: =C8 -> c | E8: ： | G8: ～ | I8: （ | J8: 0 | K8: ） | L8: =IF(OR(F8="",H8=""),"",(H8+IF(F8>H8,1,0)-F8-J8)*24) | N8: =$N$6 -> 0.29166667 | O8: ～ | P8: =$P$6 -> 0.83333333 | R8: =IF(F8="","",IF(F8<N8,N8,IF(F8>=P8,"",F8))) | S8: ～ | T8: =IF(H8="","",IF(H8>F8,IF(H8<P8,H8,P8),P8)) | U8: （ | V8: 0 | W8: ） | X8: =IF(R8="","",IF((T8+IF(R8>T8,1,0)-R8-V8)*24=0,"",(T8+IF(R8>T8,1,0)-R8-V8)*24)) | Z8: =IF(X8="",L8,IF(OR(L8-X8=0,L8-X8<0),"-",L8-X8))
B9: 4 | C9: d | D9: =C9 -> d | E9: ： | G9: ～ | I9: （ | J9: 0 | K9: ） | L9: =IF(OR(F9="",H9=""),"",(H9+IF(F9>H9,1,0)-F9-J9)*24) | N9: =$N$6 -> 0.29166667 | O9: ～ | P9: =$P$6 -> 0.83333333 | R9: =IF(F9="","",IF(F9<N9,N9,IF(F9>=P9,"",F9))) | S9: ～ | T9: =IF(H9="","",IF(H9>F9,IF(H9<P9,H9,P9),P9)) | U9: （ | V9: 0 | W9: ） | X9: =IF(R9="","",IF((T9+IF(R9>T9,1,0)-R9-V9)*24=0,"",(T9+IF(R9>T9,1,0)-R9-V9)*24)) | Z9: =IF(X9="",L9,IF(OR(L9-X9=0,L9-X9<0),"-",L9-X9))
B10: 5 | C10: e | D10: =C10 -> e | E10: ： | G10: ～ | I10: （ | J10: 0 | K10: ） | L10: =IF(OR(F10="",H10=""),"",(H10+IF(F10>H10,1,0)-F10-J10)*24) | N10: =$N$6 -> 0.29166667 | O10: ～ | P10: =$P$6 -> 0.83333333 | R10: =IF(F10="","",IF(F10<N10,N10,IF(F10>=P10,"",F10))) | S10: ～ | T10: =IF(H10="","",IF(H10>F10,IF(H10<P10,H10,P10),P10)) | U10: （ | V10: 0 | W10: ） | X10: =IF(R10="","",IF((T10+IF(R10>T10,1,0)-R10-V10)*24=0,"",(T10+IF(R10>T10,1,0)-R10-V10)*24)) | Z10: =IF(X10="",L10,IF(OR(L10-X10=0,L10-X10<0),"-",L10-X10))
B11: 6 | C11: f | D11: =C11 -> f | E11: ： | G11: ～ | I11: （ | J11: 0 | K11: ） | L11: =IF(OR(F11="",H11=""),"",(H11+IF(F11>H11,1,0)-F11-J11)*24) | N11: =$N$6 -> 0.29166667 | O11: ～ | P11: =$P$6 -> 0.83333333 | R11: =IF(F11="","",IF(F11<N11,N11,IF(F11>=P11,"",F11))) | S11: ～ | T11: =IF(H11="","",IF(H11>F11,IF(H11<P11,H11,P11),P11)) | U11: （ | V11: 0 | W11: ） | X11: =IF(R11="","",IF((T11+IF(R11>T11,1,0)-R11-V11)*24=0,"",(T11+IF(R11>T11,1,0)-R11-V11)*24)) | Z11: =IF(X11="",L11,IF(OR(L11-X11=0,L11-X11<0),"-",L11-X11))
B12: 7 | C12: g | D12: =C12 -> g | E12: ： | G12: ～ | I12: （ | J12: 0 | K12: ） | L12: =IF(OR(F12="",H12=""),"",(H12+IF(F12>H12,1,0)-F12-J12)*24) | N12: =$N$6 -> 0.29166667 | O12: ～ | P12: =$P$6 -> 0.83333333 | R12: =IF(F12="","",IF(F12<N12,N12,IF(F12>=P12,"",F12))) | S12: ～ | T12: =IF(H12="","",IF(H12>F12,IF(H12<P12,H12,P12),P12)) | U12: （ | V12: 0 | W12: ） | X12: =IF(R12="","",IF((T12+IF(R12>T12,1,0)-R12-V12)*24=0,"",(T12+IF(R12>T12,1,0)-R12-V12)*24)) | Z12: =IF(X12="",L12,IF(OR(L12-X12=0,L12-X12<0),"-",L12-X12))
B13: 8 | C13: h | D13: =C13 -> h | E13: ： | G13: ～ | I13: （ | J13: 0 | K13: ） | L13: =IF(OR(F13="",H13=""),"",(H13+IF(F13>H13,1,0)-F13-J13)*24) | N13: =$N$6 -> 0.29166667 | O13: ～ | P13: =$P$6 -> 0.83333333 | R13: =IF(F13="","",IF(F13<N13,N13,IF(F13>=P13,"",F13))) | S13: ～ | T13: =IF(H13="","",IF(H13>F13,IF(H13<P13,H13,P13),P13)) | U13: （ | V13: 0 | W13: ） | X13: =IF(R13="","",IF((T13+IF(R13>T13,1,0)-R13-V13)*24=0,"",(T13+IF(R13>T13,1,0)-R13-V13)*24)) | Z13: =IF(X13="",L13,IF(OR(L13-X13=0,L13-X13<0),"-",L13-X13))
B14: 9 | C14: i | D14: =C14 -> i | E14: ： | G14: ～ | I14: （ | J14: 0 | K14: ） | L14: =IF(OR(F14="",H14=""),"",(H14+IF(F14>H14,1,0)-F14-J14)*24) | N14: =$N$6 -> 0.29166667 | O14: ～ | P14: =$P$6 -> 0.83333333 | R14: =IF(F14="","",IF(F14<N14,N14,IF(F14>=P14,"",F14))) | S14: ～ | T14: =IF(H14="","",IF(H14>F14,IF(H14<P14,H14,P14),P14)) | U14: （ | V14: 0 | W14: ） | X14: =IF(R14="","",IF((T14+IF(R14>T14,1,0)-R14-V14)*24=0,"",(T14+IF(R14>T14,1,0)-R14-V14)*24)) | Z14: =IF(X14="",L14,IF(OR(L14-X14=0,L14-X14<0),"-",L14-X14))
B15: 10 | C15: j | D15: =C15 -> j | E15: ： | G15: ～ | I15: （ | J15: 0 | K15: ） | L15: =IF(OR(F15="",H15=""),"",(H15+IF(F15>H15,1,0)-F15-J15)*24) | N15: =$N$6 -> 0.29166667 | O15: ～ | P15: =$P$6 -> 0.83333333 | R15: =IF(F15="","",IF(F15<N15,N15,IF(F15>=P15,"",F15))) | S15: ～ | T15: =IF(H15="","",IF(H15>F15,IF(H15<P15,H15,P15),P15)) | U15: （ | V15: 0 | W15: ） | X15: =IF(R15="","",IF((T15+IF(R15>T15,1,0)-R15-V15)*24=0,"",(T15+IF(R15>T15,1,0)-R15-V15)*24)) | Z15: =IF(X15="",L15,IF(OR(L15-X15=0,L15-X15<0),"-",L15-X15))
B16: 11 | C16: k | D16: =C16 -> k | E16: ： | G16: ～ | I16: （ | J16: 0 | K16: ） | L16: =IF(OR(F16="",H16=""),"",(H16+IF(F16>H16,1,0)-F16-J16)*24) | N16: =$N$6 -> 0.29166667 | O16: ～ | P16: =$P$6 -> 0.83333333 | R16: =IF(F16="","",IF(F16<N16,N16,IF(F16>=P16,"",F16))) | S16: ～ | T16: =IF(H16="","",IF(H16>F16,IF(H16<P16,H16,P16),P16)) | U16: （ | V16: 0 | W16: ） | X16: =IF(R16="","",IF((T16+IF(R16>T16,1,0)-R16-V16)*24=0,"",(T16+IF(R16>T16,1,0)-R16-V16)*24)) | Z16: =IF(X16="",L16,IF(OR(L16-X16=0,L16-X16<0),"-",L16-X16))
B17: 12 | C17: l | D17: =C17 -> l | E17: ： | G17: ～ | I17: （ | J17: 0 | K17: ） | L17: =IF(OR(F17="",H17=""),"",(H17+IF(F17>H17,1,0)-F17-J17)*24) | N17: =$N$6 -> 0.29166667 | O17: ～ | P17: =$P$6 -> 0.83333333 | R17: =IF(F17="","",IF(F17<N17,N17,IF(F17>=P17,"",F17))) | S17: ～ | T17: =IF(H17="","",IF(H17>F17,IF(H17<P17,H17,P17),P17)) | U17: （ | V17: 0 | W17: ） | X17: =IF(R17="","",IF((T17+IF(R17>T17,1,0)-R17-V17)*24=0,"",(T17+IF(R17>T17,1,0)-R17-V17)*24)) | Z17: =IF(X17="",L17,IF(OR(L17-X17=0,L17-X17<0),"-",L17-X17))
B18: 13 | C18: m | D18: =C18 -> m | E18: ： | G18: ～ | I18: （ | J18: 0 | K18: ） | L18: =IF(OR(F18="",H18=""),"",(H18+IF(F18>H18,1,0)-F18-J18)*24) | N18: =$N$6 -> 0.29166667 | O18: ～ | P18: =$P$6 -> 0.83333333 | R18: =IF(F18="","",IF(F18<N18,N18,IF(F18>=P18,"",F18))) | S18: ～ | T18: =IF(H18="","",IF(H18>F18,IF(H18<P18,H18,P18),P18)) | U18: （ | V18: 0 | W18: ） | X18: =IF(R18="","",IF((T18+IF(R18>T18,1,0)-R18-V18)*24=0,"",(T18+IF(R18>T18,1,0)-R18-V18)*24)) | Z18: =IF(X18="",L18,IF(OR(L18-X18=0,L18-X18<0),"-",L18-X18))
... B22: 17 | C22: q | D22: =C22 -> q | E22: ： | G22: ～ | I22: （ | J22: 0 | K22: ） | L22: =IF(OR(F22="",H22=""),"",(H22+IF(F22>H22,1,0)-F22-J22)*24) | N22: =$N$6 -> 0.29166667 | O22: ～ | P22: =$P$6 -> 0.83333333 | R22: =IF(F22="","",IF(F22<N22,N22,IF(F22>=P22,"",F22))) | S22: ～ | T22: =IF(H22="","",IF(H22>F22,IF(H22<P22,H22,P22),P22)) | U22: （ | V22: 0 | W22: ） | X22: =IF(R22="","",IF((T22+IF(R22>T22,1,0)-R22-V22)*24=0,"",(T22+IF(R22>T22,1,0)-R22-V22)*24)) | Z22: =IF(X22="",L22,IF(OR(L22-X22=0,L22-X22<0),"-",L22-X22))
B23: 18 | C23: r | D23: =C23 -> r | E23: ： | G23: ～ | I23: （ | K23: ） | L23: 1 | O23: ～ | S23: ～ | U23: （ | W23: ） | X23: 1 | Z23: -
B24: 19 | C24: s | D24: =C24 -> s | E24: ： | G24: ～ | I24: （ | K24: ） | L24: 2 | O24: ～ | S24: ～ | U24: （ | W24: ） | X24: 2 | Z24: -
B25: 20 | C25: t | D25: =C25 -> t | E25: ： | G25: ～ | I25: （ | K25: ） | L25: 3 | O25: ～ | S25: ～ | U25: （ | W25: ） | X25: 3 | Z25: -
B26: 21 | C26: u | D26: =C26 -> u | E26: ： | G26: ～ | I26: （ | K26: ） | L26: 4 | O26: ～ | S26: ～ | U26: （ | W26: ） | X26: 4 | Z26: -
B27: 22 | C27: v | D27: =C27 -> v | E27: ： | G27: ～ | I27: （ | K27: ） | L27: 5 | O27: ～ | S27: ～ | U27: （ | W27: ） | X27: 5 | Z27: -
B28: 23 | C28: w | D28: =C28 -> w | E28: ： | G28: ～ | I28: （ | K28: ） | L28: 6 | O28: ～ | S28: ～ | U28: （ | W28: ） | X28: 6 | Z28: -
B29: 24 | C29: x | D29: =C29 -> x | E29: ： | G29: ～ | I29: （ | K29: ） | L29: 7 | O29: ～ | S29: ～ | U29: （ | W29: ） | X29: 7 | Z29: -
B30: 25 | C30: y | D30: =C30 -> y | E30: ： | G30: ～ | I30: （ | K30: ） | L30: 8 | O30: ～ | S30: ～ | U30: （ | W30: ） | X30: 8 | Z30: -
B31: 26 | C31: z | D31: =C31 -> z | E31: ： | G31: ～ | I31: （ | K31: ） | L31: 1 | O31: ～ | S31: ～ | U31: （ | W31: ） | X31: - | Z31: 1
B32: 27 | C32: x | D32: =C32 -> x | E32: ： | G32: ～ | I32: （ | K32: ） | L32: 2 | O32: ～ | S32: ～ | U32: （ | W32: ） | X32: - | Z32: 2
B33: 28 | C33: aa | D33: =C33 -> aa | E33: ： | G33: ～ | I33: （ | K33: ） | L33: 3 | O33: ～ | S33: ～ | U33: （ | W33: ） | X33: - | Z33: 3
B34: 29 | C34: ab | D34: =C34 -> ab | E34: ： | G34: ～ | I34: （ | K34: ） | L34: 4 | O34: ～ | S34: ～ | U34: （ | W34: ） | X34: - | Z34: 4
B35: 30 | C35: ac | D35: =C35 -> ac | E35: ： | G35: ～ | I35: （ | K35: ） | L35: 5 | O35: ～ | S35: ～ | U35: （ | W35: ） | X35: - | Z35: 5
B36: 31 | C36: ad | D36: =C36 -> ad | E36: ： | G36: ～ | I36: （ | K36: ） | L36: 6 | O36: ～ | S36: ～ | U36: （ | W36: ） | X36: - | Z36: 6
B37: 32 | C37: ae | D37: =C37 -> ae | E37: ： | G37: ～ | I37: （ | K37: ） | L37: 7 | O37: ～ | S37: ～ | U37: （ | W37: ） | X37: - | Z37: 7
B38: 33 | C38: af | D38: =C38 -> af | E38: ： | G38: ～ | I38: （ | K38: ） | L38: 8 | O38: ～ | S38: ～ | U38: （ | W38: ） | X38: - | Z38: 8
B39: 34 | C39: ag | E39: ： | G39: ～ | I39: （ | J39: 0 | K39: ） | L39: =IF(OR(F39="",H39=""),"",(H39+IF(F39>H39,1,0)-F39-J39)*24) | N39: =$N$6 -> 0.29166667 | O39: ～ | P39: =$P$6 -> 0.83333333 | R39: =IF(F39="","",IF(F39<N39,N39,IF(F39>=P39,"",F39))) | S39: ～ | T39: =IF(H39="","",IF(H39>F39,IF(H39<P39,H39,P39),P39)) | U39: （ | V39: 0 | W39: ） | X39: =IF(R39="","",IF((T39+IF(R39>T39,1,0)-R39-V39)*24=0,"",(T39+IF(R39>T39,1,0)-R39-V39)*24)) | Z39: =IF(X39="",L39,IF(OR(L39-X39=0,L39-X39<0),"-",L39-X39))
C40: - | E40: ： | G40: ～ | I40: （ | J40: 0 | K40: ） | L40: =IF(OR(F40="",H40=""),"",(H40+IF(F40>H40,1,0)-F40-J40)*24) | N40: =$N$6 -> 0.29166667 | O40: ～ | P40: =$P$6 -> 0.83333333 | R40: =IF(F40="","",IF(F40<N40,N40,IF(F40>=P40,"",F40))) | S40: ～ | T40: =IF(H40="","",IF(H40>F40,IF(H40<P40,H40,P40),P40)) | U40: （ | V40: 0 | W40: ） | X40: =IF(R40="","",IF((T40+IF(R40>T40,1,0)-R40-V40)*24=0,"",(T40+IF(R40>T40,1,0)-R40-V40)*24)) | Z40: =IF(X40="",L40,IF(OR(L40-X40=0,L40-X40<0),"-",L40-X40))
C41: - | D41: =C39 -> ag | E41: ： | F41: - | G41: ～ | H41: - | I41: （ | J41: - | K41: ） | L41: =IF(OR(L39="",L40=""),"",L39+L40) | N41: - | O41: ～ | P41: - | R41: =IF(F41="","",IF(F41<N41,N41,IF(F41>=P41,"",F41))) | S41: ～ | T41: =IF(H41="","",IF(H41>F41,IF(H41<P41,H41,P41),P41)) -> - | U41: （ | V41: - | W41: ） | X41: =IF(OR(X39="",X40=""),"",X39+X40) | Z41: =IF(X41="",L41,IF(OR(L41-X41=0,L41-X41<0),"-",L41-X41)) | AB41: 1日に2回勤務する場合
C42: ah | E42: ： | G42: ～ | I42: （ | J42: 0 | K42: ） | L42: =IF(OR(F42="",H42=""),"",(H42+IF(F42>H42,1,0)-F42-J42)*24) | N42: =$N$6 -> 0.29166667 | O42: ～ | P42: =$P$6 -> 0.83333333 | R42: =IF(F42="","",IF(F42<N42,N42,IF(F42>=P42,"",F42))) | S42: ～ | T42: =IF(H42="","",IF(H42>F42,IF(H42<P42,H42,P42),P42)) | U42: （ | V42: 0 | W42: ） | X42: =IF(R42="","",IF((T42+IF(R42>T42,1,0)-R42-V42)*24=0,"",(T42+IF(R42>T42,1,0)-R42-V42)*24)) | Z42: =IF(X42="",L42,IF(OR(L42-X42=0,L42-X42<0),"-",L42-X42))
B43: 35 | C43: - | E43: ： | G43: ～ | I43: （ | J43: 0 | K43: ） | L43: =IF(OR(F43="",H43=""),"",(H43+IF(F43>H43,1,0)-F43-J43)*24) | N43: =$N$6 -> 0.29166667 | O43: ～ | P43: =$P$6 -> 0.83333333 | R43: =IF(F43="","",IF(F43<N43,N43,IF(F43>=P43,"",F43))) | S43: ～ | T43: =IF(H43="","",IF(H43>F43,IF(H43<P43,H43,P43),P43)) | U43: （ | V43: 0 | W43: ） | X43: =IF(R43="","",IF((T43+IF(R43>T43,1,0)-R43-V43)*24=0,"",(T43+IF(R43>T43,1,0)-R43-V43)*24)) | Z43: =IF(X43="",L43,IF(OR(L43-X43=0,L43-X43<0),"-",L43-X43))
C44: - | D44: =C42 -> ah | E44: ： | F44: - | G44: ～ | H44: - | I44: （ | J44: - | K44: ） | L44: =IF(OR(L42="",L43=""),"",L42+L43) | N44: - | O44: ～ | P44: - | R44: =IF(F44="","",IF(F44<N44,N44,IF(F44>=P44,"",F44))) | S44: ～ | T44: =IF(H44="","",IF(H44>F44,IF(H44<P44,H44,P44),P44)) -> - | U44: （ | V44: - | W44: ） | X44: =IF(OR(X42="",X43=""),"",X42+X43) | Z44: =IF(X44="",L44,IF(OR(L44-X44=0,L44-X44<0),"-",L44-X44)) | AB44: 1日に2回勤務する場合
C45: ai | E45: ： | G45: ～ | I45: （ | J45: 0 | K45: ） | L45: =IF(OR(F45="",H45=""),"",(H45+IF(F45>H45,1,0)-F45-J45)*24) | N45: =$N$6 -> 0.29166667 | O45: ～ | P45: =$P$6 -> 0.83333333 | R45: =IF(F45="","",IF(F45<N45,N45,IF(F45>=P45,"",F45))) | S45: ～ | T45: =IF(H45="","",IF(H45>F45,IF(H45<P45,H45,P45),P45)) | U45: （ | V45: 0 | W45: ） | X45: =IF(R45="","",IF((T45+IF(R45>T45,1,0)-R45-V45)*24=0,"",(T45+IF(R45>T45,1,0)-R45-V45)*24)) | Z45: =IF(X45="",L45,IF(OR(L45-X45=0,L45-X45<0),"-",L45-X45))
B46: 36 | C46: - | E46: ： | G46: ～ | I46: （ | J46: 0 | K46: ） | L46: =IF(OR(F46="",H46=""),"",(H46+IF(F46>H46,1,0)-F46-J46)*24) | N46: =$N$6 -> 0.29166667 | O46: ～ | P46: =$P$6 -> 0.83333333 | R46: =IF(F46="","",IF(F46<N46,N46,IF(F46>=P46,"",F46))) | S46: ～ | T46: =IF(H46="","",IF(H46>F46,IF(H46<P46,H46,P46),P46)) | U46: （ | V46: 0 | W46: ） | X46: =IF(R46="","",IF((T46+IF(R46>T46,1,0)-R46-V46)*24=0,"",(T46+IF(R46>T46,1,0)-R46-V46)*24)) | Z46: =IF(X46="",L46,IF(OR(L46-X46=0,L46-X46<0),"-",L46-X46))
C47: - | D47: =C45 -> ai | E47: ： | F47: - | G47: ～ | H47: - | I47: （ | J47: - | K47: ） | L47: =IF(OR(L45="",L46=""),"",L45+L46) | N47: - | O47: ～ | P47: - | R47: =IF(F47="","",IF(F47<N47,N47,IF(F47>=P47,"",F47))) | S47: ～ | T47: =IF(H47="","",IF(H47>F47,IF(H47<P47,H47,P47),P47)) -> - | U47: （ | V47: - | W47: ） | X47: =IF(OR(X45="",X46=""),"",X45+X46) | Z47: =IF(X47="",L47,IF(OR(L47-X47=0,L47-X47<0),"-",L47-X47)) | AB47: 1日に2回勤務する場合
C49: ・職種ごとの勤務時間を「○：○○～○：○○」と表記することが困難な場合は、No18～33を活用し、勤務時間数のみを入力してください。
C50: ・No18～33以外は始業時刻・終業時刻・休憩時間等を入力すると勤務時間数が計算されますが、入力の補助を目的とするものですので、結果に誤りがないかご確認ください。
C51: ・シフト記号が足りない場合は、適宜、行を追加してください。
C52: ・シフト記号は、適宜、使いやすい記号に変更していただいて構いません。

Sheet 記入方法
B1: ≪提出不要≫
B2: 従業者の勤務の体制及び勤務形態一覧表 記入方法 （小規模多機能型居宅介護）
C4: ・・・直接入力する必要がある箇所です。 | F4: 下記の記入方法に従って、入力してください。
C5: ・・・プルダウンから選択して入力する必要がある箇所です。
B6: なお、「従業者の勤務の体制及び勤務形態一覧表」に「シフト記号表（勤務時間帯）」も必ず添付して提出してください。
B8: ・最初に「年月欄」「サービス種別」「事業所名」を入力してください。
B10: (1) 「４週」・「暦月」のいずれかを選択してください。
B12: (2) 「予定」・「実績」・「予定・実績」のいずれかを選択してください。（「予定・実績」は予定と実績が同じだったことを示す場合に選択してください。）
B14: (3) 事業所における常勤の従業者が勤務すべき時間数を入力してください。
B16: (4) 通いサービスの利用者数（前年度の平均値：前年度の全利用者等の延数を当該前年度の日数で除して得た数。小数点第２位以下を切り上げ）を入力してください。
B17: 新規又は再開の場合は、推定数を入力してください。
B19: (5) 事業所における日中、夜間及び深夜の時間帯の区分を入力してください。
B21: (6) 従業者の職種について、下記のうち該当する職種をプルダウンより選択してください。
B22: 記入の順序は、職種ごとにまとめてください。
C24: No | D24: 職種名
C25: 1 | D25: 管理者
C26: 2 | D26: 介護従業者 | E26: （正式名称：小規模多機能型居宅介護従事者）
C27: 3 | D27: 介護支援専門員
C28: 4 | D28: 計画作成担当者 | E28: （サテライトの場合に選択）
B30: (7) 従業者の勤務形態について、下記のうち該当する区分の記号をプルダウンより選択してください。
B31: 記入の順序は、各職種の中で勤務形態の区分ごとにまとめてください。
C33: 記号 | D33: 区分
C34: A | D34: 常勤で専従
C35: B | D35: 常勤で兼務
C36: C | D36: 非常勤で専従
C37: D | D37: 非常勤で兼務
C39: （注）常勤・非常勤の区分について
C40: 当該事業所における勤務時間が、当該事業所において定められている常勤の従業者が勤務すべき時間数に達していることをいいます。雇用の形態は考慮しません。
C41: （例えば、常勤者は週に40時間勤務することとされた事業所であれば、非正規雇用であっても、週40時間勤務する従業者は常勤扱いとなります。）
B43: (8) 従業者の保有する資格について、該当する資格名称をプルダウンより選択してください。
B44: 保有資格を全て記入するのではなく、人員基準上、求められる資格等を入力してください。
B45: ※選択した資格及び研修に関して、必要に応じて、資格証又は研修修了証等の写しを添付資料として提出してください。
B47: (9) 従業者の氏名を記入してください。
B49: (10) 申請する事業に係る従業者（管理者を含む。）の1ヶ月分の勤務時間を入力してください。（別シートの「シフト記号表」を作成し、シフト記号を選択または入力してください。）
B50: ※ 指定基準の確認に際しては、４週分の入力で差し支えありません。
B52: (11) 従業者ごとに、合計勤務時間数が自動計算されますので、誤りがないか確認してください。
B53: ※入力することができる勤務時間数は、当該事業所において常勤の従業者が勤務すべき勤務時間数を上限とします。
B55: (12) 従業者ごとに、週平均の勤務時間数が自動計算されますので、誤りがないか確認してください。
B57: (13) 申請する事業所以外の事業所・施設との兼務がある場合は、兼務先の事業所・施設の名称及び兼務する職務の内容について記入してください。
B58: 同一事業所内の兼務についても兼務する職務の内容を記入してください。
B59: その他、特記事項欄としてもご活用ください。
B61: (14) 宿直の従業者の「No（ナンバー）」（本一覧表におけるNo）を記載してください。入力すると従業者の該当の日付のセルが | M61: に色づけされます。
B63: (15) 通いサービスの利用者数を入力してください。
B65: (16) 宿泊サービスの利用者数を入力してください。
B67: (17) 介護従業者の日中の勤務時間の合計が自動計算されますので、誤りがないか確認してください。
B69: (18) 介護従業者の夜間・深夜の勤務時間の合計が自動計算されますので、誤りがないか確認してください。

Sheet プルダウン・リスト
B1: １．サービス種別
B3: No | C3: サービス種別
B4: 1 | C4: 小規模多機能型居宅介護
B5: 2 | C5: 介護予防小規模多機能型居宅介護
B6: 3 | C6: 小規模多機能型居宅介護・介護予防小規模多機能型居宅介護
B7: 4 | C7: （サテライト型）小規模多機能型居宅介護
B8: 5 | C8: （サテライト型）介護予防小規模多機能型居宅介護
B9: 6 | C9: （サテライト型）小規模多機能型居宅介護・介護予防小規模多機能型居宅介護
B10: 7 | C10: ー
B12: ２．職種名・資格名称
B14: 職種名 | C14: 管理者 | D14: 介護従業者 | E14: 介護支援専門員 | F14: 計画作成担当者 | G14: ー | H14: ー | I14: ー | J14: ー | K14: ー | L14: ー
B15: 資格 | C15: 認知症対応型サービス事業管理者研修修了 | D15: 看護師 | E15: 介護支援専門員 | F15: 小規模多機能型サービス等計画作成担当者研修修了 | G15: ー | H15: ー | I15: ー | J15: ー | K15: ー | L15: ー
C16: みなし措置 | D16: 准看護師 | E16: 小規模多機能型サービス等計画作成担当者研修修了 | F16: ー | G16: ー | H16: ー | I16: ー | J16: ー | K16: ー | L16: ー
C17: ー | D17: 介護福祉士 | F17: ー | G17: ー | H17: ー | I17: ー | J17: ー | K17: ー | L17: ー
C18: ー | D18: ー | E18: ー | F18: ー | G18: ー | H18: ー | I18: ー | J18: ー | K18: ー | L18: ー
C19: ー | D19: ー | E19: ー | F19: ー | G19: ー | H19: ー | I19: ー | J19: ー | K19: ー | L19: ー
C20: ー | D20: ー | E20: ー | F20: ー | G20: ー | H20: ー | I20: ー | J20: ー | K20: ー | L20: ー
C21: ー | D21: ー | E21: ー | F21: ー | G21: ー | H21: ー | I21: ー | J21: ー | K21: ー | L21: ー
C22: ー | D22: ー | E22: ー | F22: ー | G22: ー | H22: ー | I22: ー | J22: ー | K22: ー | L22: ー
C23: ー | D23: ー | E23: ー | F23: ー | G23: ー | H23: ー | I23: ー | J23: ー | K23: ー | L23: ー
C25: ※小規模多機能型居宅介護従業者（正式名称）
C26: ※計画作成担当者 ⇒ サテライトの場合。（サテライトではない場合は介護支援専門員が計画を作成）
C28: 【自治体の皆様へ】
C29: ※ INDIRECT関数使用のため、以下のとおりセルに「名前の定義」をしています。
C30: C14～L14・・・「職種」
C31: C列・・・「管理者」
C32: D列・・・「介護従業者」
C33: E列・・・「介護支援専門員」
C34: F列・・・「計画作成担当者」
C36: ※自治体の条例により定められた資格等、自治体独自の資格を追加する必要がある場合は、上表の空欄に資格名称を追加してください。
C37: 行が足りない場合は、適宜追加してください。
C39: ※職種を追加したい場合は、14行目に職種名を追加し、それぞれの列に必要資格を入力してください。
... C44: 編集したい場合は、「数式」タブ ⇒ 「名前の管理」で編集してください。
