Workbook
Name 【記載例】シフト記号: 'シフト記号表（勤務時間帯）'!$C$6:$C$47
Name 【記載例】シフト記号: '【記載例】シフト記号表（勤務時間帯）'!$C$6:$C$47
Name シフト記号表: 'シフト記号表（勤務時間帯）'!$C$6:$C$47
Name 介護支援専門員: プルダウン・リスト!$E$15:$E$23
Name 介護従業者: プルダウン・リスト!$D$15:$D$23
Name 管理者: プルダウン・リスト!$C$15:$C$23
Name 計画作成担当者: プルダウン・リスト!$F$15:$F$23
Name 職種: プルダウン・リスト!$C$14:$L$14

Sheet 【記載例】小多機
C1: （標準様式1） | K1: 従業者の勤務の体制及び勤務形態一覧表 | AQ1: サービス種別（ | AR1: 小規模多機能型居宅介護 | BH1: ）
Z2: 令和 | AA2: 8 | AC2: ( | AD2: =IF(AA2=0,"",YEAR(DATE(2018+AA2,1,1))) -> 2026 | AF2: ) | AG2: 年 | AH2: 4 | AJ2: 月 | AQ2: 事業所名（ | AR2: ○○サービス | BH2: ）
BB3: (1) | BC3: ４週
BB4: (2) | BC4: 予定
AM6: (3) 事業所における常勤の従業者が勤務すべき時間数 | AY6: 40 | BA6: 時間/週 | BC6: 160 | BE6: 時間/月
AZ8: 当月の日数 | BC8: =DAY(EOMONTH(DATE(AD2,AH2,1),0)) -> 30 | BE8: 日
AN10: (4) 利用者数（通いサービス） | BA10: （前年度の平均値または推定数） | BC10: 9 | BE10: 人
AS12: (5) 日中／夜間及び深夜の時間帯の区分
AS13: 利用者の生活時間帯（日中） | BB13: 0.29166667 | BE13: ～ | BF13: 0.83333333
AS14: 夜間及び深夜の時間帯 | BB14: 0.83333333 | BE14: ～ | BF14: 0.29166667
B16: No | C16: (6) 職種 | H16: (7) 勤務 形態 | I16: (8) 資格 | M16: (9) 氏 名 | P16: 日中／夜間及び深夜 の区分 | AI16: (10) | AN16: （宿直 ･･･ | AR16: ） | AZ16: =IF(BC3="計画","(11)1～4週目の勤務時間数合計","(11)1か月の勤務時間数 合計") -> (11)1か月の勤務時間数 合計 | BB16: (12) 週平均 勤務時間数 | BD16: (13) 兼務状況 （兼務先/兼務する職務の内容）等
U17: 1週目 | AB17: 2週目 | AI17: 3週目 | AP17: 4週目 | AW17: 5週目
U18: 1 | V18: 2 | W18: 3 | X18: 4 | Y18: 5 | Z18: 6 | AA18: 7 | AB18: 8 | AC18: 9 | AD18: 10 | AE18: 11 | AF18: 12 | AG18: 13 | AH18: 14 | AI18: 15 | AJ18: 16 | AK18: 17 | AL18: 18 | AM18: 19 | AN18: 20 | AO18: 21 | AP18: 22 | AQ18: 23 | AR18: 24 | AS18: 25 | AT18: 26 | AU18: 27 | AV18: 28 | AW18: =IF($BC$3="暦月",IF(DAY(DATE($AD$2,$AH$2,29))=29,29,""),"") | AX18: =IF($BC$3="暦月",IF(DAY(DATE($AD$2,$AH$2,30))=30,30,""),"") | AY18: =IF($BC$3="暦月",IF(DAY(DATE($AD$2,$AH$2,31))=31,31,""),"")
U19: =WEEKDAY(DATE($AD$2,$AH$2,1)) -> 4 | V19: =WEEKDAY(DATE($AD$2,$AH$2,2)) -> 5 | W19: =WEEKDAY(DATE($AD$2,$AH$2,3)) -> 6 | X19: =WEEKDAY(DATE($AD$2,$AH$2,4)) -> 7 | Y19: =WEEKDAY(DATE($AD$2,$AH$2,5)) -> 1 | Z19: =WEEKDAY(DATE($AD$2,$AH$2,6)) -> 2 | AA19: =WEEKDAY(DATE($AD$2,$AH$2,7)) -> 3 | AB19: =WEEKDAY(DATE($AD$2,$AH$2,8)) -> 4 | AC19: =WEEKDAY(DATE($AD$2,$AH$2,9)) -> 5 | AD19: =WEEKDAY(DATE($AD$2,$AH$2,10)) -> 6 | AE19: =WEEKDAY(DATE($AD$2,$AH$2,11)) -> 7 | AF19: =WEEKDAY(DATE($AD$2,$AH$2,12)) -> 1 | AG19: =WEEKDAY(DATE($AD$2,$AH$2,13)) -> 2 | AH19: =WEEKDAY(DATE($AD$2,$AH$2,14)) -> 3 | AI19: =WEEKDAY(DATE($AD$2,$AH$2,15)) -> 4 | AJ19: =WEEKDAY(DATE($AD$2,$AH$2,16)) -> 5 | AK19: =WEEKDAY(DATE($AD$2,$AH$2,17)) -> 6 | AL19: =WEEKDAY(DATE($AD$2,$AH$2,18)) -> 7 | AM19: =WEEKDAY(DATE($AD$2,$AH$2,19)) -> 1 | AN19: =WEEKDAY(DATE($AD$2,$AH$2,20)) -> 2 | AO19: =WEEKDAY(DATE($AD$2,$AH$2,21)) -> 3 | AP19: =WEEKDAY(DATE($AD$2,$AH$2,22)) -> 4 | AQ19: =WEEKDAY(DATE($AD$2,$AH$2,23)) -> 5 | AR19: =WEEKDAY(DATE($AD$2,$AH$2,24)) -> 6 | AS19: =WEEKDAY(DATE($AD$2,$AH$2,25)) -> 7 | AT19: =WEEKDAY(DATE($AD$2,$AH$2,26)) -> 1 | AU19: =WEEKDAY(DATE($AD$2,$AH$2,27)) -> 2 | AV19: =WEEKDAY(DATE($AD$2,$AH$2,28)) -> 3 | AW19: =IF(AW18=29,WEEKDAY(DATE($AD$2,$AH$2,29)),0) -> 0 | AX19: =IF(AX18=30,WEEKDAY(DATE($AD$2,$AH$2,30)),0) -> 0 | AY19: =IF(AY18=31,WEEKDAY(DATE($AD$2,$AH$2,31)),0) -> 0
U20: =IF(U19=1,"日",IF(U19=2,"月",IF(U19=3,"火",IF(U19=4,"水",IF(U19=5,"木",IF(U19=6,"金","土")))))) -> 水 | V20: =IF(V19=1,"日",IF(V19=2,"月",IF(V19=3,"火",IF(V19=4,"水",IF(V19=5,"木",IF(V19=6,"金","土")))))) -> 木 | W20: =IF(W19=1,"日",IF(W19=2,"月",IF(W19=3,"火",IF(W19=4,"水",IF(W19=5,"木",IF(W19=6,"金","土")))))) -> 金 | X20: =IF(X19=1,"日",IF(X19=2,"月",IF(X19=3,"火",IF(X19=4,"水",IF(X19=5,"木",IF(X19=6,"金","土")))))) -> 土 | Y20: =IF(Y19=1,"日",IF(Y19=2,"月",IF(Y19=3,"火",IF(Y19=4,"水",IF(Y19=5,"木",IF(Y19=6,"金","土")))))) -> 日 | Z20: =IF(Z19=1,"日",IF(Z19=2,"月",IF(Z19=3,"火",IF(Z19=4,"水",IF(Z19=5,"木",IF(Z19=6,"金","土")))))) -> 月 | AA20: =IF(AA19=1,"日",IF(AA19=2,"月",IF(AA19=3,"火",IF(AA19=4,"水",IF(AA19=5,"木",IF(AA19=6,"金","土")))))) -> 火 | AB20: =IF(AB19=1,"日",IF(AB19=2,"月",IF(AB19=3,"火",IF(AB19=4,"水",IF(AB19=5,"木",IF(AB19=6,"金","土")))))) -> 水 | ... AV20: =IF(AV19=1,"日",IF(AV19=2,"月",IF(AV19=3,"火",IF(AV19=4,"水",IF(AV19=5,"木",IF(AV19=6,"金","土")))))) -> 火 | AW20: =IF(AW19=1,"日",IF(AW19=2,"月",IF(AW19=3,"火",IF(AW19=4,"水",IF(AW19=5,"木",IF(AW19=6,"金",IF(AW19=0,"","土"))))))) | AX20: =IF(AX19=1,"日",IF(AX19=2,"月",IF(AX19=3,"火",IF(AX19=4,"水",IF(AX19=5,"木",IF(AX19=6,"金",IF(AX19=0,"","土"))))))) | AY20: =IF(AY19=1,"日",IF(AY19=2,"月",IF(AY19=3,"火",IF(AY19=4,"水",IF(AY19=5,"木",IF(AY19=6,"金",IF(AY19=0,"","土")))))))
C21: 管理者 | H21: A | I21: 認知症対応型サービス事業管理者研修修了 | M21: 厚労 太郎 | P21: シフト記号 | U21: c | V21: c | W21: c | Y21: c | Z21: c | AB21: c | AD21: c | AE21: c | AF21: c | AH21: c | AJ21: c | AK21: c | AL21: c | AM21: c | AN21: c | AQ21: c | AR21: c | AS21: c | AT21: c | AU21: c
B22: 1 | F22: =C21 -> 管理者 | P22: 日中の勤務時間数 | U22: =IF(U21="","",VLOOKUP(U21,'【記載例】シフト記号表（勤務時間帯）'!$D$6:$X$47,21,FALSE)) -> 8 | V22: =IF(V21="","",VLOOKUP(V21,'【記載例】シフト記号表（勤務時間帯）'!$D$6:$X$47,21,FALSE)) -> 8 | W22: =IF(W21="","",VLOOKUP(W21,'【記載例】シフト記号表（勤務時間帯）'!$D$6:$X$47,21,FALSE)) -> 8 | X22: =IF(X21="","",VLOOKUP(X21,'【記載例】シフト記号表（勤務時間帯）'!$D$6:$X$47,21,FALSE)) | Y22: =IF(Y21="","",VLOOKUP(Y21,'【記載例】シフト記号表（勤務時間帯）'!$D$6:$X$47,21,FALSE)) -> 8 | Z22: =IF(Z21="","",VLOOKUP(Z21,'【記載例】シフト記号表（勤務時間帯）'!$D$6:$X$47,21,FALSE)) -> 8 | AA22: =IF(AA21="","",VLOOKUP(AA21,'【記載例】シフト記号表（勤務時間帯）'!$D$6:$X$47,21,FALSE)) | AB22: =IF(AB21="","",VLOOKUP(AB21,'【記載例】シフト記号表（勤務時間帯）'!$D$6:$X$47,21,FALSE)) -> 8 | ... AY22: =IF(AY21="","",VLOOKUP(AY21,'【記載例】シフト記号表（勤務時間帯）'!$D$6:$X$47,21,FALSE)) | AZ22: =IF($BC$3="４週",SUM(U22:AV22),IF($BC$3="暦月",SUM(U22:AY22),"")) -> 160 | BB22: =IF($BC$3="４週",AZ22/4,IF($BC$3="暦月",(AZ22/($BC$8/7)),"")) -> 40
G23: =C21 -> 管理者 | P23: 夜間・深夜の勤務時間数 | U23: =IF(U21="","",VLOOKUP(U21,'【記載例】シフト記号表（勤務時間帯）'!$D$6:$Z$47,23,FALSE)) -> - | V23: =IF(V21="","",VLOOKUP(V21,'【記載例】シフト記号表（勤務時間帯）'!$D$6:$Z$47,23,FALSE)) -> - | W23: =IF(W21="","",VLOOKUP(W21,'【記載例】シフト記号表（勤務時間帯）'!$D$6:$Z$47,23,FALSE)) -> - | X23: =IF(X21="","",VLOOKUP(X21,'【記載例】シフト記号表（勤務時間帯）'!$D$6:$Z$47,23,FALSE)) | Y23: =IF(Y21="","",VLOOKUP(Y21,'【記載例】シフト記号表（勤務時間帯）'!$D$6:$Z$47,23,FALSE)) -> - | Z23: =IF(Z21="","",VLOOKUP(Z21,'【記載例】シフト記号表（勤務時間帯）'!$D$6:$Z$47,23,FALSE)) -> - | AA23: =IF(AA21="","",VLOOKUP(AA21,'【記載例】シフト記号表（勤務時間帯）'!$D$6:$Z$47,23,FALSE)) | AB23: =IF(AB21="","",VLOOKUP(AB21,'【記載例】シフト記号表（勤務時間帯）'!$D$6:$Z$47,23,FALSE)) -> - | ... AY23: =IF(AY21="","",VLOOKUP(AY21,'【記載例】シフト記号表（勤務時間帯）'!$D$6:$Z$47,23,FALSE)) | AZ23: =IF($BC$3="４週",SUM(U23:AV23),IF($BC$3="暦月",SUM(U23:AY23),"")) -> 0 | BB23: =IF($BC$3="４週",AZ23/4,IF($BC$3="暦月",(AZ23/($BC$8/7)),"")) -> 0
C24: 介護支援専門員 | H24: A | I24: 介護支援専門員 | M24: ○○ A男 | P24: シフト記号 | U24: d | V24: d | W24: d | X24: d | Z24: d | AA24: d | AC24: d | AD24: d | AE24: d | AH24: d | AI24: d | AJ24: d | AL24: d | AM24: d | AN24: d | AO24: d | AP24: d | AR24: d | AT24: d | AV24: d
B25: =B22+1 -> 2 | F25: =C24 -> 介護支援専門員 | P25: 日中の勤務時間数 | U25: =IF(U24="","",VLOOKUP(U24,'【記載例】シフト記号表（勤務時間帯）'!$D$6:$X$47,21,FALSE)) -> 8 | V25: =IF(V24="","",VLOOKUP(V24,'【記載例】シフト記号表（勤務時間帯）'!$D$6:$X$47,21,FALSE)) -> 8 | W25: =IF(W24="","",VLOOKUP(W24,'【記載例】シフト記号表（勤務時間帯）'!$D$6:$X$47,21,FALSE)) -> 8 | X25: =IF(X24="","",VLOOKUP(X24,'【記載例】シフト記号表（勤務時間帯）'!$D$6:$X$47,21,FALSE)) -> 8 | Y25: =IF(Y24="","",VLOOKUP(Y24,'【記載例】シフト記号表（勤務時間帯）'!$D$6:$X$47,21,FALSE)) | Z25: =IF(Z24="","",VLOOKUP(Z24,'【記載例】シフト記号表（勤務時間帯）'!$D$6:$X$47,21,FALSE)) -> 8 | AA25: =IF(AA24="","",VLOOKUP(AA24,'【記載例】シフト記号表（勤務時間帯）'!$D$6:$X$47,21,FALSE)) -> 8 | AB25: =IF(AB24="","",VLOOKUP(AB24,'【記載例】シフト記号表（勤務時間帯）'!$D$6:$X$47,21,FALSE)) | ... AY25: =IF(AY24="","",VLOOKUP(AY24,'【記載例】シフト記号表（勤務時間帯）'!$D$6:$X$47,21,FALSE)) | AZ25: =IF($BC$3="４週",SUM(U25:AV25),IF($BC$3="暦月",SUM(U25:AY25),"")) -> 160 | BB25: =IF($BC$3="４週",AZ25/4,IF($BC$3="暦月",(AZ25/($BC$8/7)),"")) -> 40
G26: =C24 -> 介護支援専門員 | P26: 夜間・深夜の勤務時間数 | U26: =IF(U24="","",VLOOKUP(U24,'【記載例】シフト記号表（勤務時間帯）'!$D$6:$Z$47,23,FALSE)) -> - | V26: =IF(V24="","",VLOOKUP(V24,'【記載例】シフト記号表（勤務時間帯）'!$D$6:$Z$47,23,FALSE)) -> - | W26: =IF(W24="","",VLOOKUP(W24,'【記載例】シフト記号表（勤務時間帯）'!$D$6:$Z$47,23,FALSE)) -> - | X26: =IF(X24="","",VLOOKUP(X24,'【記載例】シフト記号表（勤務時間帯）'!$D$6:$Z$47,23,FALSE)) -> - | Y26: =IF(Y24="","",VLOOKUP(Y24,'【記載例】シフト記号表（勤務時間帯）'!$D$6:$Z$47,23,FALSE)) | Z26: =IF(Z24="","",VLOOKUP(Z24,'【記載例】シフト記号表（勤務時間帯）'!$D$6:$Z$47,23,FALSE)) -> - | AA26: =IF(AA24="","",VLOOKUP(AA24,'【記載例】シフト記号表（勤務時間帯）'!$D$6:$Z$47,23,FALSE)) -> - | AB26: =IF(AB24="","",VLOOKUP(AB24,'【記載例】シフト記号表（勤務時間帯）'!$D$6:$Z$47,23,FALSE)) | ... AY26: =IF(AY24="","",VLOOKUP(AY24,'【記載例】シフト記号表（勤務時間帯）'!$D$6:$Z$47,23,FALSE)) | AZ26: =IF($BC$3="４週",SUM(U26:AV26),IF($BC$3="暦月",SUM(U26:AY26),"")) -> 0 | BB26: =IF($BC$3="４週",AZ26/4,IF($BC$3="暦月",(AZ26/($BC$8/7)),"")) -> 0
C27: 介護従業者 | H27: A | I27: 介護福祉士 | M27: ○○ B子 | P27: シフト記号 | U27: i | V27: j | X27: a | Y27: c | AA27: a | AB27: i | AC27: j | AD27: c | AF27: a | AG27: c | AI27: c | AJ27: i | AK27: j | AN27: i | AO27: j | AQ27: a | AR27: c | AS27: i | AT27: j | AV27: a
B28: =B25+1 -> 3 | F28: =C27 -> 介護従業者 | P28: 日中の勤務時間数 | U28: =IF(U27="","",VLOOKUP(U27,'【記載例】シフト記号表（勤務時間帯）'!$D$6:$X$47,21,FALSE)) -> 3 | V28: =IF(V27="","",VLOOKUP(V27,'【記載例】シフト記号表（勤務時間帯）'!$D$6:$X$47,21,FALSE)) -> 3 | W28: =IF(W27="","",VLOOKUP(W27,'【記載例】シフト記号表（勤務時間帯）'!$D$6:$X$47,21,FALSE)) | X28: =IF(X27="","",VLOOKUP(X27,'【記載例】シフト記号表（勤務時間帯）'!$D$6:$X$47,21,FALSE)) -> 8 | Y28: =IF(Y27="","",VLOOKUP(Y27,'【記載例】シフト記号表（勤務時間帯）'!$D$6:$X$47,21,FALSE)) -> 8 | Z28: =IF(Z27="","",VLOOKUP(Z27,'【記載例】シフト記号表（勤務時間帯）'!$D$6:$X$47,21,FALSE)) | AA28: =IF(AA27="","",VLOOKUP(AA27,'【記載例】シフト記号表（勤務時間帯）'!$D$6:$X$47,21,FALSE)) -> 8 | AB28: =IF(AB27="","",VLOOKUP(AB27,'【記載例】シフト記号表（勤務時間帯）'!$D$6:$X$47,21,FALSE)) -> 3 | ... AY28: =IF(AY27="","",VLOOKUP(AY27,'【記載例】シフト記号表（勤務時間帯）'!$D$6:$X$47,21,FALSE)) | AZ28: =IF($BC$3="４週",SUM(U28:AV28),IF($BC$3="暦月",SUM(U28:AY28),"")) -> 110 | BB28: =IF($BC$3="４週",AZ28/4,IF($BC$3="暦月",(AZ28/($BC$8/7)),"")) -> 27.5
G29: =C27 -> 介護従業者 | P29: 夜間・深夜の勤務時間数 | U29: =IF(U27="","",VLOOKUP(U27,'【記載例】シフト記号表（勤務時間帯）'!$D$6:$Z$47,23,FALSE)) -> 4 | V29: =IF(V27="","",VLOOKUP(V27,'【記載例】シフト記号表（勤務時間帯）'!$D$6:$Z$47,23,FALSE)) -> 6 | W29: =IF(W27="","",VLOOKUP(W27,'【記載例】シフト記号表（勤務時間帯）'!$D$6:$Z$47,23,FALSE)) | X29: =IF(X27="","",VLOOKUP(X27,'【記載例】シフト記号表（勤務時間帯）'!$D$6:$Z$47,23,FALSE)) -> - | Y29: =IF(Y27="","",VLOOKUP(Y27,'【記載例】シフト記号表（勤務時間帯）'!$D$6:$Z$47,23,FALSE)) -> - | Z29: =IF(Z27="","",VLOOKUP(Z27,'【記載例】シフト記号表（勤務時間帯）'!$D$6:$Z$47,23,FALSE)) | AA29: =IF(AA27="","",VLOOKUP(AA27,'【記載例】シフト記号表（勤務時間帯）'!$D$6:$Z$47,23,FALSE)) -> - | AB29: =IF(AB27="","",VLOOKUP(AB27,'【記載例】シフト記号表（勤務時間帯）'!$D$6:$Z$47,23,FALSE)) -> 4 | ... AY29: =IF(AY27="","",VLOOKUP(AY27,'【記載例】シフト記号表（勤務時間帯）'!$D$6:$Z$47,23,FALSE)) | AZ29: =IF($BC$3="４週",SUM(U29:AV29),IF($BC$3="暦月",SUM(U29:AY29),"")) -> 50 | BB29: =IF($BC$3="４週",AZ29/4,IF($BC$3="暦月",(AZ29/($BC$8/7)),"")) -> 12.5
C30: 介護従業者 | H30: A | I30: 介護福祉士 | M30: ○○ C太 | P30: シフト記号 | V30: i | W30: j | X30: a | Z30: i | AA30: j | AC30: a | AD30: i | AE30: j | AG30: b | AH30: a | AJ30: a | AK30: c | AL30: i | AM30: j | AO30: a | AP30: b | AQ30: c | AR30: i | AS30: j | AV30: a
B31: =B28+1 -> 4 | F31: =C30 -> 介護従業者 | P31: 日中の勤務時間数 | U31: =IF(U30="","",VLOOKUP(U30,'【記載例】シフト記号表（勤務時間帯）'!$D$6:$X$47,21,FALSE)) | V31: =IF(V30="","",VLOOKUP(V30,'【記載例】シフト記号表（勤務時間帯）'!$D$6:$X$47,21,FALSE)) -> 3 | W31: =IF(W30="","",VLOOKUP(W30,'【記載例】シフト記号表（勤務時間帯）'!$D$6:$X$47,21,FALSE)) -> 3 | X31: =IF(X30="","",VLOOKUP(X30,'【記載例】シフト記号表（勤務時間帯）'!$D$6:$X$47,21,FALSE)) -> 8 | Y31: =IF(Y30="","",VLOOKUP(Y30,'【記載例】シフト記号表（勤務時間帯）'!$D$6:$X$47,21,FALSE)) | Z31: =IF(Z30="","",VLOOKUP(Z30,'【記載例】シフト記号表（勤務時間帯）'!$D$6:$X$47,21,FALSE)) -> 3 | AA31: =IF(AA30="","",VLOOKUP(AA30,'【記載例】シフト記号表（勤務時間帯）'!$D$6:$X$47,21,FALSE)) -> 3 | AB31: =IF(AB30="","",VLOOKUP(AB30,'【記載例】シフト記号表（勤務時間帯）'!$D$6:$X$47,21,FALSE)) | ... AY31: =IF(AY30="","",VLOOKUP(AY30,'【記載例】シフト記号表（勤務時間帯）'!$D$6:$X$47,21,FALSE)) | AZ31: =IF($BC$3="４週",SUM(U31:AV31),IF($BC$3="暦月",SUM(U31:AY31),"")) -> 110 | BB31: =IF($BC$3="４週",AZ31/4,IF($BC$3="暦月",(AZ31/($BC$8/7)),"")) -> 27.5
G32: =C30 -> 介護従業者 | P32: 夜間・深夜の勤務時間数 | U32: =IF(U30="","",VLOOKUP(U30,'【記載例】シフト記号表（勤務時間帯）'!$D$6:$Z$47,23,FALSE)) | V32: =IF(V30="","",VLOOKUP(V30,'【記載例】シフト記号表（勤務時間帯）'!$D$6:$Z$47,23,FALSE)) -> 4 | W32: =IF(W30="","",VLOOKUP(W30,'【記載例】シフト記号表（勤務時間帯）'!$D$6:$Z$47,23,FALSE)) -> 6 | X32: =IF(X30="","",VLOOKUP(X30,'【記載例】シフト記号表（勤務時間帯）'!$D$6:$Z$47,23,FALSE)) -> - | Y32: =IF(Y30="","",VLOOKUP(Y30,'【記載例】シフト記号表（勤務時間帯）'!$D$6:$Z$47,23,FALSE)) | Z32: =IF(Z30="","",VLOOKUP(Z30,'【記載例】シフト記号表（勤務時間帯）'!$D$6:$Z$47,23,FALSE)) -> 4 | AA32: =IF(AA30="","",VLOOKUP(AA30,'【記載例】シフト記号表（勤務時間帯）'!$D$6:$Z$47,23,FALSE)) -> 6 | AB32: =IF(AB30="","",VLOOKUP(AB30,'【記載例】シフト記号表（勤務時間帯）'!$D$6:$Z$47,23,FALSE)) | ... AY32: =IF(AY30="","",VLOOKUP(AY30,'【記載例】シフト記号表（勤務時間帯）'!$D$6:$Z$47,23,FALSE)) | AZ32: =IF($BC$3="４週",SUM(U32:AV32),IF($BC$3="暦月",SUM(U32:AY32),"")) -> 50 | BB32: =IF($BC$3="４週",AZ32/4,IF($BC$3="暦月",(AZ32/($BC$8/7)),"")) -> 12.5
C33: 介護従業者 | H33: A | I33: 介護福祉士 | M33: ○○ D美 | P33: シフト記号 | U33: b | V33: a | X33: a | Y33: b | Z33: b | AB33: b | AC33: b | AD33: b | AE33: b | AF33: b | AI33: b | AK33: a | AM33: b | AN33: b | AO33: b | AP33: b | AS33: b | AT33: b | AU33: b | AV33: b
B34: =B31+1 -> 5 | F34: =C33 -> 介護従業者 | P34: 日中の勤務時間数 | U34: =IF(U33="","",VLOOKUP(U33,'【記載例】シフト記号表（勤務時間帯）'!$D$6:$X$47,21,FALSE)) -> 8 | V34: =IF(V33="","",VLOOKUP(V33,'【記載例】シフト記号表（勤務時間帯）'!$D$6:$X$47,21,FALSE)) -> 8 | W34: =IF(W33="","",VLOOKUP(W33,'【記載例】シフト記号表（勤務時間帯）'!$D$6:$X$47,21,FALSE)) | X34: =IF(X33="","",VLOOKUP(X33,'【記載例】シフト記号表（勤務時間帯）'!$D$6:$X$47,21,FALSE)) -> 8 | Y34: =IF(Y33="","",VLOOKUP(Y33,'【記載例】シフト記号表（勤務時間帯）'!$D$6:$X$47,21,FALSE)) -> 8 | Z34: =IF(Z33="","",VLOOKUP(Z33,'【記載例】シフト記号表（勤務時間帯）'!$D$6:$X$47,21,FALSE)) -> 8 | AA34: =IF(AA33="","",VLOOKUP(AA33,'【記載例】シフト記号表（勤務時間帯）'!$D$6:$X$47,21,FALSE)) | AB34: =IF(AB33="","",VLOOKUP(AB33,'【記載例】シフト記号表（勤務時間帯）'!$D$6:$X$47,21,FALSE)) -> 8 | ... AY34: =IF(AY33="","",VLOOKUP(AY33,'【記載例】シフト記号表（勤務時間帯）'!$D$6:$X$47,21,FALSE)) | AZ34: =IF($BC$3="４週",SUM(U34:AV34),IF($BC$3="暦月",SUM(U34:AY34),"")) -> 160 | BB34: =IF($BC$3="４週",AZ34/4,IF($BC$3="暦月",(AZ34/($BC$8/7)),"")) -> 40
G35: =C33 -> 介護従業者 | P35: 夜間・深夜の勤務時間数 | U35: =IF(U33="","",VLOOKUP(U33,'【記載例】シフト記号表（勤務時間帯）'!$D$6:$Z$47,23,FALSE)) -> - | V35: =IF(V33="","",VLOOKUP(V33,'【記載例】シフト記号表（勤務時間帯）'!$D$6:$Z$47,23,FALSE)) -> - | W35: =IF(W33="","",VLOOKUP(W33,'【記載例】シフト記号表（勤務時間帯）'!$D$6:$Z$47,23,FALSE)) | X35: =IF(X33="","",VLOOKUP(X33,'【記載例】シフト記号表（勤務時間帯）'!$D$6:$Z$47,23,FALSE)) -> - | Y35: =IF(Y33="","",VLOOKUP(Y33,'【記載例】シフト記号表（勤務時間帯）'!$D$6:$Z$47,23,FALSE)) -> - | Z35: =IF(Z33="","",VLOOKUP(Z33,'【記載例】シフト記号表（勤務時間帯）'!$D$6:$Z$47,23,FALSE)) -> - | AA35: =IF(AA33="","",VLOOKUP(AA33,'【記載例】シフト記号表（勤務時間帯）'!$D$6:$Z$47,23,FALSE)) | AB35: =IF(AB33="","",VLOOKUP(AB33,'【記載例】シフト記号表（勤務時間帯）'!$D$6:$Z$47,23,FALSE)) -> - | ... AY35: =IF(AY33="","",VLOOKUP(AY33,'【記載例】シフト記号表（勤務時間帯）'!$D$6:$Z$47,23,FALSE)) | AZ35: =IF($BC$3="４週",SUM(U35:AV35),IF($BC$3="暦月",SUM(U35:AY35),"")) -> 0 | BB35: =IF($BC$3="４週",AZ35/4,IF($BC$3="暦月",(AZ35/($BC$8/7)),"")) -> 0
C36: 介護従業者 | H36: A | I36: ー | M36: ○○ E夫 | P36: シフト記号 | U36: a | W36: a | Y36: i | Z36: j | AA36: b | AC36: i | AD36: j | AE36: b | AG36: i | AH36: j | AJ36: c | AK36: c | AL36: b | AM36: c | AO36: i | AP36: j | AQ36: b | AR36: c | AT36: c | AU36: b
B37: =B34+1 -> 6 | F37: =C36 -> 介護従業者 | P37: 日中の勤務時間数 | U37: =IF(U36="","",VLOOKUP(U36,'【記載例】シフト記号表（勤務時間帯）'!$D$6:$X$47,21,FALSE)) -> 8 | V37: =IF(V36="","",VLOOKUP(V36,'【記載例】シフト記号表（勤務時間帯）'!$D$6:$X$47,21,FALSE)) | W37: =IF(W36="","",VLOOKUP(W36,'【記載例】シフト記号表（勤務時間帯）'!$D$6:$X$47,21,FALSE)) -> 8 | X37: =IF(X36="","",VLOOKUP(X36,'【記載例】シフト記号表（勤務時間帯）'!$D$6:$X$47,21,FALSE)) | Y37: =IF(Y36="","",VLOOKUP(Y36,'【記載例】シフト記号表（勤務時間帯）'!$D$6:$X$47,21,FALSE)) -> 3 | Z37: =IF(Z36="","",VLOOKUP(Z36,'【記載例】シフト記号表（勤務時間帯）'!$D$6:$X$47,21,FALSE)) -> 3 | AA37: =IF(AA36="","",VLOOKUP(AA36,'【記載例】シフト記号表（勤務時間帯）'!$D$6:$X$47,21,FALSE)) -> 8 | AB37: =IF(AB36="","",VLOOKUP(AB36,'【記載例】シフト記号表（勤務時間帯）'!$D$6:$X$47,21,FALSE)) | ... AY37: =IF(AY36="","",VLOOKUP(AY36,'【記載例】シフト記号表（勤務時間帯）'!$D$6:$X$47,21,FALSE)) | AZ37: =IF($BC$3="４週",SUM(U37:AV37),IF($BC$3="暦月",SUM(U37:AY37),"")) -> 120 | BB37: =IF($BC$3="４週",AZ37/4,IF($BC$3="暦月",(AZ37/($BC$8/7)),"")) -> 30
G38: =C36 -> 介護従業者 | P38: 夜間・深夜の勤務時間数 | U38: =IF(U36="","",VLOOKUP(U36,'【記載例】シフト記号表（勤務時間帯）'!$D$6:$Z$47,23,FALSE)) -> - | V38: =IF(V36="","",VLOOKUP(V36,'【記載例】シフト記号表（勤務時間帯）'!$D$6:$Z$47,23,FALSE)) | W38: =IF(W36="","",VLOOKUP(W36,'【記載例】シフト記号表（勤務時間帯）'!$D$6:$Z$47,23,FALSE)) -> - | X38: =IF(X36="","",VLOOKUP(X36,'【記載例】シフト記号表（勤務時間帯）'!$D$6:$Z$47,23,FALSE)) | Y38: =IF(Y36="","",VLOOKUP(Y36,'【記載例】シフト記号表（勤務時間帯）'!$D$6:$Z$47,23,FALSE)) -> 4 | Z38: =IF(Z36="","",VLOOKUP(Z36,'【記載例】シフト記号表（勤務時間帯）'!$D$6:$Z$47,23,FALSE)) -> 6 | AA38: =IF(AA36="","",VLOOKUP(AA36,'【記載例】シフト記号表（勤務時間帯）'!$D$6:$Z$47,23,FALSE)) -> - | AB38: =IF(AB36="","",VLOOKUP(AB36,'【記載例】シフト記号表（勤務時間帯）'!$D$6:$Z$47,23,FALSE)) | ... AY38: =IF(AY36="","",VLOOKUP(AY36,'【記載例】シフト記号表（勤務時間帯）'!$D$6:$Z$47,23,FALSE)) | AZ38: =IF($BC$3="４週",SUM(U38:AV38),IF($BC$3="暦月",SUM(U38:AY38),"")) -> 40 | BB38: =IF($BC$3="４週",AZ38/4,IF($BC$3="暦月",(AZ38/($BC$8/7)),"")) -> 10
C39: 介護従業者 | H39: A | I39: 介護福祉士 | M39: ○○ F子 | P39: シフト記号 | V39: a | W39: i | X39: j | Y39: a | AA39: a | AB39: b | AC39: b | AF39: i | AG39: j | AH39: b | AI39: a | AK39: i | AL39: j | AN39: a | AO39: a | AP39: c | AR39: a | AS39: b | AT39: i | AU39: j
B40: =B37+1 -> 7 | F40: =C39 -> 介護従業者 | P40: 日中の勤務時間数 | U40: =IF(U39="","",VLOOKUP(U39,'【記載例】シフト記号表（勤務時間帯）'!$D$6:$X$47,21,FALSE)) | V40: =IF(V39="","",VLOOKUP(V39,'【記載例】シフト記号表（勤務時間帯）'!$D$6:$X$47,21,FALSE)) -> 8 | W40: =IF(W39="","",VLOOKUP(W39,'【記載例】シフト記号表（勤務時間帯）'!$D$6:$X$47,21,FALSE)) -> 3 | X40: =IF(X39="","",VLOOKUP(X39,'【記載例】シフト記号表（勤務時間帯）'!$D$6:$X$47,21,FALSE)) -> 3 | Y40: =IF(Y39="","",VLOOKUP(Y39,'【記載例】シフト記号表（勤務時間帯）'!$D$6:$X$47,21,FALSE)) -> 8 | Z40: =IF(Z39="","",VLOOKUP(Z39,'【記載例】シフト記号表（勤務時間帯）'!$D$6:$X$47,21,FALSE)) | AA40: =IF(AA39="","",VLOOKUP(AA39,'【記載例】シフト記号表（勤務時間帯）'!$D$6:$X$47,21,FALSE)) -> 8 | AB40: =IF(AB39="","",VLOOKUP(AB39,'【記載例】シフト記号表（勤務時間帯）'!$D$6:$X$47,21,FALSE)) -> 8 | ... AY40: =IF(AY39="","",VLOOKUP(AY39,'【記載例】シフト記号表（勤務時間帯）'!$D$6:$X$47,21,FALSE)) | AZ40: =IF($BC$3="４週",SUM(U40:AV40),IF($BC$3="暦月",SUM(U40:AY40),"")) -> 120 | BB40: =IF($BC$3="４週",AZ40/4,IF($BC$3="暦月",(AZ40/($BC$8/7)),"")) -> 30
G41: =C39 -> 介護従業者 | P41: 夜間・深夜の勤務時間数 | U41: =IF(U39="","",VLOOKUP(U39,'【記載例】シフト記号表（勤務時間帯）'!$D$6:$Z$47,23,FALSE)) | V41: =IF(V39="","",VLOOKUP(V39,'【記載例】シフト記号表（勤務時間帯）'!$D$6:$Z$47,23,FALSE)) -> - | W41: =IF(W39="","",VLOOKUP(W39,'【記載例】シフト記号表（勤務時間帯）'!$D$6:$Z$47,23,FALSE)) -> 4 | X41: =IF(X39="","",VLOOKUP(X39,'【記載例】シフト記号表（勤務時間帯）'!$D$6:$Z$47,23,FALSE)) -> 6 | Y41: =IF(Y39="","",VLOOKUP(Y39,'【記載例】シフト記号表（勤務時間帯）'!$D$6:$Z$47,23,FALSE)) -> - | Z41: =IF(Z39="","",VLOOKUP(Z39,'【記載例】シフト記号表（勤務時間帯）'!$D$6:$Z$47,23,FALSE)) | AA41: =IF(AA39="","",VLOOKUP(AA39,'【記載例】シフト記号表（勤務時間帯）'!$D$6:$Z$47,23,FALSE)) -> - | AB41: =IF(AB39="","",VLOOKUP(AB39,'【記載例】シフト記号表（勤務時間帯）'!$D$6:$Z$47,23,FALSE)) -> - | ... AY41: =IF(AY39="","",VLOOKUP(AY39,'【記載例】シフト記号表（勤務時間帯）'!$D$6:$Z$47,23,FALSE)) | AZ41: =IF($BC$3="４週",SUM(U41:AV41),IF($BC$3="暦月",SUM(U41:AY41),"")) -> 40 | BB41: =IF($BC$3="４週",AZ41/4,IF($BC$3="暦月",(AZ41/($BC$8/7)),"")) -> 10
C42: 介護従業者 | H42: A | I42: 介護福祉士 | M42: ○○ G太 | P42: シフト記号 | U42: a | W42: b | X42: i | Y42: j | Z42: a | AB42: a | AD42: c | AE42: i | AF42: j | AH42: a | AI42: i | AJ42: j | AL42: a | AM42: a | AN42: b | AP42: i | AQ42: j | AS42: a | AU42: i | AV42: j
B43: =B40+1 -> 8 | F43: =C42 -> 介護従業者 | P43: 日中の勤務時間数 | U43: =IF(U42="","",VLOOKUP(U42,'【記載例】シフト記号表（勤務時間帯）'!$D$6:$X$47,21,FALSE)) -> 8 | V43: =IF(V42="","",VLOOKUP(V42,'【記載例】シフト記号表（勤務時間帯）'!$D$6:$X$47,21,FALSE)) | W43: =IF(W42="","",VLOOKUP(W42,'【記載例】シフト記号表（勤務時間帯）'!$D$6:$X$47,21,FALSE)) -> 8 | X43: =IF(X42="","",VLOOKUP(X42,'【記載例】シフト記号表（勤務時間帯）'!$D$6:$X$47,21,FALSE)) -> 3 | Y43: =IF(Y42="","",VLOOKUP(Y42,'【記載例】シフト記号表（勤務時間帯）'!$D$6:$X$47,21,FALSE)) -> 3 | Z43: =IF(Z42="","",VLOOKUP(Z42,'【記載例】シフト記号表（勤務時間帯）'!$D$6:$X$47,21,FALSE)) -> 8 | AA43: =IF(AA42="","",VLOOKUP(AA42,'【記載例】シフト記号表（勤務時間帯）'!$D$6:$X$47,21,FALSE)) | AB43: =IF(AB42="","",VLOOKUP(AB42,'【記載例】シフト記号表（勤務時間帯）'!$D$6:$X$47,21,FALSE)) -> 8 | ... AY43: =IF(AY42="","",VLOOKUP(AY42,'【記載例】シフト記号表（勤務時間帯）'!$D$6:$X$47,21,FALSE)) | AZ43: =IF($BC$3="４週",SUM(U43:AV43),IF($BC$3="暦月",SUM(U43:AY43),"")) -> 110 | BB43: =IF($BC$3="４週",AZ43/4,IF($BC$3="暦月",(AZ43/($BC$8/7)),"")) -> 27.5
G44: =C42 -> 介護従業者 | P44: 夜間・深夜の勤務時間数 | U44: =IF(U42="","",VLOOKUP(U42,'【記載例】シフト記号表（勤務時間帯）'!$D$6:$Z$47,23,FALSE)) -> - | V44: =IF(V42="","",VLOOKUP(V42,'【記載例】シフト記号表（勤務時間帯）'!$D$6:$Z$47,23,FALSE)) | W44: =IF(W42="","",VLOOKUP(W42,'【記載例】シフト記号表（勤務時間帯）'!$D$6:$Z$47,23,FALSE)) -> - | X44: =IF(X42="","",VLOOKUP(X42,'【記載例】シフト記号表（勤務時間帯）'!$D$6:$Z$47,23,FALSE)) -> 4 | Y44: =IF(Y42="","",VLOOKUP(Y42,'【記載例】シフト記号表（勤務時間帯）'!$D$6:$Z$47,23,FALSE)) -> 6 | Z44: =IF(Z42="","",VLOOKUP(Z42,'【記載例】シフト記号表（勤務時間帯）'!$D$6:$Z$47,23,FALSE)) -> - | AA44: =IF(AA42="","",VLOOKUP(AA42,'【記載例】シフト記号表（勤務時間帯）'!$D$6:$Z$47,23,FALSE)) | AB44: =IF(AB42="","",VLOOKUP(AB42,'【記載例】シフト記号表（勤務時間帯）'!$D$6:$Z$47,23,FALSE)) -> - | ... AY44: =IF(AY42="","",VLOOKUP(AY42,'【記載例】シフト記号表（勤務時間帯）'!$D$6:$Z$47,23,FALSE)) | AZ44: =IF($BC$3="４週",SUM(U44:AV44),IF($BC$3="暦月",SUM(U44:AY44),"")) -> 50 | BB44: =IF($BC$3="４週",AZ44/4,IF($BC$3="暦月",(AZ44/($BC$8/7)),"")) -> 12.5
C45: 介護従業者 | H45: A | I45: 看護師 | M45: ○○ H美 | P45: シフト記号 | U45: j | V45: c | W45: c | Z45: b | AA45: i | AB45: j | AE45: a | AF45: c | AG45: c | AH45: i | AI45: j | AJ45: c | AL45: b | AM45: i | AN45: j | AQ45: i | AR45: j | AT45: a | AU45: b | AV45: i
...

Sheet 【記載例】シフト記号表（勤務時間帯）
B1: ≪要 提出≫
B2: ■シフト記号表（勤務時間帯）
B3: ※24時間表記 | F3: 休憩時間1時間は「1:00」、休憩時間45分は「00:45」と入力してください。
F4: 勤務時間 | N4: 日中の時間帯 | R4: 日中の勤務時間 | Z4: 夜間及び深夜 | AB4: 自由記載欄
B5: No | C5: 記号 | F5: 始業時刻 | H5: 終業時刻 | J5: うち、休憩時間 | L5: 勤務時間 | N5: 開始時刻 | P5: 終了時刻 | R5: 開始時刻 | T5: 終了時刻 | V5: うち、休憩時間 | X5: 勤務時間 | Z5: の勤務時間
B6: 1 | C6: a | D6: =C6 -> a | E6: ： | F6: 0.29166667 | G6: ～ | H6: 0.66666667 | I6: （ | J6: 0.041666667 | K6: ） | L6: =IF(OR(F6="",H6=""),"",(H6+IF(F6>H6,1,0)-F6-J6)*24) -> 8 | N6: =【記載例】小多機!$BB$13 -> 0.29166667 | O6: ～ | P6: =【記載例】小多機!$BF$13 -> 0.83333333 | R6: =IF(F6="","",IF(F6<N6,N6,IF(F6>=P6,"",F6))) -> 0.29166667 | S6: ～ | T6: =IF(H6="","",IF(H6>F6,IF(H6<P6,H6,P6),P6)) -> 0.66666667 | U6: （ | V6: 0.041666667 | W6: ） | X6: =IF(R6="","",IF((T6+IF(R6>T6,1,0)-R6-V6)*24=0,"",(T6+IF(R6>T6,1,0)-R6-V6)*24)) -> 8 | Z6: =IF(X6="",L6,IF(OR(L6-X6=0,L6-X6<0),"-",L6-X6)) -> -
B7: 2 | C7: b | D7: =C7 -> b | E7: ： | F7: 0.45833333 | G7: ～ | H7: 0.83333333 | I7: （ | J7: 0.041666667 | K7: ） | L7: =IF(OR(F7="",H7=""),"",(H7+IF(F7>H7,1,0)-F7-J7)*24) -> 8 | N7: =【記載例】小多機!$BB$13 -> 0.29166667 | O7: ～ | P7: =【記載例】小多機!$BF$13 -> 0.83333333 | R7: =IF(F7="","",IF(F7<N7,N7,IF(F7>=P7,"",F7))) -> 0.45833333 | S7: ～ | T7: =IF(H7="","",IF(H7>F7,IF(H7<P7,H7,P7),P7)) -> 0.83333333 | U7: （ | V7: 0.041666667 | W7: ） | X7: =IF(R7="","",IF((T7+IF(R7>T7,1,0)-R7-V7)*24=0,"",(T7+IF(R7>T7,1,0)-R7-V7)*24)) -> 8 | Z7: =IF(X7="",L7,IF(OR(L7-X7=0,L7-X7<0),"-",L7-X7)) -> -
B8: 3 | C8: c | D8: =C8 -> c | E8: ： | F8: 0.375 | G8: ～ | H8: 0.75 | I8: （ | J8: 0.041666667 | K8: ） | L8: =IF(OR(F8="",H8=""),"",(H8+IF(F8>H8,1,0)-F8-J8)*24) -> 8 | N8: =【記載例】小多機!$BB$13 -> 0.29166667 | O8: ～ | P8: =【記載例】小多機!$BF$13 -> 0.83333333 | R8: =IF(F8="","",IF(F8<N8,N8,IF(F8>=P8,"",F8))) -> 0.375 | S8: ～ | T8: =IF(H8="","",IF(H8>F8,IF(H8<P8,H8,P8),P8)) -> 0.75 | U8: （ | V8: 0.041666667 | W8: ） | X8: =IF(R8="","",IF((T8+IF(R8>T8,1,0)-R8-V8)*24=0,"",(T8+IF(R8>T8,1,0)-R8-V8)*24)) -> 8 | Z8: =IF(X8="",L8,IF(OR(L8-X8=0,L8-X8<0),"-",L8-X8)) -> -
B9: 4 | C9: d | D9: =C9 -> d | E9: ： | F9: 0.35416667 | G9: ～ | H9: 0.72916667 | I9: （ | J9: 0.041666667 | K9: ） | L9: =IF(OR(F9="",H9=""),"",(H9+IF(F9>H9,1,0)-F9-J9)*24) -> 8 | N9: =【記載例】小多機!$BB$13 -> 0.29166667 | O9: ～ | P9: =【記載例】小多機!$BF$13 -> 0.83333333 | R9: =IF(F9="","",IF(F9<N9,N9,IF(F9>=P9,"",F9))) -> 0.35416667 | S9: ～ | T9: =IF(H9="","",IF(H9>F9,IF(H9<P9,H9,P9),P9)) -> 0.72916667 | U9: （ | V9: 0.041666667 | W9: ） | X9: =IF(R9="","",IF((T9+IF(R9>T9,1,0)-R9-V9)*24=0,"",(T9+IF(R9>T9,1,0)-R9-V9)*24)) -> 8 | Z9: =IF(X9="",L9,IF(OR(L9-X9=0,L9-X9<0),"-",L9-X9)) -> -
B10: 5 | C10: e | D10: =C10 -> e | E10: ： | F10: 0.375 | G10: ～ | H10: 0.625 | I10: （ | J10: 0 | K10: ） | L10: =IF(OR(F10="",H10=""),"",(H10+IF(F10>H10,1,0)-F10-J10)*24) -> 6 | N10: =【記載例】小多機!$BB$13 -> 0.29166667 | O10: ～ | P10: =【記載例】小多機!$BF$13 -> 0.83333333 | R10: =IF(F10="","",IF(F10<N10,N10,IF(F10>=P10,"",F10))) -> 0.375 | S10: ～ | T10: =IF(H10="","",IF(H10>F10,IF(H10<P10,H10,P10),P10)) -> 0.625 | U10: （ | V10: 0 | W10: ） | X10: =IF(R10="","",IF((T10+IF(R10>T10,1,0)-R10-V10)*24=0,"",(T10+IF(R10>T10,1,0)-R10-V10)*24)) -> 6 | Z10: =IF(X10="",L10,IF(OR(L10-X10=0,L10-X10<0),"-",L10-X10)) -> -
B11: 6 | C11: f | D11: =C11 -> f | E11: ： | F11: 0.41666667 | G11: ～ | H11: 0.66666667 | I11: （ | J11: 0 | K11: ） | L11: =IF(OR(F11="",H11=""),"",(H11+IF(F11>H11,1,0)-F11-J11)*24) -> 6 | N11: =【記載例】小多機!$BB$13 -> 0.29166667 | O11: ～ | P11: =【記載例】小多機!$BF$13 -> 0.83333333 | R11: =IF(F11="","",IF(F11<N11,N11,IF(F11>=P11,"",F11))) -> 0.41666667 | S11: ～ | T11: =IF(H11="","",IF(H11>F11,IF(H11<P11,H11,P11),P11)) -> 0.66666667 | U11: （ | V11: 0 | W11: ） | X11: =IF(R11="","",IF((T11+IF(R11>T11,1,0)-R11-V11)*24=0,"",(T11+IF(R11>T11,1,0)-R11-V11)*24)) -> 6 | Z11: =IF(X11="",L11,IF(OR(L11-X11=0,L11-X11<0),"-",L11-X11)) -> -
B12: 7 | C12: g | D12: =C12 -> g | E12: ： | F12: 0.29166667 | G12: ～ | H12: 0.39583333 | I12: （ | J12: 0 | K12: ） | L12: =IF(OR(F12="",H12=""),"",(H12+IF(F12>H12,1,0)-F12-J12)*24) -> 2.5 | N12: =【記載例】小多機!$BB$13 -> 0.29166667 | O12: ～ | P12: =【記載例】小多機!$BF$13 -> 0.83333333 | R12: =IF(F12="","",IF(F12<N12,N12,IF(F12>=P12,"",F12))) -> 0.29166667 | S12: ～ | T12: =IF(H12="","",IF(H12>F12,IF(H12<P12,H12,P12),P12)) -> 0.39583333 | U12: （ | V12: 0 | W12: ） | X12: =IF(R12="","",IF((T12+IF(R12>T12,1,0)-R12-V12)*24=0,"",(T12+IF(R12>T12,1,0)-R12-V12)*24)) -> 2.5 | Z12: =IF(X12="",L12,IF(OR(L12-X12=0,L12-X12<0),"-",L12-X12)) -> -
B13: 8 | C13: h | D13: =C13 -> h | E13: ： | F13: 0.66666667 | G13: ～ | H13: 0.83333333 | I13: （ | J13: 0 | K13: ） | L13: =IF(OR(F13="",H13=""),"",(H13+IF(F13>H13,1,0)-F13-J13)*24) -> 4 | N13: =【記載例】小多機!$BB$13 -> 0.29166667 | O13: ～ | P13: =【記載例】小多機!$BF$13 -> 0.83333333 | R13: =IF(F13="","",IF(F13<N13,N13,IF(F13>=P13,"",F13))) -> 0.66666667 | S13: ～ | T13: =IF(H13="","",IF(H13>F13,IF(H13<P13,H13,P13),P13)) -> 0.83333333 | U13: （ | V13: 0 | W13: ） | X13: =IF(R13="","",IF((T13+IF(R13>T13,1,0)-R13-V13)*24=0,"",(T13+IF(R13>T13,1,0)-R13-V13)*24)) -> 4 | Z13: =IF(X13="",L13,IF(OR(L13-X13=0,L13-X13<0),"-",L13-X13)) -> -
B14: 9 | C14: i | D14: =C14 -> i | E14: ： | F14: 0.70833333 | G14: ～ | H14: 1 | I14: （ | J14: 0 | K14: ） | L14: =IF(OR(F14="",H14=""),"",(H14+IF(F14>H14,1,0)-F14-J14)*24) -> 7 | N14: =【記載例】小多機!$BB$13 -> 0.29166667 | O14: ～ | P14: =【記載例】小多機!$BF$13 -> 0.83333333 | R14: =IF(F14="","",IF(F14<N14,N14,IF(F14>=P14,"",F14))) -> 0.70833333 | S14: ～ | T14: =IF(H14="","",IF(H14>F14,IF(H14<P14,H14,P14),P14)) -> 0.83333333 | U14: （ | V14: 0 | W14: ） | X14: =IF(R14="","",IF((T14+IF(R14>T14,1,0)-R14-V14)*24=0,"",(T14+IF(R14>T14,1,0)-R14-V14)*24)) -> 3 | Z14: =IF(X14="",L14,IF(OR(L14-X14=0,L14-X14<0),"-",L14-X14)) -> 4 | AB14: （夜勤）17:00～翌10:00勤務
B15: 10 | C15: j | D15: =C15 -> j | E15: ： | F15: 0 | G15: ～ | H15: 0.41666667 | I15: （ | J15: 0.041666667 | K15: ） | L15: =IF(OR(F15="",H15=""),"",(H15+IF(F15>H15,1,0)-F15-J15)*24) -> 9 | N15: =【記載例】小多機!$BB$13 -> 0.29166667 | O15: ～ | P15: =【記載例】小多機!$BF$13 -> 0.83333333 | R15: =IF(F15="","",IF(F15<N15,N15,IF(F15>=P15,"",F15))) -> 0.29166667 | S15: ～ | T15: =IF(H15="","",IF(H15>F15,IF(H15<P15,H15,P15),P15)) -> 0.41666667 | U15: （ | V15: 0 | W15: ） | X15: =IF(R15="","",IF((T15+IF(R15>T15,1,0)-R15-V15)*24=0,"",(T15+IF(R15>T15,1,0)-R15-V15)*24)) -> 3 | Z15: =IF(X15="",L15,IF(OR(L15-X15=0,L15-X15<0),"-",L15-X15)) -> 6 | AB15: （夜勤）17:00～翌10:00勤務
B16: 11 | C16: k | D16: =C16 -> k | E16: ： | G16: ～ | I16: （ | J16: 0 | K16: ） | L16: =IF(OR(F16="",H16=""),"",(H16+IF(F16>H16,1,0)-F16-J16)*24) | N16: =【記載例】小多機!$BB$13 -> 0.29166667 | O16: ～ | P16: =【記載例】小多機!$BF$13 -> 0.83333333 | R16: =IF(F16="","",IF(F16<N16,N16,IF(F16>=P16,"",F16))) | S16: ～ | T16: =IF(H16="","",IF(H16>F16,IF(H16<P16,H16,P16),P16)) | U16: （ | V16: 0 | W16: ） | X16: =IF(R16="","",IF((T16+IF(R16>T16,1,0)-R16-V16)*24=0,"",(T16+IF(R16>T16,1,0)-R16-V16)*24)) | Z16: =IF(X16="",L16,IF(OR(L16-X16=0,L16-X16<0),"-",L16-X16))
B17: 12 | C17: l | D17: =C17 -> l | E17: ： | G17: ～ | I17: （ | J17: 0 | K17: ） | L17: =IF(OR(F17="",H17=""),"",(H17+IF(F17>H17,1,0)-F17-J17)*24) | N17: =【記載例】小多機!$BB$13 -> 0.29166667 | O17: ～ | P17: =【記載例】小多機!$BF$13 -> 0.83333333 | R17: =IF(F17="","",IF(F17<N17,N17,IF(F17>=P17,"",F17))) | S17: ～ | T17: =IF(H17="","",IF(H17>F17,IF(H17<P17,H17,P17),P17)) | U17: （ | V17: 0 | W17: ） | X17: =IF(R17="","",IF((T17+IF(R17>T17,1,0)-R17-V17)*24=0,"",(T17+IF(R17>T17,1,0)-R17-V17)*24)) | Z17: =IF(X17="",L17,IF(OR(L17-X17=0,L17-X17<0),"-",L17-X17))
B18: 13 | C18: m | D18: =C18 -> m | E18: ： | G18: ～ | I18: （ | J18: 0 | K18: ） | L18: =IF(OR(F18="",H18=""),"",(H18+IF(F18>H18,1,0)-F18-J18)*24) | N18: =【記載例】小多機!$BB$13 -> 0.29166667 | O18: ～ | P18: =【記載例】小多機!$BF$13 -> 0.83333333 | R18: =IF(F18="","",IF(F18<N18,N18,IF(F18>=P18,"",F18))) | S18: ～ | T18: =IF(H18="","",IF(H18>F18,IF(H18<P18,H18,P18),P18)) | U18: （ | V18: 0 | W18: ） | X18: =IF(R18="","",IF((T18+IF(R18>T18,1,0)-R18-V18)*24=0,"",(T18+IF(R18>T18,1,0)-R18-V18)*24)) | Z18: =IF(X18="",L18,IF(OR(L18-X18=0,L18-X18<0),"-",L18-X18))
B19: 14 | C19: n | D19: =C19 -> n | E19: ： | G19: ～ | I19: （ | J19: 0 | K19: ） | L19: =IF(OR(F19="",H19=""),"",(H19+IF(F19>H19,1,0)-F19-J19)*24) | N19: =【記載例】小多機!$BB$13 -> 0.29166667 | O19: ～ | P19: =【記載例】小多機!$BF$13 -> 0.83333333 | R19: =IF(F19="","",IF(F19<N19,N19,IF(F19>=P19,"",F19))) | S19: ～ | T19: =IF(H19="","",IF(H19>F19,IF(H19<P19,H19,P19),P19)) | U19: （ | V19: 0 | W19: ） | X19: =IF(R19="","",IF((T19+IF(R19>T19,1,0)-R19-V19)*24=0,"",(T19+IF(R19>T19,1,0)-R19-V19)*24)) | Z19: =IF(X19="",L19,IF(OR(L19-X19=0,L19-X19<0),"-",L19-X19))
B20: 15 | C20: o | D20: =C20 -> o | E20: ： | G20: ～ | I20: （ | J20: 0 | K20: ） | L20: =IF(OR(F20="",H20=""),"",(H20+IF(F20>H20,1,0)-F20-J20)*24) | N20: =【記載例】小多機!$BB$13 -> 0.29166667 | O20: ～ | P20: =【記載例】小多機!$BF$13 -> 0.83333333 | R20: =IF(F20="","",IF(F20<N20,N20,IF(F20>=P20,"",F20))) | S20: ～ | T20: =IF(H20="","",IF(H20>F20,IF(H20<P20,H20,P20),P20)) | U20: （ | V20: 0 | W20: ） | X20: =IF(R20="","",IF((T20+IF(R20>T20,1,0)-R20-V20)*24=0,"",(T20+IF(R20>T20,1,0)-R20-V20)*24)) | Z20: =IF(X20="",L20,IF(OR(L20-X20=0,L20-X20<0),"-",L20-X20))
B21: 16 | C21: p | D21: =C21 -> p | E21: ： | G21: ～ | I21: （ | J21: 0 | K21: ） | L21: =IF(OR(F21="",H21=""),"",(H21+IF(F21>H21,1,0)-F21-J21)*24) | N21: =【記載例】小多機!$BB$13 -> 0.29166667 | O21: ～ | P21: =【記載例】小多機!$BF$13 -> 0.83333333 | R21: =IF(F21="","",IF(F21<N21,N21,IF(F21>=P21,"",F21))) | S21: ～ | T21: =IF(H21="","",IF(H21>F21,IF(H21<P21,H21,P21),P21)) | U21: （ | V21: 0 | W21: ） | X21: =IF(R21="","",IF((T21+IF(R21>T21,1,0)-R21-V21)*24=0,"",(T21+IF(R21>T21,1,0)-R21-V21)*24)) | Z21: =IF(X21="",L21,IF(OR(L21-X21=0,L21-X21<0),"-",L21-X21))
B22: 17 | C22: q | D22: =C22 -> q | E22: ： | G22: ～ | I22: （ | J22: 0 | K22: ） | L22: =IF(OR(F22="",H22=""),"",(H22+IF(F22>H22,1,0)-F22-J22)*24) | N22: =【記載例】小多機!$BB$13 -> 0.29166667 | O22: ～ | P22: =【記載例】小多機!$BF$13 -> 0.83333333 | R22: =IF(F22="","",IF(F22<N22,N22,IF(F22>=P22,"",F22))) | S22: ～ | T22: =IF(H22="","",IF(H22>F22,IF(H22<P22,H22,P22),P22)) | U22: （ | V22: 0 | W22: ） | X22: =IF(R22="","",IF((T22+IF(R22>T22,1,0)-R22-V22)*24=0,"",(T22+IF(R22>T22,1,0)-R22-V22)*24)) | Z22: =IF(X22="",L22,IF(OR(L22-X22=0,L22-X22<0),"-",L22-X22))
B23: 18 | C23: r | D23: =C23 -> r | E23: ： | G23: ～ | I23: （ | K23: ） | L23: 1 | O23: ～ | S23: ～ | U23: （ | W23: ） | X23: 1 | Z23: -
B24: 19 | C24: s | D24: =C24 -> s | E24: ： | G24: ～ | I24: （ | K24: ） | L24: 2 | O24: ～ | S24: ～ | U24: （ | W24: ） | X24: 2 | Z24: -
B25: 20 | C25: t | D25: =C25 -> t | E25: ： | G25: ～ | I25: （ | K25: ） | L25: 3 | O25: ～ | S25: ～ | U25: （ | W25: ） | X25: 3 | Z25: -
B26: 21 | C26: u | D26: =C26 -> u | E26: ： | G26: ～ | I26: （ | K26: ） | L26: 4 | O26: ～ | S26: ～ | U26: （ | W26: ） | X26: 4 | Z26: -
B27: 22 | C27: v | D27: =C27 -> v | E27: ： | G27: ～ | I27: （ | K27: ） | L27: 5 | O27: ～ | S27: ～ | U27: （ | W27: ） | X27: 5 | Z27: -
B28: 23 | C28: w | D28: =C28 -> w | E28: ： | G28: ～ | I28: （ | K28: ） | L28: 6 | O28: ～ | S28: ～ | U28: （ | W28: ） | X28: 6 | Z28: -
B29: 24 | C29: x | D29: =C29 -> x | E29: ： | G29: ～ | I29: （ | K29: ） | L29: 7 | O29: ～ | S29: ～ | U29: （ | W29: ） | X29: 7 | Z29: -
B30: 25 | C30: y | D30: =C30 -> y | E30: ： | G30: ～ | I30: （ | K30: ） | L30: 8 | O30: ～ | S30: ～ | U30: （ | W30: ） | X30: 8 | Z30: -
B31: 26 | C31: z | D31: =C31 -> z | E31: ： | G31: ～ | I31: （ | K31: ） | L31: 1 | O31: ～ | S31: ～ | U31: （ | W31: ） | X31: - | Z31: 1
B32: 27 | C32: x | D32: =C32 -> x | E32: ： | G32: ～ | I32: （ | K32: ） | L32: 2 | O32: ～ | S32: ～ | U32: （ | W32: ） | X32: - | Z32: 2
B33: 28 | C33: aa | D33: =C33 -> aa | E33: ： | G33: ～ | I33: （ | K33: ） | L33: 3 | O33: ～ | S33: ～ | U33: （ | W33: ） | X33: - | Z33: 3
B34: 29 | C34: ab | D34: =C34 -> ab | E34: ： | G34: ～ | I34: （ | K34: ） | L34: 4 | O34: ～ | S34: ～ | U34: （ | W34: ） | X34: - | Z34: 4
B35: 30 | C35: ac | D35: =C35 -> ac | E35: ： | G35: ～ | I35: （ | K35: ） | L35: 5 | O35: ～ | S35: ～ | U35: （ | W35: ） | X35: - | Z35: 5
B36: 31 | C36: ad | D36: =C36 -> ad | E36: ： | G36: ～ | I36: （ | K36: ） | L36: 6 | O36: ～ | S36: ～ | U36: （ | W36: ） | X36: - | Z36: 6
B37: 32 | C37: ae | D37: =C37 -> ae | E37: ： | G37: ～ | I37: （ | K37: ） | L37: 7 | O37: ～ | S37: ～ | U37: （ | W37: ） | X37: - | Z37: 7
B38: 33 | C38: af | D38: =C38 -> af | E38: ： | G38: ～ | I38: （ | K38: ） | L38: 8 | O38: ～ | S38: ～ | U38: （ | W38: ） | X38: - | Z38: 8
B39: 34 | C39: ag | E39: ： | F39: 0.29166667 | G39: ～ | H39: 0.39583333 | I39: （ | J39: 0 | K39: ） | L39: =IF(OR(F39="",H39=""),"",(H39+IF(F39>H39,1,0)-F39-J39)*24) -> 2.5 | N39: =【記載例】小多機!$BB$13 -> 0.29166667 | O39: ～ | P39: =【記載例】小多機!$BF$13 -> 0.83333333 | R39: =IF(F39="","",IF(F39<N39,N39,IF(F39>=P39,"",F39))) -> 0.29166667 | S39: ～ | T39: =IF(H39="","",IF(H39>F39,IF(H39<P39,H39,P39),P39)) -> 0.39583333 | U39: （ | V39: 0 | W39: ） | X39: =IF(R39="","",IF((T39+IF(R39>T39,1,0)-R39-V39)*24=0,"",(T39+IF(R39>T39,1,0)-R39-V39)*24)) -> 2.5 | Z39: =IF(X39="",L39,IF(OR(L39-X39=0,L39-X39<0),"-",L39-X39)) -> -
C40: - | E40: ： | F40: 0.6875 | G40: ～ | H40: 0.83333333 | I40: （ | J40: 0 | K40: ） | L40: =IF(OR(F40="",H40=""),"",(H40+IF(F40>H40,1,0)-F40-J40)*24) -> 3.5 | N40: =【記載例】小多機!$BB$13 -> 0.29166667 | O40: ～ | P40: =【記載例】小多機!$BF$13 -> 0.83333333 | R40: =IF(F40="","",IF(F40<N40,N40,IF(F40>=P40,"",F40))) -> 0.6875 | S40: ～ | T40: =IF(H40="","",IF(H40>F40,IF(H40<P40,H40,P40),P40)) -> 0.83333333 | U40: （ | V40: 0 | W40: ） | X40: =IF(R40="","",IF((T40+IF(R40>T40,1,0)-R40-V40)*24=0,"",(T40+IF(R40>T40,1,0)-R40-V40)*24)) -> 3.5 | Z40: =IF(X40="",L40,IF(OR(L40-X40=0,L40-X40<0),"-",L40-X40)) -> -
...

Sheet 小多機(50人)
C1: （標準様式1） | K1: 従業者の勤務の体制及び勤務形態一覧表 | AQ1: サービス種別（ | AR1: 小規模多機能型居宅介護 | BH1: ）
Z2: 令和 | AA2: 6 | AC2: ( | AD2: =IF(AA2=0,"",YEAR(DATE(2018+AA2,1,1))) -> 2024 | AF2: ) | AG2: 年 | AH2: 4 | AJ2: 月 | AQ2: 事業所名（ | AR2: ○○サービス | BH2: ）
BB3: (1) | BC3: ４週
BB4: (2) | BC4: 予定
AM6: (3) 事業所における常勤の従業者が勤務すべき時間数 | AY6: 40 | BA6: 時間/週 | BC6: 160 | BE6: 時間/月
AZ8: 当月の日数 | BC8: =DAY(EOMONTH(DATE(AD2,AH2,1),0)) -> 30 | BE8: 日
AN10: (4) 利用者数（通いサービス） | BA10: （前年度の平均値または推定数） | BE10: 人
AS12: (5) 日中／夜間及び深夜の時間帯の区分
AS13: 利用者の生活時間帯（日中） | BB13: 0.29166667 | BE13: ～ | BF13: 0.83333333
AS14: 夜間及び深夜の時間帯 | BB14: 0.83333333 | BE14: ～ | BF14: 0.29166667
B16: No | C16: (6) 職種 | H16: (7) 勤務 形態 | I16: (8) 資格 | M16: (9) 氏 名 | P16: 日中／夜間及び深夜 の区分 | AI16: (10) | AN16: （宿直 ･･･ | AR16: ） | AZ16: =IF(BC3="計画","(11)1～4週目の勤務時間数合計","(11)1か月の勤務時間数 合計") -> (11)1か月の勤務時間数 合計 | BB16: (12) 週平均 勤務時間数 | BD16: (13) 兼務状況 （兼務先/兼務する職務の内容）等
U17: 1週目 | AB17: 2週目 | AI17: 3週目 | AP17: 4週目 | AW17: 5週目
U18: 1 | V18: 2 | W18: 3 | X18: 4 | Y18: 5 | Z18: 6 | AA18: 7 | AB18: 8 | AC18: 9 | AD18: 10 | AE18: 11 | AF18: 12 | AG18: 13 | AH18: 14 | AI18: 15 | AJ18: 16 | AK18: 17 | AL18: 18 | AM18: 19 | AN18: 20 | AO18: 21 | AP18: 22 | AQ18: 23 | AR18: 24 | AS18: 25 | AT18: 26 | AU18: 27 | AV18: 28 | AW18: =IF($BC$3="暦月",IF(DAY(DATE($AD$2,$AH$2,29))=29,29,""),"") | AX18: =IF($BC$3="暦月",IF(DAY(DATE($AD$2,$AH$2,30))=30,30,""),"") | AY18: =IF($BC$3="暦月",IF(DAY(DATE($AD$2,$AH$2,31))=31,31,""),"")
U19: =WEEKDAY(DATE($AD$2,$AH$2,1)) -> 2 | V19: =WEEKDAY(DATE($AD$2,$AH$2,2)) -> 3 | W19: =WEEKDAY(DATE($AD$2,$AH$2,3)) -> 4 | X19: =WEEKDAY(DATE($AD$2,$AH$2,4)) -> 5 | Y19: =WEEKDAY(DATE($AD$2,$AH$2,5)) -> 6 | Z19: =WEEKDAY(DATE($AD$2,$AH$2,6)) -> 7 | AA19: =WEEKDAY(DATE($AD$2,$AH$2,7)) -> 1 | AB19: =WEEKDAY(DATE($AD$2,$AH$2,8)) -> 2 | AC19: =WEEKDAY(DATE($AD$2,$AH$2,9)) -> 3 | AD19: =WEEKDAY(DATE($AD$2,$AH$2,10)) -> 4 | AE19: =WEEKDAY(DATE($AD$2,$AH$2,11)) -> 5 | AF19: =WEEKDAY(DATE($AD$2,$AH$2,12)) -> 6 | AG19: =WEEKDAY(DATE($AD$2,$AH$2,13)) -> 7 | AH19: =WEEKDAY(DATE($AD$2,$AH$2,14)) -> 1 | AI19: =WEEKDAY(DATE($AD$2,$AH$2,15)) -> 2 | AJ19: =WEEKDAY(DATE($AD$2,$AH$2,16)) -> 3 | AK19: =WEEKDAY(DATE($AD$2,$AH$2,17)) -> 4 | AL19: =WEEKDAY(DATE($AD$2,$AH$2,18)) -> 5 | AM19: =WEEKDAY(DATE($AD$2,$AH$2,19)) -> 6 | AN19: =WEEKDAY(DATE($AD$2,$AH$2,20)) -> 7 | AO19: =WEEKDAY(DATE($AD$2,$AH$2,21)) -> 1 | AP19: =WEEKDAY(DATE($AD$2,$AH$2,22)) -> 2 | AQ19: =WEEKDAY(DATE($AD$2,$AH$2,23)) -> 3 | AR19: =WEEKDAY(DATE($AD$2,$AH$2,24)) -> 4 | AS19: =WEEKDAY(DATE($AD$2,$AH$2,25)) -> 5 | AT19: =WEEKDAY(DATE($AD$2,$AH$2,26)) -> 6 | AU19: =WEEKDAY(DATE($AD$2,$AH$2,27)) -> 7 | AV19: =WEEKDAY(DATE($AD$2,$AH$2,28)) -> 1 | AW19: =IF(AW18=29,WEEKDAY(DATE($AD$2,$AH$2,29)),0) -> 0 | AX19: =IF(AX18=30,WEEKDAY(DATE($AD$2,$AH$2,30)),0) -> 0 | AY19: =IF(AY18=31,WEEKDAY(DATE($AD$2,$AH$2,31)),0) -> 0
U20: =IF(U19=1,"日",IF(U19=2,"月",IF(U19=3,"火",IF(U19=4,"水",IF(U19=5,"木",IF(U19=6,"金","土")))))) -> 月 | V20: =IF(V19=1,"日",IF(V19=2,"月",IF(V19=3,"火",IF(V19=4,"水",IF(V19=5,"木",IF(V19=6,"金","土")))))) -> 火 | W20: =IF(W19=1,"日",IF(W19=2,"月",IF(W19=3,"火",IF(W19=4,"水",IF(W19=5,"木",IF(W19=6,"金","土")))))) -> 水 | X20: =IF(X19=1,"日",IF(X19=2,"月",IF(X19=3,"火",IF(X19=4,"水",IF(X19=5,"木",IF(X19=6,"金","土")))))) -> 木 | Y20: =IF(Y19=1,"日",IF(Y19=2,"月",IF(Y19=3,"火",IF(Y19=4,"水",IF(Y19=5,"木",IF(Y19=6,"金","土")))))) -> 金 | Z20: =IF(Z19=1,"日",IF(Z19=2,"月",IF(Z19=3,"火",IF(Z19=4,"水",IF(Z19=5,"木",IF(Z19=6,"金","土")))))) -> 土 | AA20: =IF(AA19=1,"日",IF(AA19=2,"月",IF(AA19=3,"火",IF(AA19=4,"水",IF(AA19=5,"木",IF(AA19=6,"金","土")))))) -> 日 | AB20: =IF(AB19=1,"日",IF(AB19=2,"月",IF(AB19=3,"火",IF(AB19=4,"水",IF(AB19=5,"木",IF(AB19=6,"金","土")))))) -> 月 | ... AV20: =IF(AV19=1,"日",IF(AV19=2,"月",IF(AV19=3,"火",IF(AV19=4,"水",IF(AV19=5,"木",IF(AV19=6,"金","土")))))) -> 日 | AW20: =IF(AW19=1,"日",IF(AW19=2,"月",IF(AW19=3,"火",IF(AW19=4,"水",IF(AW19=5,"木",IF(AW19=6,"金",IF(AW19=0,"","土"))))))) | AX20: =IF(AX19=1,"日",IF(AX19=2,"月",IF(AX19=3,"火",IF(AX19=4,"水",IF(AX19=5,"木",IF(AX19=6,"金",IF(AX19=0,"","土"))))))) | AY20: =IF(AY19=1,"日",IF(AY19=2,"月",IF(AY19=3,"火",IF(AY19=4,"水",IF(AY19=5,"木",IF(AY19=6,"金",IF(AY19=0,"","土")))))))
P21: シフト記号
B22: 1 | F22: =C21 -> 0 | P22: 日中の勤務時間数 | U22: =IF(U21="","",VLOOKUP(U21,'シフト記号表（勤務時間帯）'!$D$6:$X$47,21,FALSE)) | V22: =IF(V21="","",VLOOKUP(V21,'シフト記号表（勤務時間帯）'!$D$6:$X$47,21,FALSE)) | W22: =IF(W21="","",VLOOKUP(W21,'シフト記号表（勤務時間帯）'!$D$6:$X$47,21,FALSE)) | X22: =IF(X21="","",VLOOKUP(X21,'シフト記号表（勤務時間帯）'!$D$6:$X$47,21,FALSE)) | Y22: =IF(Y21="","",VLOOKUP(Y21,'シフト記号表（勤務時間帯）'!$D$6:$X$47,21,FALSE)) | Z22: =IF(Z21="","",VLOOKUP(Z21,'シフト記号表（勤務時間帯）'!$D$6:$X$47,21,FALSE)) | AA22: =IF(AA21="","",VLOOKUP(AA21,'シフト記号表（勤務時間帯）'!$D$6:$X$47,21,FALSE)) | AB22: =IF(AB21="","",VLOOKUP(AB21,'シフト記号表（勤務時間帯）'!$D$6:$X$47,21,FALSE)) | ... AY22: =IF(AY21="","",VLOOKUP(AY21,'シフト記号表（勤務時間帯）'!$D$6:$X$47,21,FALSE)) | AZ22: =IF($BC$3="４週",SUM(U22:AV22),IF($BC$3="暦月",SUM(U22:AY22),"")) -> 0 | BB22: =IF($BC$3="４週",AZ22/4,IF($BC$3="暦月",(AZ22/($BC$8/7)),"")) -> 0
G23: =C21 -> 0 | P23: 夜間・深夜の勤務時間数 | U23: =IF(U21="","",VLOOKUP(U21,'シフト記号表（勤務時間帯）'!$D$6:$Z$47,23,FALSE)) | V23: =IF(V21="","",VLOOKUP(V21,'シフト記号表（勤務時間帯）'!$D$6:$Z$47,23,FALSE)) | W23: =IF(W21="","",VLOOKUP(W21,'シフト記号表（勤務時間帯）'!$D$6:$Z$47,23,FALSE)) | X23: =IF(X21="","",VLOOKUP(X21,'シフト記号表（勤務時間帯）'!$D$6:$Z$47,23,FALSE)) | Y23: =IF(Y21="","",VLOOKUP(Y21,'シフト記号表（勤務時間帯）'!$D$6:$Z$47,23,FALSE)) | Z23: =IF(Z21="","",VLOOKUP(Z21,'シフト記号表（勤務時間帯）'!$D$6:$Z$47,23,FALSE)) | AA23: =IF(AA21="","",VLOOKUP(AA21,'シフト記号表（勤務時間帯）'!$D$6:$Z$47,23,FALSE)) | AB23: =IF(AB21="","",VLOOKUP(AB21,'シフト記号表（勤務時間帯）'!$D$6:$Z$47,23,FALSE)) | ... AY23: =IF(AY21="","",VLOOKUP(AY21,'シフト記号表（勤務時間帯）'!$D$6:$Z$47,23,FALSE)) | AZ23: =IF($BC$3="４週",SUM(U23:AV23),IF($BC$3="暦月",SUM(U23:AY23),"")) -> 0 | BB23: =IF($BC$3="４週",AZ23/4,IF($BC$3="暦月",(AZ23/($BC$8/7)),"")) -> 0
P24: シフト記号
B25: =B22+1 -> 2 | F25: =C24 -> 0 | P25: 日中の勤務時間数 | U25: =IF(U24="","",VLOOKUP(U24,'シフト記号表（勤務時間帯）'!$D$6:$X$47,21,FALSE)) | V25: =IF(V24="","",VLOOKUP(V24,'シフト記号表（勤務時間帯）'!$D$6:$X$47,21,FALSE)) | W25: =IF(W24="","",VLOOKUP(W24,'シフト記号表（勤務時間帯）'!$D$6:$X$47,21,FALSE)) | X25: =IF(X24="","",VLOOKUP(X24,'シフト記号表（勤務時間帯）'!$D$6:$X$47,21,FALSE)) | Y25: =IF(Y24="","",VLOOKUP(Y24,'シフト記号表（勤務時間帯）'!$D$6:$X$47,21,FALSE)) | Z25: =IF(Z24="","",VLOOKUP(Z24,'シフト記号表（勤務時間帯）'!$D$6:$X$47,21,FALSE)) | AA25: =IF(AA24="","",VLOOKUP(AA24,'シフト記号表（勤務時間帯）'!$D$6:$X$47,21,FALSE)) | AB25: =IF(AB24="","",VLOOKUP(AB24,'シフト記号表（勤務時間帯）'!$D$6:$X$47,21,FALSE)) | ... AY25: =IF(AY24="","",VLOOKUP(AY24,'シフト記号表（勤務時間帯）'!$D$6:$X$47,21,FALSE)) | AZ25: =IF($BC$3="４週",SUM(U25:AV25),IF($BC$3="暦月",SUM(U25:AY25),"")) -> 0 | BB25: =IF($BC$3="４週",AZ25/4,IF($BC$3="暦月",(AZ25/($BC$8/7)),"")) -> 0
G26: =C24 -> 0 | P26: 夜間・深夜の勤務時間数 | U26: =IF(U24="","",VLOOKUP(U24,'シフト記号表（勤務時間帯）'!$D$6:$Z$47,23,FALSE)) | V26: =IF(V24="","",VLOOKUP(V24,'シフト記号表（勤務時間帯）'!$D$6:$Z$47,23,FALSE)) | W26: =IF(W24="","",VLOOKUP(W24,'シフト記号表（勤務時間帯）'!$D$6:$Z$47,23,FALSE)) | X26: =IF(X24="","",VLOOKUP(X24,'シフト記号表（勤務時間帯）'!$D$6:$Z$47,23,FALSE)) | Y26: =IF(Y24="","",VLOOKUP(Y24,'シフト記号表（勤務時間帯）'!$D$6:$Z$47,23,FALSE)) | Z26: =IF(Z24="","",VLOOKUP(Z24,'シフト記号表（勤務時間帯）'!$D$6:$Z$47,23,FALSE)) | AA26: =IF(AA24="","",VLOOKUP(AA24,'シフト記号表（勤務時間帯）'!$D$6:$Z$47,23,FALSE)) | AB26: =IF(AB24="","",VLOOKUP(AB24,'シフト記号表（勤務時間帯）'!$D$6:$Z$47,23,FALSE)) | ... AY26: =IF(AY24="","",VLOOKUP(AY24,'シフト記号表（勤務時間帯）'!$D$6:$Z$47,23,FALSE)) | AZ26: =IF($BC$3="４週",SUM(U26:AV26),IF($BC$3="暦月",SUM(U26:AY26),"")) -> 0 | BB26: =IF($BC$3="４週",AZ26/4,IF($BC$3="暦月",(AZ26/($BC$8/7)),"")) -> 0
P27: シフト記号
B28: =B25+1 -> 3 | F28: =C27 -> 0 | P28: 日中の勤務時間数 | U28: =IF(U27="","",VLOOKUP(U27,'シフト記号表（勤務時間帯）'!$D$6:$X$47,21,FALSE)) | V28: =IF(V27="","",VLOOKUP(V27,'シフト記号表（勤務時間帯）'!$D$6:$X$47,21,FALSE)) | W28: =IF(W27="","",VLOOKUP(W27,'シフト記号表（勤務時間帯）'!$D$6:$X$47,21,FALSE)) | X28: =IF(X27="","",VLOOKUP(X27,'シフト記号表（勤務時間帯）'!$D$6:$X$47,21,FALSE)) | Y28: =IF(Y27="","",VLOOKUP(Y27,'シフト記号表（勤務時間帯）'!$D$6:$X$47,21,FALSE)) | Z28: =IF(Z27="","",VLOOKUP(Z27,'シフト記号表（勤務時間帯）'!$D$6:$X$47,21,FALSE)) | AA28: =IF(AA27="","",VLOOKUP(AA27,'シフト記号表（勤務時間帯）'!$D$6:$X$47,21,FALSE)) | AB28: =IF(AB27="","",VLOOKUP(AB27,'シフト記号表（勤務時間帯）'!$D$6:$X$47,21,FALSE)) | ... AY28: =IF(AY27="","",VLOOKUP(AY27,'シフト記号表（勤務時間帯）'!$D$6:$X$47,21,FALSE)) | AZ28: =IF($BC$3="４週",SUM(U28:AV28),IF($BC$3="暦月",SUM(U28:AY28),"")) -> 0 | BB28: =IF($BC$3="４週",AZ28/4,IF($BC$3="暦月",(AZ28/($BC$8/7)),"")) -> 0
G29: =C27 -> 0 | P29: 夜間・深夜の勤務時間数 | U29: =IF(U27="","",VLOOKUP(U27,'シフト記号表（勤務時間帯）'!$D$6:$Z$47,23,FALSE)) | V29: =IF(V27="","",VLOOKUP(V27,'シフト記号表（勤務時間帯）'!$D$6:$Z$47,23,FALSE)) | W29: =IF(W27="","",VLOOKUP(W27,'シフト記号表（勤務時間帯）'!$D$6:$Z$47,23,FALSE)) | X29: =IF(X27="","",VLOOKUP(X27,'シフト記号表（勤務時間帯）'!$D$6:$Z$47,23,FALSE)) | Y29: =IF(Y27="","",VLOOKUP(Y27,'シフト記号表（勤務時間帯）'!$D$6:$Z$47,23,FALSE)) | Z29: =IF(Z27="","",VLOOKUP(Z27,'シフト記号表（勤務時間帯）'!$D$6:$Z$47,23,FALSE)) | AA29: =IF(AA27="","",VLOOKUP(AA27,'シフト記号表（勤務時間帯）'!$D$6:$Z$47,23,FALSE)) | AB29: =IF(AB27="","",VLOOKUP(AB27,'シフト記号表（勤務時間帯）'!$D$6:$Z$47,23,FALSE)) | ... AY29: =IF(AY27="","",VLOOKUP(AY27,'シフト記号表（勤務時間帯）'!$D$6:$Z$47,23,FALSE)) | AZ29: =IF($BC$3="４週",SUM(U29:AV29),IF($BC$3="暦月",SUM(U29:AY29),"")) -> 0 | BB29: =IF($BC$3="４週",AZ29/4,IF($BC$3="暦月",(AZ29/($BC$8/7)),"")) -> 0
P30: シフト記号
B31: =B28+1 -> 4 | F31: =C30 -> 0 | P31: 日中の勤務時間数 | U31: =IF(U30="","",VLOOKUP(U30,'シフト記号表（勤務時間帯）'!$D$6:$X$47,21,FALSE)) | V31: =IF(V30="","",VLOOKUP(V30,'シフト記号表（勤務時間帯）'!$D$6:$X$47,21,FALSE)) | W31: =IF(W30="","",VLOOKUP(W30,'シフト記号表（勤務時間帯）'!$D$6:$X$47,21,FALSE)) | X31: =IF(X30="","",VLOOKUP(X30,'シフト記号表（勤務時間帯）'!$D$6:$X$47,21,FALSE)) | Y31: =IF(Y30="","",VLOOKUP(Y30,'シフト記号表（勤務時間帯）'!$D$6:$X$47,21,FALSE)) | Z31: =IF(Z30="","",VLOOKUP(Z30,'シフト記号表（勤務時間帯）'!$D$6:$X$47,21,FALSE)) | AA31: =IF(AA30="","",VLOOKUP(AA30,'シフト記号表（勤務時間帯）'!$D$6:$X$47,21,FALSE)) | AB31: =IF(AB30="","",VLOOKUP(AB30,'シフト記号表（勤務時間帯）'!$D$6:$X$47,21,FALSE)) | ... AY31: =IF(AY30="","",VLOOKUP(AY30,'シフト記号表（勤務時間帯）'!$D$6:$X$47,21,FALSE)) | AZ31: =IF($BC$3="４週",SUM(U31:AV31),IF($BC$3="暦月",SUM(U31:AY31),"")) -> 0 | BB31: =IF($BC$3="４週",AZ31/4,IF($BC$3="暦月",(AZ31/($BC$8/7)),"")) -> 0
G32: =C30 -> 0 | P32: 夜間・深夜の勤務時間数 | U32: =IF(U30="","",VLOOKUP(U30,'シフト記号表（勤務時間帯）'!$D$6:$Z$47,23,FALSE)) | V32: =IF(V30="","",VLOOKUP(V30,'シフト記号表（勤務時間帯）'!$D$6:$Z$47,23,FALSE)) | W32: =IF(W30="","",VLOOKUP(W30,'シフト記号表（勤務時間帯）'!$D$6:$Z$47,23,FALSE)) | X32: =IF(X30="","",VLOOKUP(X30,'シフト記号表（勤務時間帯）'!$D$6:$Z$47,23,FALSE)) | Y32: =IF(Y30="","",VLOOKUP(Y30,'シフト記号表（勤務時間帯）'!$D$6:$Z$47,23,FALSE)) | Z32: =IF(Z30="","",VLOOKUP(Z30,'シフト記号表（勤務時間帯）'!$D$6:$Z$47,23,FALSE)) | AA32: =IF(AA30="","",VLOOKUP(AA30,'シフト記号表（勤務時間帯）'!$D$6:$Z$47,23,FALSE)) | AB32: =IF(AB30="","",VLOOKUP(AB30,'シフト記号表（勤務時間帯）'!$D$6:$Z$47,23,FALSE)) | ... AY32: =IF(AY30="","",VLOOKUP(AY30,'シフト記号表（勤務時間帯）'!$D$6:$Z$47,23,FALSE)) | AZ32: =IF($BC$3="４週",SUM(U32:AV32),IF($BC$3="暦月",SUM(U32:AY32),"")) -> 0 | BB32: =IF($BC$3="４週",AZ32/4,IF($BC$3="暦月",(AZ32/($BC$8/7)),"")) -> 0
P33: シフト記号
B34: =B31+1 -> 5 | F34: =C33 -> 0 | P34: 日中の勤務時間数 | U34: =IF(U33="","",VLOOKUP(U33,'シフト記号表（勤務時間帯）'!$D$6:$X$47,21,FALSE)) | V34: =IF(V33="","",VLOOKUP(V33,'シフト記号表（勤務時間帯）'!$D$6:$X$47,21,FALSE)) | W34: =IF(W33="","",VLOOKUP(W33,'シフト記号表（勤務時間帯）'!$D$6:$X$47,21,FALSE)) | X34: =IF(X33="","",VLOOKUP(X33,'シフト記号表（勤務時間帯）'!$D$6:$X$47,21,FALSE)) | Y34: =IF(Y33="","",VLOOKUP(Y33,'シフト記号表（勤務時間帯）'!$D$6:$X$47,21,FALSE)) | Z34: =IF(Z33="","",VLOOKUP(Z33,'シフト記号表（勤務時間帯）'!$D$6:$X$47,21,FALSE)) | AA34: =IF(AA33="","",VLOOKUP(AA33,'シフト記号表（勤務時間帯）'!$D$6:$X$47,21,FALSE)) | AB34: =IF(AB33="","",VLOOKUP(AB33,'シフト記号表（勤務時間帯）'!$D$6:$X$47,21,FALSE)) | ... AY34: =IF(AY33="","",VLOOKUP(AY33,'シフト記号表（勤務時間帯）'!$D$6:$X$47,21,FALSE)) | AZ34: =IF($BC$3="４週",SUM(U34:AV34),IF($BC$3="暦月",SUM(U34:AY34),"")) -> 0 | BB34: =IF($BC$3="４週",AZ34/4,IF($BC$3="暦月",(AZ34/($BC$8/7)),"")) -> 0
G35: =C33 -> 0 | P35: 夜間・深夜の勤務時間数 | U35: =IF(U33="","",VLOOKUP(U33,'シフト記号表（勤務時間帯）'!$D$6:$Z$47,23,FALSE)) | V35: =IF(V33="","",VLOOKUP(V33,'シフト記号表（勤務時間帯）'!$D$6:$Z$47,23,FALSE)) | W35: =IF(W33="","",VLOOKUP(W33,'シフト記号表（勤務時間帯）'!$D$6:$Z$47,23,FALSE)) | X35: =IF(X33="","",VLOOKUP(X33,'シフト記号表（勤務時間帯）'!$D$6:$Z$47,23,FALSE)) | Y35: =IF(Y33="","",VLOOKUP(Y33,'シフト記号表（勤務時間帯）'!$D$6:$Z$47,23,FALSE)) | Z35: =IF(Z33="","",VLOOKUP(Z33,'シフト記号表（勤務時間帯）'!$D$6:$Z$47,23,FALSE)) | AA35: =IF(AA33="","",VLOOKUP(AA33,'シフト記号表（勤務時間帯）'!$D$6:$Z$47,23,FALSE)) | AB35: =IF(AB33="","",VLOOKUP(AB33,'シフト記号表（勤務時間帯）'!$D$6:$Z$47,23,FALSE)) | ... AY35: =IF(AY33="","",VLOOKUP(AY33,'シフト記号表（勤務時間帯）'!$D$6:$Z$47,23,FALSE)) | AZ35: =IF($BC$3="４週",SUM(U35:AV35),IF($BC$3="暦月",SUM(U35:AY35),"")) -> 0 | BB35: =IF($BC$3="４週",AZ35/4,IF($BC$3="暦月",(AZ35/($BC$8/7)),"")) -> 0
P36: シフト記号
B37: =B34+1 -> 6 | F37: =C36 -> 0 | P37: 日中の勤務時間数 | U37: =IF(U36="","",VLOOKUP(U36,'シフト記号表（勤務時間帯）'!$D$6:$X$47,21,FALSE)) | V37: =IF(V36="","",VLOOKUP(V36,'シフト記号表（勤務時間帯）'!$D$6:$X$47,21,FALSE)) | W37: =IF(W36="","",VLOOKUP(W36,'シフト記号表（勤務時間帯）'!$D$6:$X$47,21,FALSE)) | X37: =IF(X36="","",VLOOKUP(X36,'シフト記号表（勤務時間帯）'!$D$6:$X$47,21,FALSE)) | Y37: =IF(Y36="","",VLOOKUP(Y36,'シフト記号表（勤務時間帯）'!$D$6:$X$47,21,FALSE)) | Z37: =IF(Z36="","",VLOOKUP(Z36,'シフト記号表（勤務時間帯）'!$D$6:$X$47,21,FALSE)) | AA37: =IF(AA36="","",VLOOKUP(AA36,'シフト記号表（勤務時間帯）'!$D$6:$X$47,21,FALSE)) | AB37: =IF(AB36="","",VLOOKUP(AB36,'シフト記号表（勤務時間帯）'!$D$6:$X$47,21,FALSE)) | ... AY37: =IF(AY36="","",VLOOKUP(AY36,'シフト記号表（勤務時間帯）'!$D$6:$X$47,21,FALSE)) | AZ37: =IF($BC$3="４週",SUM(U37:AV37),IF($BC$3="暦月",SUM(U37:AY37),"")) -> 0 | BB37: =IF($BC$3="４週",AZ37/4,IF($BC$3="暦月",(AZ37/($BC$8/7)),"")) -> 0
G38: =C36 -> 0 | P38: 夜間・深夜の勤務時間数 | U38: =IF(U36="","",VLOOKUP(U36,'シフト記号表（勤務時間帯）'!$D$6:$Z$47,23,FALSE)) | V38: =IF(V36="","",VLOOKUP(V36,'シフト記号表（勤務時間帯）'!$D$6:$Z$47,23,FALSE)) | W38: =IF(W36="","",VLOOKUP(W36,'シフト記号表（勤務時間帯）'!$D$6:$Z$47,23,FALSE)) | X38: =IF(X36="","",VLOOKUP(X36,'シフト記号表（勤務時間帯）'!$D$6:$Z$47,23,FALSE)) | Y38: =IF(Y36="","",VLOOKUP(Y36,'シフト記号表（勤務時間帯）'!$D$6:$Z$47,23,FALSE)) | Z38: =IF(Z36="","",VLOOKUP(Z36,'シフト記号表（勤務時間帯）'!$D$6:$Z$47,23,FALSE)) | AA38: =IF(AA36="","",VLOOKUP(AA36,'シフト記号表（勤務時間帯）'!$D$6:$Z$47,23,FALSE)) | AB38: =IF(AB36="","",VLOOKUP(AB36,'シフト記号表（勤務時間帯）'!$D$6:$Z$47,23,FALSE)) | ... AY38: =IF(AY36="","",VLOOKUP(AY36,'シフト記号表（勤務時間帯）'!$D$6:$Z$47,23,FALSE)) | AZ38: =IF($BC$3="４週",SUM(U38:AV38),IF($BC$3="暦月",SUM(U38:AY38),"")) -> 0 | BB38: =IF($BC$3="４週",AZ38/4,IF($BC$3="暦月",(AZ38/($BC$8/7)),"")) -> 0
P39: シフト記号
B40: =B37+1 -> 7 | F40: =C39 -> 0 | P40: 日中の勤務時間数 | U40: =IF(U39="","",VLOOKUP(U39,'シフト記号表（勤務時間帯）'!$D$6:$X$47,21,FALSE)) | V40: =IF(V39="","",VLOOKUP(V39,'シフト記号表（勤務時間帯）'!$D$6:$X$47,21,FALSE)) | W40: =IF(W39="","",VLOOKUP(W39,'シフト記号表（勤務時間帯）'!$D$6:$X$47,21,FALSE)) | X40: =IF(X39="","",VLOOKUP(X39,'シフト記号表（勤務時間帯）'!$D$6:$X$47,21,FALSE)) | Y40: =IF(Y39="","",VLOOKUP(Y39,'シフト記号表（勤務時間帯）'!$D$6:$X$47,21,FALSE)) | Z40: =IF(Z39="","",VLOOKUP(Z39,'シフト記号表（勤務時間帯）'!$D$6:$X$47,21,FALSE)) | AA40: =IF(AA39="","",VLOOKUP(AA39,'シフト記号表（勤務時間帯）'!$D$6:$X$47,21,FALSE)) | AB40: =IF(AB39="","",VLOOKUP(AB39,'シフト記号表（勤務時間帯）'!$D$6:$X$47,21,FALSE)) | ... AY40: =IF(AY39="","",VLOOKUP(AY39,'シフト記号表（勤務時間帯）'!$D$6:$X$47,21,FALSE)) | AZ40: =IF($BC$3="４週",SUM(U40:AV40),IF($BC$3="暦月",SUM(U40:AY40),"")) -> 0 | BB40: =IF($BC$3="４週",AZ40/4,IF($BC$3="暦月",(AZ40/($BC$8/7)),"")) -> 0
G41: =C39 -> 0 | P41: 夜間・深夜の勤務時間数 | U41: =IF(U39="","",VLOOKUP(U39,'シフト記号表（勤務時間帯）'!$D$6:$Z$47,23,FALSE)) | V41: =IF(V39="","",VLOOKUP(V39,'シフト記号表（勤務時間帯）'!$D$6:$Z$47,23,FALSE)) | W41: =IF(W39="","",VLOOKUP(W39,'シフト記号表（勤務時間帯）'!$D$6:$Z$47,23,FALSE)) | X41: =IF(X39="","",VLOOKUP(X39,'シフト記号表（勤務時間帯）'!$D$6:$Z$47,23,FALSE)) | Y41: =IF(Y39="","",VLOOKUP(Y39,'シフト記号表（勤務時間帯）'!$D$6:$Z$47,23,FALSE)) | Z41: =IF(Z39="","",VLOOKUP(Z39,'シフト記号表（勤務時間帯）'!$D$6:$Z$47,23,FALSE)) | AA41: =IF(AA39="","",VLOOKUP(AA39,'シフト記号表（勤務時間帯）'!$D$6:$Z$47,23,FALSE)) | AB41: =IF(AB39="","",VLOOKUP(AB39,'シフト記号表（勤務時間帯）'!$D$6:$Z$47,23,FALSE)) | ... AY41: =IF(AY39="","",VLOOKUP(AY39,'シフト記号表（勤務時間帯）'!$D$6:$Z$47,23,FALSE)) | AZ41: =IF($BC$3="４週",SUM(U41:AV41),IF($BC$3="暦月",SUM(U41:AY41),"")) -> 0 | BB41: =IF($BC$3="４週",AZ41/4,IF($BC$3="暦月",(AZ41/($BC$8/7)),"")) -> 0
P42: シフト記号
B43: =B40+1 -> 8 | F43: =C42 -> 0 | P43: 日中の勤務時間数 | U43: =IF(U42="","",VLOOKUP(U42,'シフト記号表（勤務時間帯）'!$D$6:$X$47,21,FALSE)) | V43: =IF(V42="","",VLOOKUP(V42,'シフト記号表（勤務時間帯）'!$D$6:$X$47,21,FALSE)) | W43: =IF(W42="","",VLOOKUP(W42,'シフト記号表（勤務時間帯）'!$D$6:$X$47,21,FALSE)) | X43: =IF(X42="","",VLOOKUP(X42,'シフト記号表（勤務時間帯）'!$D$6:$X$47,21,FALSE)) | Y43: =IF(Y42="","",VLOOKUP(Y42,'シフト記号表（勤務時間帯）'!$D$6:$X$47,21,FALSE)) | Z43: =IF(Z42="","",VLOOKUP(Z42,'シフト記号表（勤務時間帯）'!$D$6:$X$47,21,FALSE)) | AA43: =IF(AA42="","",VLOOKUP(AA42,'シフト記号表（勤務時間帯）'!$D$6:$X$47,21,FALSE)) | AB43: =IF(AB42="","",VLOOKUP(AB42,'シフト記号表（勤務時間帯）'!$D$6:$X$47,21,FALSE)) | ... AY43: =IF(AY42="","",VLOOKUP(AY42,'シフト記号表（勤務時間帯）'!$D$6:$X$47,21,FALSE)) | AZ43: =IF($BC$3="４週",SUM(U43:AV43),IF($BC$3="暦月",SUM(U43:AY43),"")) -> 0 | BB43: =IF($BC$3="４週",AZ43/4,IF($BC$3="暦月",(AZ43/($BC$8/7)),"")) -> 0
G44: =C42 -> 0 | P44: 夜間・深夜の勤務時間数 | U44: =IF(U42="","",VLOOKUP(U42,'シフト記号表（勤務時間帯）'!$D$6:$Z$47,23,FALSE)) | V44: =IF(V42="","",VLOOKUP(V42,'シフト記号表（勤務時間帯）'!$D$6:$Z$47,23,FALSE)) | W44: =IF(W42="","",VLOOKUP(W42,'シフト記号表（勤務時間帯）'!$D$6:$Z$47,23,FALSE)) | X44: =IF(X42="","",VLOOKUP(X42,'シフト記号表（勤務時間帯）'!$D$6:$Z$47,23,FALSE)) | Y44: =IF(Y42="","",VLOOKUP(Y42,'シフト記号表（勤務時間帯）'!$D$6:$Z$47,23,FALSE)) | Z44: =IF(Z42="","",VLOOKUP(Z42,'シフト記号表（勤務時間帯）'!$D$6:$Z$47,23,FALSE)) | AA44: =IF(AA42="","",VLOOKUP(AA42,'シフト記号表（勤務時間帯）'!$D$6:$Z$47,23,FALSE)) | AB44: =IF(AB42="","",VLOOKUP(AB42,'シフト記号表（勤務時間帯）'!$D$6:$Z$47,23,FALSE)) | ... AY44: =IF(AY42="","",VLOOKUP(AY42,'シフト記号表（勤務時間帯）'!$D$6:$Z$47,23,FALSE)) | AZ44: =IF($BC$3="４週",SUM(U44:AV44),IF($BC$3="暦月",SUM(U44:AY44),"")) -> 0 | BB44: =IF($BC$3="４週",AZ44/4,IF($BC$3="暦月",(AZ44/($BC$8/7)),"")) -> 0
P45: シフト記号
...

Sheet 小多機（1枚用）
C1: （標準様式1） | K1: 従業者の勤務の体制及び勤務形態一覧表 | AQ1: サービス種別（ | AR1: 小規模多機能型居宅介護 | BH1: ）
Z2: 令和 | AA2: 6 | AC2: ( | AD2: =IF(AA2=0,"",YEAR(DATE(2018+AA2,1,1))) -> 2024 | AF2: ) | AG2: 年 | AH2: 4 | AJ2: 月 | AQ2: 事業所名（ | AR2: ○○サービス | BH2: ）
BB3: (1) | BC3: ４週
BB4: (2) | BC4: 予定
AM6: (3) 事業所における常勤の従業者が勤務すべき時間数 | AY6: 40 | BA6: 時間/週 | BC6: 160 | BE6: 時間/月
AZ8: 当月の日数 | BC8: =DAY(EOMONTH(DATE(AD2,AH2,1),0)) -> 30 | BE8: 日
AN10: (4) 利用者数（通いサービス） | BA10: （前年度の平均値または推定数） | BE10: 人
AS12: (5) 日中／夜間及び深夜の時間帯の区分
AS13: 利用者の生活時間帯（日中） | BB13: 0.29166667 | BE13: ～ | BF13: 0.83333333
AS14: 夜間及び深夜の時間帯 | BB14: 0.83333333 | BE14: ～ | BF14: 0.29166667
B16: No | C16: (6) 職種 | H16: (7) 勤務 形態 | I16: (8) 資格 | M16: (9) 氏 名 | P16: 日中／夜間及び深夜 の区分 | AI16: (10) | AN16: （宿直 ･･･ | AR16: ） | AZ16: =IF(BC3="計画","(11)1～4週目の勤務時間数合計","(11)1か月の勤務時間数 合計") -> (11)1か月の勤務時間数 合計 | BB16: (12) 週平均 勤務時間数 | BD16: (13) 兼務状況 （兼務先/兼務する職務の内容）等
U17: 1週目 | AB17: 2週目 | AI17: 3週目 | AP17: 4週目 | AW17: 5週目
U18: 1 | V18: 2 | W18: 3 | X18: 4 | Y18: 5 | Z18: 6 | AA18: 7 | AB18: 8 | AC18: 9 | AD18: 10 | AE18: 11 | AF18: 12 | AG18: 13 | AH18: 14 | AI18: 15 | AJ18: 16 | AK18: 17 | AL18: 18 | AM18: 19 | AN18: 20 | AO18: 21 | AP18: 22 | AQ18: 23 | AR18: 24 | AS18: 25 | AT18: 26 | AU18: 27 | AV18: 28 | AW18: =IF($BC$3="暦月",IF(DAY(DATE($AD$2,$AH$2,29))=29,29,""),"") | AX18: =IF($BC$3="暦月",IF(DAY(DATE($AD$2,$AH$2,30))=30,30,""),"") | AY18: =IF($BC$3="暦月",IF(DAY(DATE($AD$2,$AH$2,31))=31,31,""),"")
U19: =WEEKDAY(DATE($AD$2,$AH$2,1)) -> 2 | V19: =WEEKDAY(DATE($AD$2,$AH$2,2)) -> 3 | W19: =WEEKDAY(DATE($AD$2,$AH$2,3)) -> 4 | X19: =WEEKDAY(DATE($AD$2,$AH$2,4)) -> 5 | Y19: =WEEKDAY(DATE($AD$2,$AH$2,5)) -> 6 | Z19: =WEEKDAY(DATE($AD$2,$AH$2,6)) -> 7 | AA19: =WEEKDAY(DATE($AD$2,$AH$2,7)) -> 1 | AB19: =WEEKDAY(DATE($AD$2,$AH$2,8)) -> 2 | AC19: =WEEKDAY(DATE($AD$2,$AH$2,9)) -> 3 | AD19: =WEEKDAY(DATE($AD$2,$AH$2,10)) -> 4 | AE19: =WEEKDAY(DATE($AD$2,$AH$2,11)) -> 5 | AF19: =WEEKDAY(DATE($AD$2,$AH$2,12)) -> 6 | AG19: =WEEKDAY(DATE($AD$2,$AH$2,13)) -> 7 | AH19: =WEEKDAY(DATE($AD$2,$AH$2,14)) -> 1 | AI19: =WEEKDAY(DATE($AD$2,$AH$2,15)) -> 2 | AJ19: =WEEKDAY(DATE($AD$2,$AH$2,16)) -> 3 | AK19: =WEEKDAY(DATE($AD$2,$AH$2,17)) -> 4 | AL19: =WEEKDAY(DATE($AD$2,$AH$2,18)) -> 5 | AM19: =WEEKDAY(DATE($AD$2,$AH$2,19)) -> 6 | AN19: =WEEKDAY(DATE($AD$2,$AH$2,20)) -> 7 | AO19: =WEEKDAY(DATE($AD$2,$AH$2,21)) -> 1 | AP19: =WEEKDAY(DATE($AD$2,$AH$2,22)) -> 2 | AQ19: =WEEKDAY(DATE($AD$2,$AH$2,23)) -> 3 | AR19: =WEEKDAY(DATE($AD$2,$AH$2,24)) -> 4 | AS19: =WEEKDAY(DATE($AD$2,$AH$2,25)) -> 5 | AT19: =WEEKDAY(DATE($AD$2,$AH$2,26)) -> 6 | AU19: =WEEKDAY(DATE($AD$2,$AH$2,27)) -> 7 | AV19: =WEEKDAY(DATE($AD$2,$AH$2,28)) -> 1 | AW19: =IF(AW18=29,WEEKDAY(DATE($AD$2,$AH$2,29)),0) -> 0 | AX19: =IF(AX18=30,WEEKDAY(DATE($AD$2,$AH$2,30)),0) -> 0 | AY19: =IF(AY18=31,WEEKDAY(DATE($AD$2,$AH$2,31)),0) -> 0
U20: =IF(U19=1,"日",IF(U19=2,"月",IF(U19=3,"火",IF(U19=4,"水",IF(U19=5,"木",IF(U19=6,"金","土")))))) -> 月 | V20: =IF(V19=1,"日",IF(V19=2,"月",IF(V19=3,"火",IF(V19=4,"水",IF(V19=5,"木",IF(V19=6,"金","土")))))) -> 火 | W20: =IF(W19=1,"日",IF(W19=2,"月",IF(W19=3,"火",IF(W19=4,"水",IF(W19=5,"木",IF(W19=6,"金","土")))))) -> 水 | X20: =IF(X19=1,"日",IF(X19=2,"月",IF(X19=3,"火",IF(X19=4,"水",IF(X19=5,"木",IF(X19=6,"金","土")))))) -> 木 | Y20: =IF(Y19=1,"日",IF(Y19=2,"月",IF(Y19=3,"火",IF(Y19=4,"水",IF(Y19=5,"木",IF(Y19=6,"金","土")))))) -> 金 | Z20: =IF(Z19=1,"日",IF(Z19=2,"月",IF(Z19=3,"火",IF(Z19=4,"水",IF(Z19=5,"木",IF(Z19=6,"金","土")))))) -> 土 | AA20: =IF(AA19=1,"日",IF(AA19=2,"月",IF(AA19=3,"火",IF(AA19=4,"水",IF(AA19=5,"木",IF(AA19=6,"金","土")))))) -> 日 | AB20: =IF(AB19=1,"日",IF(AB19=2,"月",IF(AB19=3,"火",IF(AB19=4,"水",IF(AB19=5,"木",IF(AB19=6,"金","土")))))) -> 月 | ... AV20: =IF(AV19=1,"日",IF(AV19=2,"月",IF(AV19=3,"火",IF(AV19=4,"水",IF(AV19=5,"木",IF(AV19=6,"金","土")))))) -> 日 | AW20: =IF(AW19=1,"日",IF(AW19=2,"月",IF(AW19=3,"火",IF(AW19=4,"水",IF(AW19=5,"木",IF(AW19=6,"金",IF(AW19=0,"","土"))))))) | AX20: =IF(AX19=1,"日",IF(AX19=2,"月",IF(AX19=3,"火",IF(AX19=4,"水",IF(AX19=5,"木",IF(AX19=6,"金",IF(AX19=0,"","土"))))))) | AY20: =IF(AY19=1,"日",IF(AY19=2,"月",IF(AY19=3,"火",IF(AY19=4,"水",IF(AY19=5,"木",IF(AY19=6,"金",IF(AY19=0,"","土")))))))
P21: シフト記号
B22: 1 | F22: =C21 -> 0 | P22: 日中の勤務時間数 | U22: =IF(U21="","",VLOOKUP(U21,'シフト記号表（勤務時間帯）'!$D$6:$X$47,21,FALSE)) | V22: =IF(V21="","",VLOOKUP(V21,'シフト記号表（勤務時間帯）'!$D$6:$X$47,21,FALSE)) | W22: =IF(W21="","",VLOOKUP(W21,'シフト記号表（勤務時間帯）'!$D$6:$X$47,21,FALSE)) | X22: =IF(X21="","",VLOOKUP(X21,'シフト記号表（勤務時間帯）'!$D$6:$X$47,21,FALSE)) | Y22: =IF(Y21="","",VLOOKUP(Y21,'シフト記号表（勤務時間帯）'!$D$6:$X$47,21,FALSE)) | Z22: =IF(Z21="","",VLOOKUP(Z21,'シフト記号表（勤務時間帯）'!$D$6:$X$47,21,FALSE)) | AA22: =IF(AA21="","",VLOOKUP(AA21,'シフト記号表（勤務時間帯）'!$D$6:$X$47,21,FALSE)) | AB22: =IF(AB21="","",VLOOKUP(AB21,'シフト記号表（勤務時間帯）'!$D$6:$X$47,21,FALSE)) | ... AY22: =IF(AY21="","",VLOOKUP(AY21,'シフト記号表（勤務時間帯）'!$D$6:$X$47,21,FALSE)) | AZ22: =IF($BC$3="４週",SUM(U22:AV22),IF($BC$3="暦月",SUM(U22:AY22),"")) -> 0 | BB22: =IF($BC$3="４週",AZ22/4,IF($BC$3="暦月",(AZ22/($BC$8/7)),"")) -> 0
G23: =C21 -> 0 | P23: 夜間・深夜の勤務時間数 | U23: =IF(U21="","",VLOOKUP(U21,'シフト記号表（勤務時間帯）'!$D$6:$Z$47,23,FALSE)) | V23: =IF(V21="","",VLOOKUP(V21,'シフト記号表（勤務時間帯）'!$D$6:$Z$47,23,FALSE)) | W23: =IF(W21="","",VLOOKUP(W21,'シフト記号表（勤務時間帯）'!$D$6:$Z$47,23,FALSE)) | X23: =IF(X21="","",VLOOKUP(X21,'シフト記号表（勤務時間帯）'!$D$6:$Z$47,23,FALSE)) | Y23: =IF(Y21="","",VLOOKUP(Y21,'シフト記号表（勤務時間帯）'!$D$6:$Z$47,23,FALSE)) | Z23: =IF(Z21="","",VLOOKUP(Z21,'シフト記号表（勤務時間帯）'!$D$6:$Z$47,23,FALSE)) | AA23: =IF(AA21="","",VLOOKUP(AA21,'シフト記号表（勤務時間帯）'!$D$6:$Z$47,23,FALSE)) | AB23: =IF(AB21="","",VLOOKUP(AB21,'シフト記号表（勤務時間帯）'!$D$6:$Z$47,23,FALSE)) | ... AY23: =IF(AY21="","",VLOOKUP(AY21,'シフト記号表（勤務時間帯）'!$D$6:$Z$47,23,FALSE)) | AZ23: =IF($BC$3="４週",SUM(U23:AV23),IF($BC$3="暦月",SUM(U23:AY23),"")) -> 0 | BB23: =IF($BC$3="４週",AZ23/4,IF($BC$3="暦月",(AZ23/($BC$8/7)),"")) -> 0
P24: シフト記号
B25: =B22+1 -> 2 | F25: =C24 -> 0 | P25: 日中の勤務時間数 | U25: =IF(U24="","",VLOOKUP(U24,'シフト記号表（勤務時間帯）'!$D$6:$X$47,21,FALSE)) | V25: =IF(V24="","",VLOOKUP(V24,'シフト記号表（勤務時間帯）'!$D$6:$X$47,21,FALSE)) | W25: =IF(W24="","",VLOOKUP(W24,'シフト記号表（勤務時間帯）'!$D$6:$X$47,21,FALSE)) | X25: =IF(X24="","",VLOOKUP(X24,'シフト記号表（勤務時間帯）'!$D$6:$X$47,21,FALSE)) | Y25: =IF(Y24="","",VLOOKUP(Y24,'シフト記号表（勤務時間帯）'!$D$6:$X$47,21,FALSE)) | Z25: =IF(Z24="","",VLOOKUP(Z24,'シフト記号表（勤務時間帯）'!$D$6:$X$47,21,FALSE)) | AA25: =IF(AA24="","",VLOOKUP(AA24,'シフト記号表（勤務時間帯）'!$D$6:$X$47,21,FALSE)) | AB25: =IF(AB24="","",VLOOKUP(AB24,'シフト記号表（勤務時間帯）'!$D$6:$X$47,21,FALSE)) | ... AY25: =IF(AY24="","",VLOOKUP(AY24,'シフト記号表（勤務時間帯）'!$D$6:$X$47,21,FALSE)) | AZ25: =IF($BC$3="４週",SUM(U25:AV25),IF($BC$3="暦月",SUM(U25:AY25),"")) -> 0 | BB25: =IF($BC$3="４週",AZ25/4,IF($BC$3="暦月",(AZ25/($BC$8/7)),"")) -> 0
